BEGIN:VCALENDAR
VERSION:2.0
PRODID:-//Tucson Amateur Astronomy Association - ECPv6.15.20//NONSGML v1.0//EN
CALSCALE:GREGORIAN
METHOD:PUBLISH
X-WR-CALNAME:Tucson Amateur Astronomy Association
X-ORIGINAL-URL:https://tucsonastronomy.org
X-WR-CALDESC:Events for Tucson Amateur Astronomy Association
REFRESH-INTERVAL;VALUE=DURATION:PT1H
X-Robots-Tag:noindex
X-PUBLISHED-TTL:PT1H
BEGIN:VTIMEZONE
TZID:America/Phoenix
BEGIN:STANDARD
TZOFFSETFROM:-0700
TZOFFSETTO:-0700
TZNAME:MST
DTSTART:20240101T000000
END:STANDARD
END:VTIMEZONE
BEGIN:VEVENT
DTSTART;TZID=America/Phoenix:20250301T190000
DTEND;TZID=America/Phoenix:20250301T210000
DTSTAMP:20260424T014439
CREATED:20250206T174321Z
LAST-MODIFIED:20250206T174322Z
UID:13386-1740855600-1740862800@tucsonastronomy.org
SUMMARY:Stargazing at Saguaro NP – East
DESCRIPTION:Star Party – Saguaro National Park – East3693 S Old Spanish TrailTucson\, AZ 85730 \n\n\n\nGreat dark skies on the East side of Tucson at Saguaro National Park – East.Star Party is open to the Public. Event is free\, no registration required\, but NPS admission fees apply. \n\n\n\nThe Tucson Amateur Astronomy Association will have several telescopes for astronomical viewing. We will observe Planets\, Nebulae\, Galaxies\, Star Clusters and lots more.Great opportunity to look through a variety of telescopes. \n\n\n\nWeather dependent. For real-time updates\, follow this event on the Tucson Amateur Astronomy Association Facebook Events Page: Tucson Amateur Astronomy Association | Facebook
URL:https://tucsonastronomy.org/event/stargazing-at-saguaro-np-east-10/
LOCATION:Saguaro National Park EAST\, 3693 S Old Spanish Trail\, Tucson\, AZ\, 85730\, United States
CATEGORIES:Star Parties
ORGANIZER;CN="Bernie Stinger":MAILTO:astronomy-events@tucsonastronomy.org
END:VEVENT
BEGIN:VEVENT
DTSTART;TZID=America/Phoenix:20250307T190000
DTEND;TZID=America/Phoenix:20250307T210000
DTSTAMP:20260424T014439
CREATED:20250206T180719Z
LAST-MODIFIED:20250206T180720Z
UID:13388-1741374000-1741381200@tucsonastronomy.org
SUMMARY:Stargazing at Tucson Mountain Park – Juan Santa Cruz Picnic Area
DESCRIPTION:Star Party @ Tucson Mountain Park – Juan Santa Cruz Picnic AreaTucson\, AZ (right next to Sonoran Desert Museum) \n\n\n\nViewing Location: Small side loop on East side of main loop.Information: Great dark skies in Western Tucson.  Star Party open to the Public.  Cost: FREE. \n\n\n\nTucson Amateur Astronomy Association will have several telescopes for astronomical viewing.  We will observe Planets\, Nebulae\, Galaxies\, Star Clusters and lots more.  Great opportunity to look through a variety of telescopes.  Weather dependent.For real-time updates\, follow this event on the Tucson Amateur Astronomy Association Facebook Events Page: TAAA Facebook Events page \n\n\n\nEvent is FREE but REGISTRATION IS REQUIRED. Go to this link to register:  https://bit.ly/ticketsEEThese events may fill up early.
URL:https://tucsonastronomy.org/event/stargazing-at-tucson-mountain-park-juan-santa-cruz-picnic-area-6/
LOCATION:Juan Santa Cruz Picnic Area\, 2000 N Kinney Road\, Tucson\, AZ\, 85743\, United States
CATEGORIES:Star Parties
ORGANIZER;CN="Bernie Stinger":MAILTO:astronomy-events@tucsonastronomy.org
END:VEVENT
BEGIN:VEVENT
DTSTART;TZID=America/Phoenix:20250329T191500
DTEND;TZID=America/Phoenix:20250329T210000
DTSTAMP:20260424T014439
CREATED:20250213T201433Z
LAST-MODIFIED:20250213T201434Z
UID:13490-1743275700-1743282000@tucsonastronomy.org
SUMMARY:Star Party at St. Francis in the Foothills Church
DESCRIPTION:Join TAAA for a Star Party at St. Francis Church in the Foothills Church\, Tucson AZ Located near River Rd. and Swan Rd at 4625 E. River Road\, this venue is well located for many in the central Tucson and Foothills communities.  \n\n\n\nJoin us as we observe Planets (Many of the planets are now available in the earlly evening sky)\, Nebulas\, Galaxies\, and more! Viewing will be from 7:15pm to 9pm at the far north end of the parking lot. (Stay to the left all the way to the end).
URL:https://tucsonastronomy.org/event/star-party-at-st-francis-in-the-foothills-church-2/
LOCATION:St. Francis in the Foothills Church\, 4625 E. River Road\, Tucson\, Arizona\, 85718
CATEGORIES:Star Parties
ORGANIZER;CN="Bernie Stinger":MAILTO:astronomy-events@tucsonastronomy.org
END:VEVENT
END:VCALENDAR