BEGIN:VCALENDAR
VERSION:2.0
PRODID:-//Tucson Amateur Astronomy Association - ECPv6.15.20//NONSGML v1.0//EN
CALSCALE:GREGORIAN
METHOD:PUBLISH
X-ORIGINAL-URL:https://tucsonastronomy.org
X-WR-CALDESC:Events for Tucson Amateur Astronomy Association
REFRESH-INTERVAL;VALUE=DURATION:PT1H
X-Robots-Tag:noindex
X-PUBLISHED-TTL:PT1H
BEGIN:VTIMEZONE
TZID:America/Phoenix
BEGIN:STANDARD
TZOFFSETFROM:-0700
TZOFFSETTO:-0700
TZNAME:MST
DTSTART:20250101T000000
END:STANDARD
END:VTIMEZONE
BEGIN:VEVENT
DTSTART;TZID=America/Phoenix:20260410T193000
DTEND;TZID=America/Phoenix:20260410T213000
DTSTAMP:20260423T120205
CREATED:20260304T024224Z
LAST-MODIFIED:20260304T024225Z
UID:15995-1775849400-1775856600@tucsonastronomy.org
SUMMARY:Stargazing at Tumacacori National Historical Park
DESCRIPTION:Join TAAA and the National Park Service for an evening of stargazing at Tumacacori National Historical Park .  Address below.The Tucson Amateur Astronomy Association (TAAA) will have several telescopes with volunteer astronomers\, for astronomical viewing\, in front of the Old Mission. \n\n\n\nWe will observe Planets\, Nebulae\, Galaxies\, Star Clusters and lots more. Great opportunity to look through a variety of telescopes. \n\n\n\nEvent is free\, no reservations required\, but NPS admission fees apply. \n\n\n\nWeather dependent\, follow this event on the Tucson Amateur Astronomy Association Facebook event page: TAAA Facebook Events page for weather updates on day of event.
URL:https://tucsonastronomy.org/event/stargazing-at-tumacacori-national-historical-park-7/
LOCATION:Tumacacori National Historical Park\, 1891 E Frontage Rd\, Tumacacori\, AZ\, 85640\, United States
CATEGORIES:Star Parties
ORGANIZER;CN="Bernie Stinger":MAILTO:astronomy-events@tucsonastronomy.org
END:VEVENT
END:VCALENDAR