BEGIN:VCALENDAR
VERSION:2.0
PRODID:-//Tucson Amateur Astronomy Association - ECPv6.15.20//NONSGML v1.0//EN
CALSCALE:GREGORIAN
METHOD:PUBLISH
X-WR-CALNAME:Tucson Amateur Astronomy Association
X-ORIGINAL-URL:https://tucsonastronomy.org
X-WR-CALDESC:Events for Tucson Amateur Astronomy Association
REFRESH-INTERVAL;VALUE=DURATION:PT1H
X-Robots-Tag:noindex
X-PUBLISHED-TTL:PT1H
BEGIN:VTIMEZONE
TZID:America/Phoenix
BEGIN:STANDARD
TZOFFSETFROM:-0700
TZOFFSETTO:-0700
TZNAME:MST
DTSTART:20240101T000000
END:STANDARD
END:VTIMEZONE
BEGIN:VEVENT
DTSTART;TZID=America/Phoenix:20250214T190000
DTEND;TZID=America/Phoenix:20250214T210000
DTSTAMP:20260424T045818
CREATED:20241226T191234Z
LAST-MODIFIED:20241226T192606Z
UID:13221-1739559600-1739566800@tucsonastronomy.org
SUMMARY:Stargazing @ Picacho Peak State Park
DESCRIPTION:Truely dark skies at a scenic location – Picacho Peak State ParkStar Party is open to the Public. Event is free but park admission fees apply. \n\n\n\nThe Tucson Amateur Astronomy Association will have several telescopes for astronomical viewing.  \n\n\n\nWe will observe Planets\, Nebulae\, Galaxies\, Star Clusters and lots more.Great opportunity to look through a variety of telescopes at a really dark location. \n\n\n\nWeather dependent. For real-time updates\, follow this event on the Tucson Amateur Astronomy Association Facebook Events Page: https://www.facebook.com/TucsonAstronomy/events
URL:https://tucsonastronomy.org/event/stargazing-picacho-peak-state-park-6/
LOCATION:Picacho Peak State Park\, 15520 Picacho Peak Rd\, Picacho\, AZ\, 85141
CATEGORIES:Star Parties
ORGANIZER;CN="Bernie Stinger":MAILTO:astronomy-events@tucsonastronomy.org
END:VEVENT
BEGIN:VEVENT
DTSTART;TZID=America/Phoenix:20250214T190000
DTEND;TZID=America/Phoenix:20250214T210000
DTSTAMP:20260424T045818
CREATED:20241226T192044Z
LAST-MODIFIED:20241226T192435Z
UID:13223-1739559600-1739566800@tucsonastronomy.org
SUMMARY:Stargazing at Tubac Presidio State Historical Park
DESCRIPTION:Join us at the Tubac Presidio State Historical Park in Tubac AZ for an evening of stargazing under truly dark skies at a historic location. \n\n\n\nTAAA will have volunteer astronomers with Telescopes setup and viewing Planets\,Nebulas\, Galaxies\, Star Clusters and more\, under the dark skies of Southern Arizona! \n\n\n\nFor more information check out:Events | Tubac Presidio State Historic Park and Museum \n\n\n\nStar Party is free but there is an admission fee for non-members of the Presidio. \n\n\n\nWeather dependent. For real-time updates\, follow this event on the Tucson Amateur Astronomy Association Facebook Events Page: https://www.facebook.com/TucsonAstronomy/events
URL:https://tucsonastronomy.org/event/stargazing-at-tubac-presidio-state-historical-park/
LOCATION:Tubac Presidio\, 1 Burruel St\, Tubac\, Arizona\, 85646
CATEGORIES:Star Parties
ORGANIZER;CN="Bernie Stinger":MAILTO:astronomy-events@tucsonastronomy.org
END:VEVENT
BEGIN:VEVENT
DTSTART;TZID=America/Phoenix:20250222T190000
DTEND;TZID=America/Phoenix:20250222T210000
DTSTAMP:20260424T045818
CREATED:20241226T193346Z
LAST-MODIFIED:20241226T193347Z
UID:13228-1740250800-1740258000@tucsonastronomy.org
SUMMARY:Stargazing at Oracle State Park
DESCRIPTION:Star Party telescope viewing (7:00 – 9:00pm) \n\n\n\nInformation: Great dark skies just north of Tucson at Oracle State Park.3820 E Wildlife Dr.\, Oracle\, AZ 85623Star Party open to the Public. Admission fees for entrance into Oracle State Park apply. \n\n\n\nTucson Amateur Astronomy Association will have several telescopes for astronomical viewing. We will be observing the Moon + Planets\, Nebulae\, Galaxies\, and Star Clusters.Great opportunity to look through a wide variety of telescopes. Weather dependent. \n\n\n\nFor real-time updates\, follow this event on the Tucson Amateur Astronomy Association Facebook event page:  TAAA Facebook Events page \n\n\n\nAlso: Check the Oracle State Park website for additional information and activities that day:Star Party at Oracle State Park | Oracle State Park (azstateparks.com)
URL:https://tucsonastronomy.org/event/stargazing-at-oracle-state-park-10/
LOCATION:Oracle State Park\, 3820 E Wildlife Dr.\, Oracle\, AZ\, 85623\, United States
CATEGORIES:Star Parties
ORGANIZER;CN="Bernie Stinger":MAILTO:astronomy-events@tucsonastronomy.org
END:VEVENT
BEGIN:VEVENT
DTSTART;TZID=America/Phoenix:20250228T190000
DTEND;TZID=America/Phoenix:20250228T210000
DTSTAMP:20260424T045818
CREATED:20241226T195952Z
LAST-MODIFIED:20241226T195953Z
UID:13231-1740769200-1740776400@tucsonastronomy.org
SUMMARY:Stargazing at Organ Pipe Cactus National Monument
DESCRIPTION:Join us at Organ Pipe Cactus National Monument for an evening of stargazing under extremely dark skies at a historic location. Few locations in the U.S. have skies this dark! \n\n\n\nTAAA will have volunteer astronomers with Telescopes setup and viewing Planets\,Nebulas\, Galaxies\, Star Clusters and more\, under the dark skies of Southern Arizona! \n\n\n\nStar Party is free but national park admission fees apply. \n\n\n\nWeather dependent. For real-time updates\, follow this event on the Tucson Amateur Astronomy Association Facebook Events Page: https://www.facebook.com/TucsonAstronomy/events
URL:https://tucsonastronomy.org/event/stargazing-at-organ-pipe-cactus-national-monument/
LOCATION:Organ Pipe Cactus National Monument\, 10 Organ Pipe Drive\, Ajo\, Arizona\, 85321\, United States
CATEGORIES:Star Parties
ORGANIZER;CN="Bernie Stinger":MAILTO:astronomy-events@tucsonastronomy.org
END:VEVENT
END:VCALENDAR