BEGIN:VCALENDAR
VERSION:2.0
PRODID:-//Tucson Amateur Astronomy Association - ECPv6.15.20//NONSGML v1.0//EN
CALSCALE:GREGORIAN
METHOD:PUBLISH
X-WR-CALNAME:Tucson Amateur Astronomy Association
X-ORIGINAL-URL:https://tucsonastronomy.org
X-WR-CALDESC:Events for Tucson Amateur Astronomy Association
REFRESH-INTERVAL;VALUE=DURATION:PT1H
X-Robots-Tag:noindex
X-PUBLISHED-TTL:PT1H
BEGIN:VTIMEZONE
TZID:America/Phoenix
BEGIN:STANDARD
TZOFFSETFROM:-0700
TZOFFSETTO:-0700
TZNAME:MST
DTSTART:20240101T000000
END:STANDARD
END:VTIMEZONE
BEGIN:VEVENT
DTSTART;TZID=America/Phoenix:20250531T200000
DTEND;TZID=America/Phoenix:20250531T220000
DTSTAMP:20260424T002102
CREATED:20250307T200145Z
LAST-MODIFIED:20250307T200146Z
UID:13662-1748721600-1748728800@tucsonastronomy.org
SUMMARY:Stargazing at Saguaro National Park – East
DESCRIPTION:Star Party – Saguaro National Park – East3693 S Old Spanish TrailTucson\, AZ 85730 \n\n\n\nGreat dark skies on the East side of Tucson at Saguaro National Park – East.Star Party is open to the Public. Event is free but NPS admission fees apply. \n\n\n\nThe Tucson Amateur Astronomy Association will have several telescopes for astronomical viewing. We will observe Planets\, Nebulae\, Galaxies\, Star Clusters and lots more.Great opportunity to look through a variety of telescopes. \n\n\n\nWeather dependent. For real-time updates\, follow this event on the Tucson Amateur Astronomy Association Facebook Events Page: Tucson Amateur Astronomy Association | Facebook
URL:https://tucsonastronomy.org/event/stargazing-at-saguaro-national-park-east-2/
LOCATION:Saguaro National Park EAST\, 3693 S Old Spanish Trail\, Tucson\, AZ\, 85730\, United States
CATEGORIES:Star Parties
ORGANIZER;CN="Bernie Stinger":MAILTO:astronomy-events@tucsonastronomy.org
END:VEVENT
END:VCALENDAR