BEGIN:VCALENDAR
VERSION:2.0
PRODID:-//Tucson Amateur Astronomy Association - ECPv6.15.20//NONSGML v1.0//EN
CALSCALE:GREGORIAN
METHOD:PUBLISH
X-WR-CALNAME:Tucson Amateur Astronomy Association
X-ORIGINAL-URL:https://tucsonastronomy.org
X-WR-CALDESC:Events for Tucson Amateur Astronomy Association
REFRESH-INTERVAL;VALUE=DURATION:PT1H
X-Robots-Tag:noindex
X-PUBLISHED-TTL:PT1H
BEGIN:VTIMEZONE
TZID:America/Phoenix
BEGIN:STANDARD
TZOFFSETFROM:-0700
TZOFFSETTO:-0700
TZNAME:MST
DTSTART:20210101T000000
END:STANDARD
END:VTIMEZONE
BEGIN:VEVENT
DTSTART;TZID=America/Phoenix:20220618T200000
DTEND;TZID=America/Phoenix:20220625T230000
DTSTAMP:20260425T195905
CREATED:20181215T203812Z
LAST-MODIFIED:20220601T050946Z
UID:3066-1655582400-1656198000@tucsonastronomy.org
SUMMARY:Grand Canyon Star Party
DESCRIPTION:Join Tucson Amateur Astronomy Association and the National Park Service for the 32nd annual Star Party. The Star Party will be June 18 – 25\, 2022. We average 50 telescopes for 8 nights. You will see Solar System planets\, Galaxies Far Far Away\, Star Clusters — some with several hundred thousand stars\, Nebulae\, multiple star systems (some with as many as 6 stars)\, and lots more. The skies are so dark you can clearly see the band of the Milky Way overhead. We start with a talk in the Visitor Center Auditorium about an astronomy topic at 8 pm. Observing at the telescopes goes from sunset (about 8 pm) to 11 pm. This event is free and open to anyone inside the Grand Canyon (park entrance fee required).  For additional information\, check out our Grand Canyon Star Party Webpage at: http://tucsonastronomy.org/upcoming-events/grand-canyon-star-party/. or visit the Grand Canyon Star Party webpage at: https://www.nps.gov/grca/planyourvisit/grand-canyon-star-party.htm.
URL:https://tucsonastronomy.org/event/grand-canyon-star-party-11/
LOCATION:Grand Canyon Visitor Center\, Grand Canyon Visitor Center\, Grand Canyon\, AZ\, 86023\, United States
CATEGORIES:Star Parties
END:VEVENT
END:VCALENDAR