BEGIN:VCALENDAR
VERSION:2.0
PRODID:-//Tucson Amateur Astronomy Association - ECPv6.15.20//NONSGML v1.0//EN
CALSCALE:GREGORIAN
METHOD:PUBLISH
X-ORIGINAL-URL:https://tucsonastronomy.org
X-WR-CALDESC:Events for Tucson Amateur Astronomy Association
REFRESH-INTERVAL;VALUE=DURATION:PT1H
X-Robots-Tag:noindex
X-PUBLISHED-TTL:PT1H
BEGIN:VTIMEZONE
TZID:America/Phoenix
BEGIN:STANDARD
TZOFFSETFROM:-0700
TZOFFSETTO:-0700
TZNAME:MST
DTSTART:20230101T000000
END:STANDARD
END:VTIMEZONE
BEGIN:VEVENT
DTSTART;TZID=America/Phoenix:20241005T190000
DTEND;TZID=America/Phoenix:20241005T210000
DTSTAMP:20260424T083529
CREATED:20240903T032505Z
LAST-MODIFIED:20240903T032505Z
UID:12691-1728154800-1728162000@tucsonastronomy.org
SUMMARY:Stargazing at Chiricahua National Monument
DESCRIPTION:Join TAAA for an evening of stargazing to view amazing solar system and deep sky objects from a truly Dark Sky Park. You will see planets\, nebulae\, star clusters\, double stars\, galaxies millions of light years away\, and lots more. We will have several telescopes for public viewing. \nObserving location will be at the Faraway Ranch parking lot just past the entrance gate about 1/2 mile.  Please try to use red light flashlights and minimize white light (to include cell phones) that will hinder your night vision. \nChiricahua National Monument website: https://www.nps.gov/chir/index.htm.\nWeather dependent — Follow the event on the TAAA Facebook page to get weather and other updates: https://www.facebook.com/TucsonAstronomy/. \nCheck back here or on our Facebook page closer to the event for any updates.
URL:https://tucsonastronomy.org/event/stargazing-at-chiricahua-national-monument-2/
LOCATION:Chiricahua National Monument\, 12856 E Rhyolite Creek Rd\, Willcox\, AZ\, 85643\, United States
CATEGORIES:Star Parties
ORGANIZER;CN="Bernie Stinger":MAILTO:astronomy-events@tucsonastronomy.org
END:VEVENT
BEGIN:VEVENT
DTSTART;TZID=America/Phoenix:20241005T190000
DTEND;TZID=America/Phoenix:20241005T210000
DTSTAMP:20260424T083529
CREATED:20240903T033043Z
LAST-MODIFIED:20240903T172828Z
UID:12693-1728154800-1728162000@tucsonastronomy.org
SUMMARY:Stargazing @ Picacho Peak State Park
DESCRIPTION:Truely dark skies at a scenic location – Picacho Peak State Park\nStar Party is open to the Public. Event is free but park admission fees apply. \nThe Tucson Amateur Astronomy Association will have several telescopes for astronomical viewing. We will observe Planets\, Nebulae\, Galaxies\, Star Clusters and lots more.\nGreat opportunity to look through a variety of telescopes at a really dark location. \nWeather dependent. For real-time updates\, follow this event on the Tucson Amateur Astronomy Association Facebook Events Page: https://www.facebook.com/TucsonAstronomy/events
URL:https://tucsonastronomy.org/event/stargazing-picacho-peak-state-park-4/
LOCATION:Picacho Peak State Park\, 15520 Picacho Peak Rd\, Picacho\, AZ\, 85141
CATEGORIES:Star Parties
ORGANIZER;CN="Bernie Stinger":MAILTO:astronomy-events@tucsonastronomy.org
END:VEVENT
BEGIN:VEVENT
DTSTART;TZID=America/Phoenix:20241025T061500
DTEND;TZID=America/Phoenix:20241025T200000
DTSTAMP:20260424T083529
CREATED:20240903T175405Z
LAST-MODIFIED:20240903T230318Z
UID:12699-1729836900-1729886400@tucsonastronomy.org
SUMMARY:Stargazing at the Tubac AZ Presidio State Historical Park
DESCRIPTION:Join us at the Tubac Presidio State Historical Park in Tubac AZ for an evening of stargazing under truly dark skies at a historic location. \nTAAA will have volunteer astronomers with Telescopes setup and viewing Planets\,\nNebulas\, Galaxies\, Star Clusters and more\, under the dark skies of Southern Arizona! \nThis is “Anza Under the Stars” night at the Presidio.  For more information check out October 25th at:\nEvents | Tubac Presidio State Historic Park and Museum \nStar Party is free but there is an admission fee for non-members of the Presidio. \nWeather dependent. For real-time updates\, follow this event on the Tucson Amateur Astronomy Association Facebook Events Page: https://www.facebook.com/TucsonAstronomy/events
URL:https://tucsonastronomy.org/event/stargazing-at-the-tubac-az-presidio/
LOCATION:Tubac Presidio\, 1 Burruel St\, Tubac\, Arizona\, 85646
CATEGORIES:Star Parties
ORGANIZER;CN="Bernie Stinger":MAILTO:astronomy-events@tucsonastronomy.org
END:VEVENT
BEGIN:VEVENT
DTSTART;TZID=America/Phoenix:20241026T190000
DTEND;TZID=America/Phoenix:20241026T210000
DTSTAMP:20260424T083529
CREATED:20240903T034502Z
LAST-MODIFIED:20240903T034502Z
UID:12697-1729969200-1729976400@tucsonastronomy.org
SUMMARY:Stargazing at Catalina State Park
DESCRIPTION:Star Party at Catalina State Park – Tucson\, AZ\nViewing Location: Trailhead Picnic area at end of road inside the park.\nGreat dark skies just north of Tucson at Catalina State Park.\nStar Party open to the Public.  Admission fee for entrance into Catalina State Park. \nTucson Amateur Astronomy Association will have approximately 10 telescopes for astronomical viewing.\nWe will observe Planets\, Nebulae\, Galaxies\, Star Clusters and lots more.  Great opportunity to look through a wide variety of telescopes. \nWeather dependent.  For real-time updates\, follow this event on the Tucson Amateur Astronomy Association Facebook Events Page (https://www.facebook.com/TucsonAstronomy/). \nAdditional details will be posted here and on Facebook as we get closer to the event.
URL:https://tucsonastronomy.org/event/stargazing-at-catalina-state-park-5/
LOCATION:Catalina State Park\, 11570 N Oracle Rd\, Catalina\, AZ\, United States
CATEGORIES:Star Parties
ORGANIZER;CN="Bernie Stinger":MAILTO:astronomy-events@tucsonastronomy.org
END:VEVENT
END:VCALENDAR