BEGIN:VCALENDAR
VERSION:2.0
PRODID:-//Tucson Amateur Astronomy Association - ECPv6.15.20//NONSGML v1.0//EN
CALSCALE:GREGORIAN
METHOD:PUBLISH
X-ORIGINAL-URL:https://tucsonastronomy.org
X-WR-CALDESC:Events for Tucson Amateur Astronomy Association
REFRESH-INTERVAL;VALUE=DURATION:PT1H
X-Robots-Tag:noindex
X-PUBLISHED-TTL:PT1H
BEGIN:VTIMEZONE
TZID:America/Phoenix
BEGIN:STANDARD
TZOFFSETFROM:-0700
TZOFFSETTO:-0700
TZNAME:MST
DTSTART:20240101T000000
END:STANDARD
END:VTIMEZONE
BEGIN:VEVENT
DTSTART;TZID=America/Phoenix:20250117T183000
DTEND;TZID=America/Phoenix:20250117T210000
DTSTAMP:20260424T055806
CREATED:20241204T192628Z
LAST-MODIFIED:20241204T192629Z
UID:13118-1737138600-1737147600@tucsonastronomy.org
SUMMARY:Stargazing at Saguaro NP – West
DESCRIPTION:TAAA invites you to an evening of star gazing at Saguaro National Park – WestLocated on the far West side of town on the other side of the Tucson mountains\, this location has very dark skies from horizon to horizon. The park has been designated an Urban Night Sky Park in 2023. \n\n\n\nThe TAAA will have several Telescopes set up to view Stars\, Nebula’s\, Galaxies\, Planets and more starting at 6:30pm!  Telescopes will be arranged around the entrance walkway. \n\n\n\nIntroductory talks will be given starting at 5pm by the National Park Service (NPS)\, DarkSky International\, and NOIRLab (Kitt Peak)\, prior to telescope viewing. Park staff will guide visitors on short walks through the Javelina Wash to discuss the night sky\, and they are also hoping to include Indigenous storytelling \n\n\n\nThe stargazing event is free and open to the public\, but NPS admission fees apply.WEATHER DEPENDENT.  Follow the event on our Facebook page for any weather updates or changes: \n\n\n\n(4) Tucson Amateur Astronomy Association | Facebook \n\n\n\n\n\n\n\n\n\n\n\n\n\n\nTitle\nContent Toggle Block for Gutenberg makes it super easy to create toggle-able content. This toggle block comes with well-thought customization options. \n\n\n\n\n\n\nTitle\nContent Toggle Block for Gutenberg makes it super easy to create toggle-able content. This toggle block comes with well-thought customization options.
URL:https://tucsonastronomy.org/event/stargazing-at-saguaro-np-west/
LOCATION:Saguaro National Park WEST\, 2700 N Kinney Rd.\, Tucson\, AZ\, United States
CATEGORIES:Star Parties
ORGANIZER;CN="Bernie Stinger":MAILTO:astronomy-events@tucsonastronomy.org
END:VEVENT
BEGIN:VEVENT
DTSTART;TZID=America/Phoenix:20250117T183000
DTEND;TZID=America/Phoenix:20250117T213000
DTSTAMP:20260424T055806
CREATED:20241204T193755Z
LAST-MODIFIED:20241204T193756Z
UID:13120-1737138600-1737149400@tucsonastronomy.org
SUMMARY:Stargazing at Agua Caliente Park
DESCRIPTION:Viewing Location:  Bus Lanes @ North end of Parking LotInformation: Great dark skies in Northeast Tucson.  Star Party open to the Public.  Cost: FREE. \n\n\n\nTucson Amateur Astronomy Association will have several telescopes for astronomical viewing.  We will observe Planets\, Nebulae\, Galaxies\, Star Clusters and lots more.  Great opportunity to look through a variety of telescopes. \n\n\n\nPark gate may close before event end time\, so arrive as close to start time as possible. Weather dependent.For real-time updates\, follow this event on the Tucson Amateur Astronomy Association Facebook Events Page: ((4) Tucson Amateur Astronomy Association | Facebook) \n\n\n\nFREE but REGISTRATION IS REQUIRED. go to: https://bit.ly/ticketsEEThese events fill up fast so recommend registering early.
URL:https://tucsonastronomy.org/event/stargazing-at-agua-caliente-park-6/
LOCATION:Agua Caliente Park\, 12325 E Roger Rd\, Tucson\, AZ\, 85749\, United States
CATEGORIES:Star Parties
ORGANIZER;CN="Bernie Stinger":MAILTO:astronomy-events@tucsonastronomy.org
END:VEVENT
END:VCALENDAR