BEGIN:VCALENDAR
VERSION:2.0
PRODID:-//Tucson Amateur Astronomy Association - ECPv6.15.20//NONSGML v1.0//EN
CALSCALE:GREGORIAN
METHOD:PUBLISH
X-ORIGINAL-URL:https://tucsonastronomy.org
X-WR-CALDESC:Events for Tucson Amateur Astronomy Association
REFRESH-INTERVAL;VALUE=DURATION:PT1H
X-Robots-Tag:noindex
X-PUBLISHED-TTL:PT1H
BEGIN:VTIMEZONE
TZID:America/Phoenix
BEGIN:STANDARD
TZOFFSETFROM:-0700
TZOFFSETTO:-0700
TZNAME:MST
DTSTART:20220101T000000
END:STANDARD
END:VTIMEZONE
BEGIN:VEVENT
DTSTART;TZID=America/Phoenix:20230414T193000
DTEND;TZID=America/Phoenix:20230414T213000
DTSTAMP:20260425T081447
CREATED:20221210T175448Z
LAST-MODIFIED:20221210T175448Z
UID:8214-1681500600-1681507800@tucsonastronomy.org
SUMMARY:Stargazing Canoa Ranch
DESCRIPTION:Join the Tucson Amateur Astronomy Association (TAAA) and Pima County Natural Resources Parks and Recreation for some stargazing at Historic Canoa Ranch. We will observe planets\, star clusters\, multiple star systems\, nebulae\, galaxies\, and lots more. \nFREE but REGISTRATION IS REQUIRED: Go to Eventbright and search for stargazing Canoa Ranch. May fill up quickly\, so recommend registering as early as possible (event may not show up in Eventbright until about two months before).
URL:https://tucsonastronomy.org/event/stargazing-canoa-ranch-2/
LOCATION:Canoa Ranch\, 5375 S I-19 Frontage Road\, Green Valley\, AZ\, 85622\, United States
ORGANIZER;CN="Bernie Stinger":MAILTO:astronomy-events@tucsonastronomy.org
END:VEVENT
END:VCALENDAR