BEGIN:VCALENDAR
VERSION:2.0
PRODID:-//Tucson Amateur Astronomy Association - ECPv6.15.20//NONSGML v1.0//EN
CALSCALE:GREGORIAN
METHOD:PUBLISH
X-ORIGINAL-URL:https://tucsonastronomy.org
X-WR-CALDESC:Events for Tucson Amateur Astronomy Association
REFRESH-INTERVAL;VALUE=DURATION:PT1H
X-Robots-Tag:noindex
X-PUBLISHED-TTL:PT1H
BEGIN:VTIMEZONE
TZID:America/Phoenix
BEGIN:STANDARD
TZOFFSETFROM:-0700
TZOFFSETTO:-0700
TZNAME:MST
DTSTART:20240101T000000
END:STANDARD
END:VTIMEZONE
BEGIN:VEVENT
DTSTART;TZID=America/Phoenix:20251212T180000
DTEND;TZID=America/Phoenix:20251212T200000
DTSTAMP:20260423T151426
CREATED:20251103T000552Z
LAST-MODIFIED:20251208T194136Z
UID:15185-1765562400-1765569600@tucsonastronomy.org
SUMMARY:Stargazing at Tucson Mountain Park – Juan Santa Cruz Picnic Area
DESCRIPTION:Star Party @ Tucson Mountain Park – Juan Santa Cruz Picnic AreaTucson\, AZ (right next to Sonoran Desert Museum) \n\n\n\nViewing Location: Small side loop on East side of main loop.Information: Great dark skies in Western Tucson.  Star Party open to the Public.  Cost: FREE. \n\n\n\nTucson Amateur Astronomy Association will have several telescopes for astronomical viewing.  We will observe Planets\, Nebulae\, Galaxies\, Star Clusters and lots more.  Great opportunity to look through a variety of telescopes.  Weather dependent.For real-time updates\, follow this event on the Tucson Amateur Astronomy Association Facebook Events Page: TAAA Facebook Events page \n\n\n\nEvent is FREE but REGISTRATION IS REQUIRED. Go to this link to register: https://www.explore.pima.gov/pima/programs and click on the “Environmental Education” square to select. Once open\, type in “stargazing” for the keyword and then scroll down for the event.These events may fill up early.
URL:https://tucsonastronomy.org/event/stargazing-at-tucson-mountain-park-juan-santa-cruz-picnic-area-9/
LOCATION:Juan Santa Cruz Picnic Area\, 2000 N Kinney Road\, Tucson\, AZ\, 85743\, United States
CATEGORIES:Star Parties
ORGANIZER;CN="Bernie Stinger":MAILTO:astronomy-events@tucsonastronomy.org
END:VEVENT
BEGIN:VEVENT
DTSTART;TZID=America/Phoenix:20251213T180000
DTEND;TZID=America/Phoenix:20251213T200000
DTSTAMP:20260423T151426
CREATED:20251103T001240Z
LAST-MODIFIED:20251103T001241Z
UID:15188-1765648800-1765656000@tucsonastronomy.org
SUMMARY:Stargazing at Catalina State Park
DESCRIPTION:Star Party at Catalina State Park – Tucson\, AZViewing Location: Trailhead Picnic area at end of road inside the park.Great dark skies just north of Tucson at Catalina State Park.Star Party open to the Public.  Admission fee for entrance into Catalina State Park. \n\n\n\nTucson Amateur Astronomy Association will have approximately 10 telescopes for astronomical viewing.We will observe Planets\, Nebulae\, Galaxies\, Star Clusters and lots more.  Great opportunity to look through a wide variety of telescopes. \n\n\n\nWeather dependent.  For real-time updates\, follow this event on the Tucson Amateur Astronomy Association Facebook Events Page ((4) Tucson Amateur Astronomy Association | Facebook). \n\n\n\nAdditional details will be posted here and on Facebook as we get closer to the event.
URL:https://tucsonastronomy.org/event/stargazing-at-catalina-state-park-9/
LOCATION:Catalina State Park\, 11570 N Oracle Rd\, Catalina\, AZ\, United States
CATEGORIES:Star Parties
ORGANIZER;CN="Bernie Stinger":MAILTO:astronomy-events@tucsonastronomy.org
END:VEVENT
BEGIN:VEVENT
DTSTART;TZID=America/Phoenix:20251219T180000
DTEND;TZID=America/Phoenix:20251219T200000
DTSTAMP:20260423T151426
CREATED:20251103T001640Z
LAST-MODIFIED:20251201T205209Z
UID:15190-1766167200-1766174400@tucsonastronomy.org
SUMMARY:Stargazing at Saguaro National Park – East Side - Venue change.
DESCRIPTION:Star Party – Saguaro National Park – East SideNow at their Desert Learning Center \n\n\n\n12661 E Broadway Blvd\,  Tucson\, AZ 85730Map Coordinates: 32.22239965337127\, -110.72231843802784Drive to the end of Broadway Blvd\, parking is limited along roadside. Guides will give directions\, short walk to site. \n\n\n\nGreat dark skies on the East side of Tucson at Saguaro National Park – East Side’s Desert Learning Center.  Please do not go to the National Park entrance\, it will be closed due to construction.Star Party is open to the Public. Event is free but NPS admission fees apply. \n\n\n\nThe Tucson Amateur Astronomy Association will have several telescopes for astronomical viewing. We will observe Planets\, Nebulae\, Galaxies\, Star Clusters and lots more.Great opportunity to look through a variety of telescopes. \n\n\n\nWeather dependent. For real-time updates\, follow this event on the Tucson Amateur Astronomy Association Facebook Events Page: Tucson Amateur Astronomy Association | Facebook
URL:https://tucsonastronomy.org/event/stargazing-at-saguaro-national-park-east-5/
LOCATION:Desert Research Learning Center\, 12661 E Broadway Blvd\, Tucson\, Arizona\, United States
CATEGORIES:Star Parties
ORGANIZER;CN="Bernie Stinger":MAILTO:astronomy-events@tucsonastronomy.org
END:VEVENT
BEGIN:VEVENT
DTSTART;TZID=America/Phoenix:20251220T180000
DTEND;TZID=America/Phoenix:20251220T200000
DTSTAMP:20260423T151426
CREATED:20251109T191558Z
LAST-MODIFIED:20251109T191559Z
UID:15211-1766253600-1766260800@tucsonastronomy.org
SUMMARY:Stargazing at Chiricahua National Monument
DESCRIPTION:Join TAAA for an evening of stargazing to view amazing solar system and deep sky objects from a truly Dark Sky Park. You will see planets\, nebulae\, star clusters\, double stars\, galaxies millions of light years away\, and lots more. We will have several telescopes for public viewing. \n\n\n\nObserving location will be at the Faraway Ranch parking lot just past the entrance gate about 1/2 mile.  The event is free of charge\, no reservations are required. Please try to use red light flashlights and minimize white light (to include cell phones) that will hinder your night vision. \n\n\n\nChiricahua National Monument website: https://www.nps.gov/chir/index.htm.Weather dependent — Follow the event on the TAAA Facebook page to get weather and other updates: https://www.facebook.com/TucsonAstronomy/. \n\n\n\nCheck back here or on our Facebook page closer to the event for any updates.
URL:https://tucsonastronomy.org/event/stargazing-at-chiricahua-national-monument-5/
LOCATION:Chiricahua National Monument\, 12856 E Rhyolite Creek Rd\, Willcox\, AZ\, 85643\, United States
CATEGORIES:Star Parties
ORGANIZER;CN="Bernie Stinger":MAILTO:astronomy-events@tucsonastronomy.org
END:VEVENT
BEGIN:VEVENT
DTSTART;TZID=America/Phoenix:20251220T183000
DTEND;TZID=America/Phoenix:20251220T203000
DTSTAMP:20260423T151426
CREATED:20251103T002031Z
LAST-MODIFIED:20251103T002032Z
UID:15192-1766255400-1766262600@tucsonastronomy.org
SUMMARY:Stargazing @ Picacho Peak State Park
DESCRIPTION:Truely dark skies at a scenic location – Picacho Peak State ParkStar Party is open to the Public. Event is free but park admission fees apply. \n\n\n\nThe Tucson Amateur Astronomy Association will have several advanced amateur telescopes for astronomical viewing. \n\n\n\nWe will observe Planets\, Nebulae\, Galaxies\, Star Clusters and lots more.Great opportunity to look through a variety of telescopes at a really dark location. \n\n\n\nWeather dependent. For real-time updates\, follow this event on the Tucson Amateur Astronomy Association Facebook Events Page: https://www.facebook.com/TucsonAstronomy/events
URL:https://tucsonastronomy.org/event/stargazing-picacho-peak-state-park-9/
LOCATION:Picacho Peak State Park\, 15520 Picacho Peak Rd\, Picacho\, AZ\, 85141
CATEGORIES:Star Parties
ORGANIZER;CN="Bernie Stinger":MAILTO:astronomy-events@tucsonastronomy.org
END:VEVENT
END:VCALENDAR