BEGIN:VCALENDAR
VERSION:2.0
PRODID:-//Tucson Amateur Astronomy Association - ECPv6.15.20//NONSGML v1.0//EN
CALSCALE:GREGORIAN
METHOD:PUBLISH
X-WR-CALNAME:Tucson Amateur Astronomy Association
X-ORIGINAL-URL:https://tucsonastronomy.org
X-WR-CALDESC:Events for Tucson Amateur Astronomy Association
REFRESH-INTERVAL;VALUE=DURATION:PT1H
X-Robots-Tag:noindex
X-PUBLISHED-TTL:PT1H
BEGIN:VTIMEZONE
TZID:America/Phoenix
BEGIN:STANDARD
TZOFFSETFROM:-0700
TZOFFSETTO:-0700
TZNAME:MST
DTSTART:20230101T000000
END:STANDARD
END:VTIMEZONE
BEGIN:VEVENT
DTSTART;TZID=America/Phoenix:20241102T183000
DTEND;TZID=America/Phoenix:20241102T203000
DTSTAMP:20260424T070414
CREATED:20240929T185903Z
LAST-MODIFIED:20240929T190251Z
UID:12822-1730572200-1730579400@tucsonastronomy.org
SUMMARY:Stargazing at Tucson Mountain Park – Juan Santa Cruz Picnic Area
DESCRIPTION:Star Party @ Tucson Mountain Park – Juan Santa Cruz Picnic AreaTucson\, AZ (right next to Sonoran Desert Museum) \n\n\n\nViewing Location: Small side loop on East side of main loop.Information: Great dark skies in Western Tucson.  Star Party open to the Public.  Cost: FREE. \n\n\n\nTucson Amateur Astronomy Association will have several telescopes for astronomical viewing.  We will observe Planets\, Nebulae\, Galaxies\, Star Clusters and lots more.  Great opportunity to look through a variety of telescopes.  Weather dependent.For real-time updates\, follow this event on the Tucson Amateur Astronomy Association Facebook Events Page: TAAA Facebook Events page \n\n\n\nEvent is FREE but REGISTRATION IS REQUIRED. Go to this link to register:  https://bit.ly/ticketsEEThese events may fill up early.
URL:https://tucsonastronomy.org/event/stargazing-at-tucson-mountain-park-juan-santa-cruz-picnic-area-4/
LOCATION:Juan Santa Cruz Picnic Area\, 2000 N Kinney Road\, Tucson\, AZ\, 85743\, United States
CATEGORIES:Star Parties
ORGANIZER;CN="Bernie Stinger":MAILTO:astronomy-events@tucsonastronomy.org
END:VEVENT
BEGIN:VEVENT
DTSTART;TZID=America/Phoenix:20241108T183000
DTEND;TZID=America/Phoenix:20241108T203000
DTSTAMP:20260424T070414
CREATED:20240929T192603Z
LAST-MODIFIED:20240929T192604Z
UID:12825-1731090600-1731097800@tucsonastronomy.org
SUMMARY:Stargazing at Agua Caliente Park
DESCRIPTION:Viewing Location:  Bus Lanes @ North end of Parking LotInformation: Great dark skies in Northeast Tucson.  Star Party open to the Public.  Cost: FREE. \n\n\n\nTucson Amateur Astronomy Association will have several telescopes for astronomical viewing.  We will observe Planets\, Nebulae\, Galaxies\, Star Clusters and lots more.  Great opportunity to look through a variety of telescopes. \n\n\n\nPark gate may close before event end time\, so arrive as close to start time as possible. Weather dependent.For real-time updates\, follow this event on the Tucson Amateur Astronomy Association Facebook Events Page: (https://www.facebook.com/TucsonAstronomy/). \n\n\n\nFREE but REGISTRATION IS REQUIRED. go to: https://bit.ly/ticketsEEThese events fill up fast so recommend registering early.
URL:https://tucsonastronomy.org/event/stargazing-at-agua-caliente-park-5/
LOCATION:Agua Caliente Park\, 12325 E Roger Rd\, Tucson\, AZ\, 85749\, United States
CATEGORIES:Star Parties
ORGANIZER;CN="Bernie Stinger":MAILTO:astronomy-events@tucsonastronomy.org
END:VEVENT
BEGIN:VEVENT
DTSTART;TZID=America/Phoenix:20241122T183000
DTEND;TZID=America/Phoenix:20241122T203000
DTSTAMP:20260424T070414
CREATED:20240929T193752Z
LAST-MODIFIED:20240929T193753Z
UID:12827-1732300200-1732307400@tucsonastronomy.org
SUMMARY:Stargazing at Saguaro NP – East
DESCRIPTION:Star Party – Saguaro National Park – East3693 S Old Spanish TrailTucson\, AZ 85730 \n\n\n\nGreat dark skies on the East side of Tucson at Saguaro National Park – East.Star Party is open to the Public. Event is free but NPS admission fees apply. \n\n\n\nThe Tucson Amateur Astronomy Association will have several telescopes for astronomical viewing. We will observe Planets\, Nebulae\, Galaxies\, Star Clusters and lots more.Great opportunity to look through a variety of telescopes. \n\n\n\nWeather dependent. For real-time updates\, follow this event on the Tucson Amateur Astronomy Association Facebook Events Page: Tucson Amateur Astronomy Association | Facebook
URL:https://tucsonastronomy.org/event/stargazing-at-saguaro-np-east-8/
LOCATION:Saguaro National Park EAST\, 3693 S Old Spanish Trail\, Tucson\, AZ\, 85730\, United States
CATEGORIES:Star Parties
ORGANIZER;CN="Bernie Stinger":MAILTO:astronomy-events@tucsonastronomy.org
END:VEVENT
BEGIN:VEVENT
DTSTART;TZID=America/Phoenix:20241123T183000
DTEND;TZID=America/Phoenix:20241123T203000
DTSTAMP:20260424T070414
CREATED:20240929T194511Z
LAST-MODIFIED:20240929T194818Z
UID:12829-1732386600-1732393800@tucsonastronomy.org
SUMMARY:Stargazing @ Canoa Ranch
DESCRIPTION:Join the Tucson Amateur Astronomy Association (TAAA) and Pima County Natural Resources Parks and Recreation for some stargazing at Historic Canoa Ranch. \n\n\n\nWe will observe planets\, star clusters\, multiple star systems\, nebulae\, galaxies\, and lots more. \n\n\n\nWeather dependent. For real-time updates\, follow this event on the Tucson Amateur Astronomy Association Facebook Events Page: Tucson Amateur Astronomy Association | Facebook \n\n\n\nFREE but REGISTRATION IS REQUIRED: Go to:  https://bit.ly/ticketsEEThese events fill up quickly.
URL:https://tucsonastronomy.org/event/stargazing-canoa-ranch-6/
LOCATION:Canoa Ranch\, 5375 S I-19 Frontage Road\, Green Valley\, AZ\, 85622\, United States
CATEGORIES:Star Parties
ORGANIZER;CN="Bernie Stinger":MAILTO:astronomy-events@tucsonastronomy.org
END:VEVENT
BEGIN:VEVENT
DTSTART;TZID=America/Phoenix:20241130T180000
DTEND;TZID=America/Phoenix:20241130T200000
DTSTAMP:20260424T070414
CREATED:20240929T195618Z
LAST-MODIFIED:20240929T195619Z
UID:12832-1732989600-1732996800@tucsonastronomy.org
SUMMARY:Stargazing at Oracle State Park
DESCRIPTION:Viewing Location: Kannally Ranch House  \n\n\n\nStar Party telescope viewing (6:00 – 8:00pm)\n\n\n\nInformation: Great dark skies just north of Tucson at Oracle State Park.3820 E Wildlife Dr.\, Oracle\, AZ 85623Star Party open to the Public. Admission fees for entrance into Oracle State Park apply. \n\n\n\nTucson Amateur Astronomy Association will have several telescopes for astronomical viewing. We will be observing the Moon + Planets\, Nebulae\, Galaxies\, and Star Clusters.Great opportunity to look through a wide variety of telescopes. Weather dependent. \n\n\n\nFor real-time updates\, follow this event on the Tucson Amateur Astronomy Association Facebook event page:  TAAA Facebook Events page \n\n\n\nAlso: Check the Oracle State Park website for additional information and activities that day:Star Party at Oracle State Park | Oracle State Park (azstateparks.com)
URL:https://tucsonastronomy.org/event/stargazing-at-oracle-state-park-8/
LOCATION:Oracle State Park\, 3820 E Wildlife Dr.\, Oracle\, AZ\, 85623\, United States
CATEGORIES:Star Parties
ORGANIZER;CN="Bernie Stinger":MAILTO:astronomy-events@tucsonastronomy.org
END:VEVENT
END:VCALENDAR