BEGIN:VCALENDAR
VERSION:2.0
PRODID:-//Tucson Amateur Astronomy Association - ECPv6.15.20//NONSGML v1.0//EN
CALSCALE:GREGORIAN
METHOD:PUBLISH
X-ORIGINAL-URL:https://tucsonastronomy.org
X-WR-CALDESC:Events for Tucson Amateur Astronomy Association
REFRESH-INTERVAL;VALUE=DURATION:PT1H
X-Robots-Tag:noindex
X-PUBLISHED-TTL:PT1H
BEGIN:VTIMEZONE
TZID:America/Phoenix
BEGIN:STANDARD
TZOFFSETFROM:-0700
TZOFFSETTO:-0700
TZNAME:MST
DTSTART:20230101T000000
END:STANDARD
END:VTIMEZONE
BEGIN:VEVENT
DTSTART;TZID=America/Phoenix:20240601T200000
DTEND;TZID=America/Phoenix:20240608T230000
DTSTAMP:20260424T135110
CREATED:20231127T025145Z
LAST-MODIFIED:20231127T025145Z
UID:10741-1717272000-1717887600@tucsonastronomy.org
SUMMARY:Grand Canyon Star Party
DESCRIPTION:The Grand Canyon Star Party (GCSP) will be held this year from June 1 – 8 at the Grand Canyon National Park. Telescope observing typically goes from 8-11 pm at the Visitor Center of the South Rim. There will also be a GCSP at the North Rim. \nWe will have up to 60 telescopes each night observing planets\, galaxies\, multiple star systems\, star clusters\, nebulae\, and much more. \nFor more information\, see the TAAA GCSP webpage at: Grand Canyon Star Party or the National Park Service Grand Canyon Webpage at: NPS Grand Canyon Webpage
URL:https://tucsonastronomy.org/event/grand-canyon-star-party-13/
LOCATION:Grand Canyon Visitor Center\, Grand Canyon Visitor Center\, Grand Canyon\, AZ\, 86023\, United States
CATEGORIES:Star Parties
END:VEVENT
BEGIN:VEVENT
DTSTART;TZID=America/Phoenix:20240608T200000
DTEND;TZID=America/Phoenix:20240608T220000
DTSTAMP:20260424T135110
CREATED:20240407T214957Z
LAST-MODIFIED:20240407T214957Z
UID:11638-1717876800-1717884000@tucsonastronomy.org
SUMMARY:Stargazing at Oracle State Park
DESCRIPTION:Viewing Location: Kannally Ranch House  \n\nStar Party telescope viewing (8:00 – 10:00pm)\n\nInformation: Great dark skies just north of Tucson at Oracle State Park.\nStar Party open to the Public. Admission fees for entrance into Oracle State Park apply. \nTucson Amateur Astronomy Association will have several telescopes for astronomical viewing. We will be observing the Moon + Planets\, Nebulae\, Galaxies\, and Star Clusters.\nGreat opportunity to look through a wide variety of telescopes. Weather dependent. \nFor real-time updates\, follow this event on the Tucson Amateur Astronomy Association Facebook event page:  TAAA Facebook Events page \nAlso: Check the Oracle State Park website for additional information and activities that day:\nStar Party at Oracle State Park | Oracle State Park (azstateparks.com)
URL:https://tucsonastronomy.org/event/stargazing-at-oracle-state-park-6/
LOCATION:Oracle State Park\, 3820 E Wildlife Dr.\, Oracle\, AZ\, 85623\, United States
ORGANIZER;CN="Bernie Stinger":MAILTO:astronomy-events@tucsonastronomy.org
END:VEVENT
BEGIN:VEVENT
DTSTART;TZID=America/Phoenix:20240628T200000
DTEND;TZID=America/Phoenix:20240628T220000
DTSTAMP:20260424T135110
CREATED:20240407T215533Z
LAST-MODIFIED:20240407T215533Z
UID:11640-1719604800-1719612000@tucsonastronomy.org
SUMMARY:Stargazing at Saguaro NP – East
DESCRIPTION:Star Party – Saguaro National Park – East\nTucson\, AZ \nGreat dark skies on the East side of Tucson at Saguaro National Park – East.\nStar Party is open to the Public. Event is free but NPS admission fees apply. \nThe Tucson Amateur Astronomy Association will have several telescopes for astronomical viewing. We will observe Planets\, Nebulae\, Galaxies\, Star Clusters and lots more.\nGreat opportunity to look through a variety of telescopes. \nWeather dependent. For real-time updates\, follow this event on the Tucson Amateur Astronomy Association Facebook Events Page: TAAA Facebook Events page
URL:https://tucsonastronomy.org/event/stargazing-at-saguaro-np-east-6/
LOCATION:Saguaro National Park EAST\, 3693 S Old Spanish Trail\, Tucson\, AZ\, 85730\, United States
ORGANIZER;CN="Bernie Stinger":MAILTO:astronomy-events@tucsonastronomy.org
END:VEVENT
END:VCALENDAR