BEGIN:VCALENDAR
VERSION:2.0
PRODID:-//Tucson Amateur Astronomy Association - ECPv6.15.20//NONSGML v1.0//EN
CALSCALE:GREGORIAN
METHOD:PUBLISH
X-WR-CALNAME:Tucson Amateur Astronomy Association
X-ORIGINAL-URL:https://tucsonastronomy.org
X-WR-CALDESC:Events for Tucson Amateur Astronomy Association
REFRESH-INTERVAL;VALUE=DURATION:PT1H
X-Robots-Tag:noindex
X-PUBLISHED-TTL:PT1H
BEGIN:VTIMEZONE
TZID:America/Phoenix
BEGIN:STANDARD
TZOFFSETFROM:-0700
TZOFFSETTO:-0700
TZNAME:MST
DTSTART:20220101T000000
END:STANDARD
END:VTIMEZONE
BEGIN:VEVENT
DTSTART;TZID=America/Phoenix:20230211T140000
DTEND;TZID=America/Phoenix:20230211T210000
DTSTAMP:20260425T090012
CREATED:20220822T231713Z
LAST-MODIFIED:20230208T001149Z
UID:7833-1676124000-1676149200@tucsonastronomy.org
SUMMARY:Tucson Star Party
DESCRIPTION:Join the Tucson Amateur Astronomy Association (TAAA) in conjunction with Editors from the Astronomy Magazine and Pima Community College (PCC) East for some astronomy talks\, solar observing\, and evening stargazing.\n\nAstronomy Talks and Safe Solar viewing of the Sun 2:00 – 5:00 p.m.\n (All Talks in the Observatory area\, Room EC-M102)\nTalks:\n— Galaxies — David J Eicher\, Astronomy magazine 2 p.m.\n— 2023 & 2024 U.S. Solar Eclipses — Michael Bakich 3 p.m.\n— (Topic TBD) — Alan Goldstein 4 p.m. \nCampus Information & Tours 5:00 – 7:00 p.m. \nSolar Observing at the Observatories 2 – 5 p.m.\nNight Sky Viewing at the Observatories 6:30 – 9:00 p.m.\nEvening observing of planets\, star clusters\, multiple star systems\, nebulae\, galaxies\, and lots more through several telescopes. \nObserving will be at the south end of the PCC East Campus near the astronomy domes. \nFollow our Facebook event for any real-time updates or adjustments due to weather at:  TAAA Facebook Events page \n 
URL:https://tucsonastronomy.org/event/tucson-star-party-3/
LOCATION:Pima Community College East\, 8181 E Irvington Rd\, Tucson\, AZ\, United States
CATEGORIES:Star Parties
ORGANIZER;CN="Bernie Stinger":MAILTO:astronomy-events@tucsonastronomy.org
END:VEVENT
BEGIN:VEVENT
DTSTART;TZID=America/Phoenix:20230218T190000
DTEND;TZID=America/Phoenix:20230218T210000
DTSTAMP:20260425T090012
CREATED:20220822T230920Z
LAST-MODIFIED:20220822T230920Z
UID:7829-1676746800-1676754000@tucsonastronomy.org
SUMMARY:Stargazing Catalina State Park
DESCRIPTION:Star Party-Catalina State Park\nTucson\, AZ\nViewing Location: Trailhead Picnic area at end of road inside the park.\nInformation: Great dark skies just north of Tucson at Catalina State Park.  Star Party open to the Public.  Admission cost for entrance into Catalina State Park.  Tucson Amateur Astronomy Association will have 10 telescopes for astronomical viewing.  We will observe Planets\, Nebulae\, Galaxies\, Star Clusters and lots more.  Great opportunity to look through a wide variety of telescopes.  Weather dependent.  For real-time updates\, follow this event on the Tucson Amateur Astronomy Association Facebook Events Page (https://www.facebook.com/TucsonAstronomy/). \nAdditional details will be posted here and on Facebook as we get closer to the event.
URL:https://tucsonastronomy.org/event/stargazing-catalina-state-park/
LOCATION:Catalina State Park\, 11570 N Oracle Rd\, Catalina\, AZ\, United States
CATEGORIES:Star Parties
ORGANIZER;CN="Bernie Stinger":MAILTO:astronomy-events@tucsonastronomy.org
END:VEVENT
BEGIN:VEVENT
DTSTART;TZID=America/Phoenix:20230224T190000
DTEND;TZID=America/Phoenix:20230224T210000
DTSTAMP:20260425T090012
CREATED:20220822T231247Z
LAST-MODIFIED:20230224T231248Z
UID:7831-1677265200-1677272400@tucsonastronomy.org
SUMMARY:Stargazing Canoa Ranch
DESCRIPTION:This Star Party is cancelled for tonight.  The cloud cover is forecast to increase as the evening progresses to the point that it needs to be cancelled. \nJoin the Tucson Amateur Astronomy Association (TAAA) and Pima County Natural Resources Parks and Recreation for some stargazing at Historic Canoa Ranch. We will observe planets\, star clusters\, multiple star systems\, nebulae\, galaxies\, and lots more. \nFREE but REGISTRATION IS REQUIRED: Go to Eventbright and search for stargazing Canoa Ranch. May fill up quickly\, so recommend registering as early as possible (event may not show up in Eventbright until about two months before).
URL:https://tucsonastronomy.org/event/stargazing-canoa-ranch/
LOCATION:Canoa Ranch\, 5375 S I-19 Frontage Road\, Green Valley\, AZ\, 85622\, United States
CATEGORIES:Star Parties
ORGANIZER;CN="Bernie Stinger":MAILTO:astronomy-events@tucsonastronomy.org
END:VEVENT
END:VCALENDAR