BEGIN:VCALENDAR
VERSION:2.0
PRODID:-//Tucson Amateur Astronomy Association - ECPv6.15.20//NONSGML v1.0//EN
CALSCALE:GREGORIAN
METHOD:PUBLISH
X-WR-CALNAME:Tucson Amateur Astronomy Association
X-ORIGINAL-URL:https://tucsonastronomy.org
X-WR-CALDESC:Events for Tucson Amateur Astronomy Association
REFRESH-INTERVAL;VALUE=DURATION:PT1H
X-Robots-Tag:noindex
X-PUBLISHED-TTL:PT1H
BEGIN:VTIMEZONE
TZID:America/Phoenix
BEGIN:STANDARD
TZOFFSETFROM:-0700
TZOFFSETTO:-0700
TZNAME:MST
DTSTART:20210101T000000
END:STANDARD
END:VTIMEZONE
BEGIN:VEVENT
DTSTART;TZID=America/Phoenix:20221015T183000
DTEND;TZID=America/Phoenix:20221015T203000
DTSTAMP:20260425T133907
CREATED:20210805T162245Z
LAST-MODIFIED:20221015T212830Z
UID:6251-1665858600-1665865800@tucsonastronomy.org
SUMMARY:Catalina State Park Stargazing
DESCRIPTION:CANCELLED.    CANCELLED.   CANCELLED \nWe will be CANCELLING tonight’s (October 15\, 2022) star party at Catalina State Park due to adverse weather. The next one scheduled for Catalina State Park is February 18\, 2023 from 7-9 pm. \nStar Party-Catalina State Park\nTucson\, AZ\nViewing Location: Trailhead Picnic area at end of road inside the park.\nInformation: Great dark skies just north of Tucson at Catalina State Park.  Star Party open to the Public.  Admission cost for entrance into Catalina State Park.  Tucson Amateur Astronomy Association will have 10 telescopes for astronomical viewing.  We will observe Planets\, Nebulae\, Galaxies\, Star Clusters and lots more.  Great opportunity to look through a wide variety of telescopes.  Weather dependent.  For real-time updates\, follow this event on the Tucson Amateur Astronomy Association Facebook Events Page (https://www.facebook.com/TucsonAstronomy/). \nAdditional details will be posted here and on Facebook as we get closer to the event.
URL:https://tucsonastronomy.org/event/catalina-state-park-stargazing-5/
LOCATION:Catalina State Park\, 11570 N Oracle Rd\, Catalina\, AZ\, United States
CATEGORIES:Star Parties
END:VEVENT
BEGIN:VEVENT
DTSTART;TZID=America/Phoenix:20221022T180000
DTEND;TZID=America/Phoenix:20221022T210000
DTSTAMP:20260425T133907
CREATED:20210805T164231Z
LAST-MODIFIED:20221017T213728Z
UID:6270-1666461600-1666472400@tucsonastronomy.org
SUMMARY:Chiricahua National Monument Stargazing
DESCRIPTION:TAAA Stargazing to view amazing solar system and deep sky objects from the Dark Sky Park. You will see planets\, nebulae\, star clusters\, double stars\, and lots more. We will have several telescopes for public viewing. Observing location will be at the Echo Canyon Trailhead about 5 miles inside the park.  A talk will be scheduled at Bonita Campground Amphitheater before the observing at Echo Canyon. The park may will a shuttle bus from the Visitor Center (check there upon arrival). Please try to use red light flashlights and minimize white light (to include cell phones) that will hinder your night vision. Chiricahua National Monument website: https://www.nps.gov/chir/index.htm.  Weather dependent — Follow the event on the TAAA Facebook page to get weather and other updates: https://www.facebook.com/TucsonAstronomy/. \nSchedule. \nTalk at Bonita Campground: 6 – 6:45 pm\nObserving at Echo Canyon Trailhead: 7-9 pm \nCheck back here or on Facebook closer to the event for any updates.
URL:https://tucsonastronomy.org/event/chiricahua-national-monument-stargazing-5/
LOCATION:Chiricahua National Monument\, 12856 E Rhyolite Creek Rd\, Willcox\, AZ\, 85643\, United States
CATEGORIES:Star Parties
END:VEVENT
END:VCALENDAR