BEGIN:VCALENDAR
VERSION:2.0
PRODID:-//Tucson Amateur Astronomy Association - ECPv6.15.20//NONSGML v1.0//EN
CALSCALE:GREGORIAN
METHOD:PUBLISH
X-ORIGINAL-URL:https://tucsonastronomy.org
X-WR-CALDESC:Events for Tucson Amateur Astronomy Association
REFRESH-INTERVAL;VALUE=DURATION:PT1H
X-Robots-Tag:noindex
X-PUBLISHED-TTL:PT1H
BEGIN:VTIMEZONE
TZID:America/Phoenix
BEGIN:STANDARD
TZOFFSETFROM:-0700
TZOFFSETTO:-0700
TZNAME:MST
DTSTART:20250101T000000
END:STANDARD
END:VTIMEZONE
BEGIN:VEVENT
DTSTART;TZID=America/Phoenix:20260411T193000
DTEND;TZID=America/Phoenix:20260411T213000
DTSTAMP:20260423T114531
CREATED:20260304T032208Z
LAST-MODIFIED:20260304T032209Z
UID:16005-1775935800-1775943000@tucsonastronomy.org
SUMMARY:Marana - Camping Under the Stars
DESCRIPTION:Astronomy event supporting Marana – Camping Under the Stars. For more information\, see their website: Camping Under the Stars – Town of Marana\, AZ
URL:https://tucsonastronomy.org/event/marana-camping-under-the-stars/
LOCATION:Ora Mae Harn Park\, 13250 N Lon Adams Rd\, Marana\, AZ\, 85653\, United States
CATEGORIES:Star Parties
ORGANIZER;CN="Bernie Stinger":MAILTO:astronomy-events@tucsonastronomy.org
END:VEVENT
END:VCALENDAR