BEGIN:VCALENDAR
VERSION:2.0
PRODID:-//Tucson Amateur Astronomy Association - ECPv6.15.20//NONSGML v1.0//EN
CALSCALE:GREGORIAN
METHOD:PUBLISH
X-WR-CALNAME:Tucson Amateur Astronomy Association
X-ORIGINAL-URL:https://tucsonastronomy.org
X-WR-CALDESC:Events for Tucson Amateur Astronomy Association
REFRESH-INTERVAL;VALUE=DURATION:PT1H
X-Robots-Tag:noindex
X-PUBLISHED-TTL:PT1H
BEGIN:VTIMEZONE
TZID:America/Phoenix
BEGIN:STANDARD
TZOFFSETFROM:-0700
TZOFFSETTO:-0700
TZNAME:MST
DTSTART:20230101T000000
END:STANDARD
END:VTIMEZONE
BEGIN:VEVENT
DTSTART;TZID=America/Phoenix:20240524T200000
DTEND;TZID=America/Phoenix:20240524T213000
DTSTAMP:20260424T160312
CREATED:20240407T213956Z
LAST-MODIFIED:20240407T213956Z
UID:11635-1716580800-1716586200@tucsonastronomy.org
SUMMARY:Stargazing at Anamax Park\, Sahuarita AZ
DESCRIPTION:Star Party – Anamax Park\, Sahuarita\, AZ\nViewing Location: Field 4 in the middle of the soccer field\nGreat dark skies just South of Tucson.\nStar Party open to the Public. \nTucson Amateur Astronomy Association will have telescopes for astronomical viewing.\nWe will observe Planets\, Nebulae\, Galaxies\, Star Clusters and lots more. \nWeather dependent.  For real-time updates\, follow this event on the Tucson Amateur Astronomy Association Facebook Events Page (https://www.facebook.com/TucsonAstronomy/).
URL:https://tucsonastronomy.org/event/stargazing-at-anamax-park-sahuarita-az/
LOCATION:Anamax Park\, Sahuarita AZ\, 17501 S Camino De Las Quintas\, Sahuarita\, AZ\, 85629\, United States
ORGANIZER;CN="Bernie Stinger":MAILTO:astronomy-events@tucsonastronomy.org
END:VEVENT
END:VCALENDAR