BEGIN:VCALENDAR
VERSION:2.0
PRODID:-//Tucson Amateur Astronomy Association - ECPv6.15.20//NONSGML v1.0//EN
CALSCALE:GREGORIAN
METHOD:PUBLISH
X-WR-CALNAME:Tucson Amateur Astronomy Association
X-ORIGINAL-URL:https://tucsonastronomy.org
X-WR-CALDESC:Events for Tucson Amateur Astronomy Association
REFRESH-INTERVAL;VALUE=DURATION:PT1H
X-Robots-Tag:noindex
X-PUBLISHED-TTL:PT1H
BEGIN:VTIMEZONE
TZID:America/Phoenix
BEGIN:STANDARD
TZOFFSETFROM:-0700
TZOFFSETTO:-0700
TZNAME:MST
DTSTART:20230101T000000
END:STANDARD
END:VTIMEZONE
BEGIN:VEVENT
DTSTART;TZID=America/Phoenix:20240203T130000
DTEND;TZID=America/Phoenix:20240203T210000
DTSTAMP:20260424T184508
CREATED:20231219T191722Z
LAST-MODIFIED:20240114T192534Z
UID:10925-1706965200-1706994000@tucsonastronomy.org
SUMMARY:Tucson Star Party
DESCRIPTION:Join the Tucson Amateur Astronomy Association (TAAA) in conjunction with Editors from the Astronomy Magazine and Pima Community College (PCC) – East Campus for some interesting astronomy talks\, solar observing\, and evening stargazing.\nPCC – East is located at 8181 E Irvington Rd\, Tucson AZ \nSatellite Radio Demo (at the Observatories) – 1:00 – 1:30 p.m. \nAstronomy Talks and Safe Solar viewing of the Sun 1:30 – 5:00 p.m.\n(All Talks in Room (M5-102)\n\nTalks:\n   – Michael Bakich — 2023 & 2024 Annular & Total Solar Eclipses  –  1:30 pm \n   – Alan Goldstein – “The Grand Canyon of the Sky”  Correlating distance objects  in the sky with the history of life on the Earth  —  2:30 pm \n   – David J Eicher: Astronomy magazine — Astronomy and the Civil War  –  3:30 pm \n   – David Levy — Legacy of Comet Shoemaker-Levy 9\, 30yrs later  –  4:30 pm \nPlanet Walk & Tour – (Starting at the Observatories) – 5;30 p.m. \nSolar Observing (at the Observatories) – 2 – 5 p.m. \nNight Sky Telescope Viewing (at the Observatories) 6:30 – 9:00 p.m.\nEvening observing of planets\, star clusters\, multiple star systems\, nebulae\, galaxies\, and lots more through several telescopes. \nSolar & Night observing\, Planet Walk\, & Satellite Radio Demo will be at the south end of the PCC East Campus near the astronomy domes. \nFollow our Facebook event for any real-time updates or adjustments due to weather at:  TAAA Facebook Events page
URL:https://tucsonastronomy.org/event/tucson-star-party-4/
LOCATION:Pima Community College East\, 8181 E Irvington Rd\, Tucson\, AZ\, United States
CATEGORIES:Star Parties
ORGANIZER;CN="Bernie Stinger":MAILTO:astronomy-events@tucsonastronomy.org
END:VEVENT
BEGIN:VEVENT
DTSTART;TZID=America/Phoenix:20240209T140000
DTEND;TZID=America/Phoenix:20240209T210000
DTSTAMP:20260424T184508
CREATED:20231219T194357Z
LAST-MODIFIED:20231219T194357Z
UID:10927-1707487200-1707512400@tucsonastronomy.org
SUMMARY:Solar and Night Stargazing at Catalina State Park
DESCRIPTION:Star Party @ Catalina State Park\nTucson\, AZ\nViewing Location: Parking lot for Bridle Trailhead at end of State Park road inside the park.\nInformation: Great dark skies just north of Tucson at Catalina State Park.  Star Party open to the Public.  Admission fees for entrance into Catalina State Park apply. \nTucson Amateur Astronomy Association will have Solar telescopes for daytime Solar viewing and later Standard telescopes (10 or more) for nighttime astronomical viewing. \nSolar viewing from 2pm to 4pm (Same Trailhead location) \nNighttime viewing from 7pm to 9pm (Same Trailhead location)\nWe will observe Planets\, Nebulae\, Galaxies\, Star Clusters and lots more.  Great opportunity to look through a wide variety of telescopes.  Weather dependent.  For real-time updates\, follow this event on the Tucson Amateur Astronomy Association Facebook Events Page:\nTAAA Facebook Events page \nAdditional details will be posted here and on our Facebook page as we get closer to the event.
URL:https://tucsonastronomy.org/event/solar-and-night-stargazing-at-catalina-state-park/
LOCATION:Catalina State Park\, 11570 N Oracle Rd\, Catalina\, AZ\, United States
CATEGORIES:Star Parties
ORGANIZER;CN="Bernie Stinger":MAILTO:astronomy-events@tucsonastronomy.org
END:VEVENT
END:VCALENDAR