BEGIN:VCALENDAR
VERSION:2.0
PRODID:-//Tucson Amateur Astronomy Association - ECPv6.15.20//NONSGML v1.0//EN
CALSCALE:GREGORIAN
METHOD:PUBLISH
X-ORIGINAL-URL:https://tucsonastronomy.org
X-WR-CALDESC:Events for Tucson Amateur Astronomy Association
REFRESH-INTERVAL;VALUE=DURATION:PT1H
X-Robots-Tag:noindex
X-PUBLISHED-TTL:PT1H
BEGIN:VTIMEZONE
TZID:America/Phoenix
BEGIN:STANDARD
TZOFFSETFROM:-0700
TZOFFSETTO:-0700
TZNAME:MST
DTSTART:20250101T000000
END:STANDARD
END:VTIMEZONE
BEGIN:VEVENT
DTSTART;TZID=America/Phoenix:20260307T190000
DTEND;TZID=America/Phoenix:20260307T210000
DTSTAMP:20260423T114018
CREATED:20260204T204951Z
LAST-MODIFIED:20260204T204952Z
UID:15887-1772910000-1772917200@tucsonastronomy.org
SUMMARY:Stargazing at Tucson Mountain Park – Juan Santa Cruz Picnic Area
DESCRIPTION:Star Party @ Tucson Mountain Park – Juan Santa Cruz Picnic AreaTucson\, AZ (right next to Sonoran Desert Museum) \n\n\n\nViewing Location: Small side loop on East side of main loop.Information: Great dark skies in Western Tucson.  Star Party open to the Public.  Cost: FREE. \n\n\n\nTucson Amateur Astronomy Association will have several telescopes for astronomical viewing.  We will observe Planets\, Nebulae\, Galaxies\, Star Clusters and lots more.  Great opportunity to look through a variety of telescopes.  Weather dependent.For real-time updates\, follow this event on the Tucson Amateur Astronomy Association Facebook Events Page: TAAA Facebook Events page \n\n\n\nEvent is FREE but REGISTRATION IS REQUIRED. Go to this link to register: https://www.explore.pima.gov/pima/programs and click on the “Environmental Education” square to select. Once open\, type in “stargazing” for the keyword and then scroll down for the event.These events may fill up early.
URL:https://tucsonastronomy.org/event/stargazing-at-tucson-mountain-park-juan-santa-cruz-picnic-area-10/
LOCATION:Juan Santa Cruz Picnic Area\, 2000 N Kinney Road\, Tucson\, AZ\, 85743\, United States
CATEGORIES:Star Parties
ORGANIZER;CN="Bernie Stinger":MAILTO:astronomy-events@tucsonastronomy.org
END:VEVENT
BEGIN:VEVENT
DTSTART;TZID=America/Phoenix:20260320T193000
DTEND;TZID=America/Phoenix:20260320T213000
DTSTAMP:20260423T114018
CREATED:20260204T205924Z
LAST-MODIFIED:20260313T032134Z
UID:15889-1774035000-1774042200@tucsonastronomy.org
SUMMARY:Stargazing at Chiricahua National Monument
DESCRIPTION:Join TAAA for an evening of stargazing to view amazing solar system and deep sky objects from a truly Dark Sky Park. You will see planets\, nebulae\, star clusters\, double stars\, galaxies millions of light years away\, and lots more. We will have several telescopes for public viewing. \n\n\n\nObserving location will be at the Faraway Ranch\, just past the entrance gate about 1/2 mile.  Follow signs in the park for public parking. The event is free of charge\, no reservations are required. Please try to use red light flashlights and minimize white light (to include cell phones) that will hinder your night vision. \n\n\n\nChiricahua National Monument website: https://www.nps.gov/chir/index.htm.Weather dependent — Follow the event on the TAAA Facebook page to get weather and other updates: https://www.facebook.com/TucsonAstronomy/. \n\n\n\nCheck back here or on our Facebook page closer to the event for any updates.
URL:https://tucsonastronomy.org/event/stargazing-at-chiricahua-national-monument-6/
LOCATION:Chiricahua National Monument\, 12856 E Rhyolite Creek Rd\, Willcox\, AZ\, 85643\, United States
CATEGORIES:Star Parties
ORGANIZER;CN="Bernie Stinger":MAILTO:astronomy-events@tucsonastronomy.org
END:VEVENT
BEGIN:VEVENT
DTSTART;TZID=America/Phoenix:20260327T193000
DTEND;TZID=America/Phoenix:20260327T213000
DTSTAMP:20260423T114018
CREATED:20260204T210513Z
LAST-MODIFIED:20260327T231939Z
UID:15891-1774639800-1774647000@tucsonastronomy.org
SUMMARY:Stargazing @ Canoa Ranch
DESCRIPTION:Sorry\, but this event has been cancelled. \n\n\n\nJoin the Tucson Amateur Astronomy Association (TAAA) and Pima County Conservation Lands and Resources (CLR) for some stargazing at Historic Canoa Ranch. \n\n\n\nOur volunteer astronomers with their telescopes will observe planets\, star clusters\, multiple star systems\, nebulae\, galaxies\, and lots more. \n\n\n\nWeather dependent. For real-time updates\, follow this event on the Tucson Amateur Astronomy Association Facebook Events Page: Tucson Amateur Astronomy Association | Facebook \n\n\n\nFREE but REGISTRATION IS REQUIRED Go to this link to register: https://www.explore.pima.gov/pima/programs and click on the “Environmental Education” square to select. Then use “Stargazing” as a Keyword.These events fill up quickly.
URL:https://tucsonastronomy.org/event/stargazing-canoa-ranch-9/
LOCATION:Canoa Ranch\, 5375 S I-19 Frontage Road\, Green Valley\, AZ\, 85622\, United States
CATEGORIES:Star Parties
ORGANIZER;CN="Bernie Stinger":MAILTO:astronomy-events@tucsonastronomy.org
END:VEVENT
BEGIN:VEVENT
DTSTART;TZID=America/Phoenix:20260327T193000
DTEND;TZID=America/Phoenix:20260327T213000
DTSTAMP:20260423T114018
CREATED:20260204T211012Z
LAST-MODIFIED:20260204T211013Z
UID:15893-1774639800-1774647000@tucsonastronomy.org
SUMMARY:Stargazing at Saguaro National Park – East Side – Venue change
DESCRIPTION:Star Party – Saguaro National Park – East SideNow at their Desert Learning Center \n\n\n\n12661 E Broadway Blvd\, Tucson\, AZ 85730Map Coordinates: 32.22239965337127\, -110.72231843802784Drive to the end of Broadway Blvd\, parking is limited along roadside. Guides will give directions\, short walk to site. \n\n\n\nGreat dark skies on the East side of Tucson at Saguaro National Park – East Side’s Desert Learning Center. Please do not go to the National Park entrance\, it will be closed due to construction.Star Party is open to the Public. Event is free but NPS admission fees apply. \n\n\n\nThe Tucson Amateur Astronomy Association will have several telescopes for astronomical viewing. We will observe Planets\, Nebulae\, Galaxies\, Star Clusters and lots more.Great opportunity to look through a variety of telescopes. \n\n\n\nWeather dependent. For real-time updates\, follow this event on the Tucson Amateur Astronomy Association Facebook Events Page: Tucson Amateur Astronomy Association | Facebook
URL:https://tucsonastronomy.org/event/stargazing-at-saguaro-national-park-east-side-venue-change/
LOCATION:Saguaro National Park EAST\, 3693 S Old Spanish Trail\, Tucson\, AZ\, 85730\, United States
CATEGORIES:Star Parties
ORGANIZER;CN="Bernie Stinger":MAILTO:astronomy-events@tucsonastronomy.org
END:VEVENT
END:VCALENDAR