BEGIN:VCALENDAR
VERSION:2.0
PRODID:-//Tucson Amateur Astronomy Association - ECPv6.15.20//NONSGML v1.0//EN
CALSCALE:GREGORIAN
METHOD:PUBLISH
X-ORIGINAL-URL:https://tucsonastronomy.org
X-WR-CALDESC:Events for Tucson Amateur Astronomy Association
REFRESH-INTERVAL;VALUE=DURATION:PT1H
X-Robots-Tag:noindex
X-PUBLISHED-TTL:PT1H
BEGIN:VTIMEZONE
TZID:America/Phoenix
BEGIN:STANDARD
TZOFFSETFROM:-0700
TZOFFSETTO:-0700
TZNAME:MST
DTSTART:20230101T000000
END:STANDARD
END:VTIMEZONE
BEGIN:VEVENT
DTSTART;TZID=America/Phoenix:20240405T193000
DTEND;TZID=America/Phoenix:20240405T213000
DTSTAMP:20260424T160314
CREATED:20240221T222644Z
LAST-MODIFIED:20240221T222644Z
UID:11369-1712345400-1712352600@tucsonastronomy.org
SUMMARY:Stargazing at Tucson Mountain Park – Juan Santa Cruz Picnic Area
DESCRIPTION:Star Party @ Tucson Mountain Park – Juan Santa Cruz Picnic Area\nTucson\, AZ (right next to Sonoran Desert Museum) \nViewing Location: Small side loop on East side of main loop.\nInformation: Great dark skies in Western Tucson.  Star Party open to the Public.  Cost: FREE. \nTucson Amateur Astronomy Association will have several telescopes for astronomical viewing.  We will observe Planets\, Nebulae\, Galaxies\, Star Clusters and lots more.  Great opportunity to look through a variety of telescopes.  Weather dependent.\nFor real-time updates\, follow this event on the Tucson Amateur Astronomy Association Facebook Events Page: TAAA Facebook Events page \nFREE but REGISTRATION IS REQUIRED. Go to this link to register:  https://bit.ly/ticketsEE\nThese events may fill up early.
URL:https://tucsonastronomy.org/event/stargazing-at-tucson-mountain-park-juan-santa-cruz-picnic-area-2/
LOCATION:Juan Santa Cruz Picnic Area\, 2000 N Kinney Road\, Tucson\, AZ\, 85743\, United States
ORGANIZER;CN="Bernie Stinger":MAILTO:astronomy-events@tucsonastronomy.org
END:VEVENT
BEGIN:VEVENT
DTSTART;TZID=America/Phoenix:20240412T193000
DTEND;TZID=America/Phoenix:20240412T213000
DTSTAMP:20260424T160314
CREATED:20240221T223603Z
LAST-MODIFIED:20240221T223603Z
UID:11372-1712950200-1712957400@tucsonastronomy.org
SUMMARY:Stargazing at Chiricahua National Monument
DESCRIPTION:Join TAAA for an evening of stargazing to view amazing solar system and deep sky objects from a truly Dark Sky Park. You will see planets\, nebulae\, star clusters\, double stars\, galaxies millions of light years away\, and lots more. We will have several telescopes for public viewing. \nObserving location will be at the Faraway Ranch parking lot just past the entrance gate about 1/2 mile.  Please try to use red light flashlights and minimize white light (to include cell phones) that will hinder your night vision. \nChiricahua National Monument website: https://www.nps.gov/chir/index.htm.\nWeather dependent — Follow the event on the TAAA Facebook page to get weather and other updates: https://www.facebook.com/TucsonAstronomy/. \nCheck back here or on our Facebook page closer to the event for any updates.
URL:https://tucsonastronomy.org/event/stargazing-at-chiricahua-national-monument/
LOCATION:Chiricahua National Monument\, 12856 E Rhyolite Creek Rd\, Willcox\, AZ\, 85643\, United States
ORGANIZER;CN="Bernie Stinger":MAILTO:astronomy-events@tucsonastronomy.org
END:VEVENT
BEGIN:VEVENT
DTSTART;TZID=America/Phoenix:20240413T193000
DTEND;TZID=America/Phoenix:20240413T213000
DTSTAMP:20260424T160314
CREATED:20240221T224144Z
LAST-MODIFIED:20240221T224144Z
UID:11376-1713036600-1713043800@tucsonastronomy.org
SUMMARY:Stargazing at Oracle State Park
DESCRIPTION:Viewing Location: Kannally Ranch House  \n\nStar Party telescope viewing (7:30 – 9:30pm)\n\nInformation: Great dark skies just north of Tucson at Oracle State Park.\nStar Party open to the Public. Admission fees for entrance into Oracle State Park apply. \nTucson Amateur Astronomy Association will have several telescopes for astronomical viewing. We will be observing the Moon + Planets\, Nebulae\, Galaxies\, and Star Clusters.\nGreat opportunity to look through a wide variety of telescopes. Weather dependent. \nFor real-time updates\, follow this event on the Tucson Amateur Astronomy Association Facebook event page:  TAAA Facebook Events page \nAlso: Check the Oracle State Park website for additional information and activities that day:\nStar Party at Oracle State Park | Oracle State Park (azstateparks.com)
URL:https://tucsonastronomy.org/event/stargazing-at-oracle-state-park-5/
LOCATION:Oracle State Park\, 3820 E Wildlife Dr.\, Oracle\, AZ\, 85623\, United States
ORGANIZER;CN="Bernie Stinger":MAILTO:astronomy-events@tucsonastronomy.org
END:VEVENT
BEGIN:VEVENT
DTSTART;TZID=America/Phoenix:20240427T193000
DTEND;TZID=America/Phoenix:20240427T213000
DTSTAMP:20260424T160314
CREATED:20240221T225056Z
LAST-MODIFIED:20240221T225056Z
UID:11384-1714246200-1714253400@tucsonastronomy.org
SUMMARY:Stargazing at Agua Caliente Park
DESCRIPTION:Viewing Location:  Bus Lanes @ North end of Parking Lot\nInformation: Great dark skies in Northeast Tucson.  Star Party open to the Public.  Cost: FREE. \nTucson Amateur Astronomy Association will have several telescopes for astronomical viewing.  We will observe Planets\, Nebulae\, Galaxies\, Star Clusters and lots more.  Great opportunity to look through a variety of telescopes. \nPark gate may close before event end time\, so arrive as close to start time as possible. Weather dependent.\nFor real-time updates\, follow this event on the Tucson Amateur Astronomy Association Facebook Events Page: (https://www.facebook.com/TucsonAstronomy/). \nFREE but REGISTRATION IS REQUIRED. go to: https://bit.ly/ticketsEE\nThese events fill up fast so recommend registering early.
URL:https://tucsonastronomy.org/event/stargazing-at-agua-caliente-park-3/
LOCATION:Agua Caliente Park\, 12325 E Roger Rd\, Tucson\, AZ\, 85749\, United States
ORGANIZER;CN="Bernie Stinger":MAILTO:astronomy-events@tucsonastronomy.org
END:VEVENT
END:VCALENDAR