BEGIN:VCALENDAR
VERSION:2.0
PRODID:-//Tucson Amateur Astronomy Association - ECPv6.15.20//NONSGML v1.0//EN
CALSCALE:GREGORIAN
METHOD:PUBLISH
X-ORIGINAL-URL:https://tucsonastronomy.org
X-WR-CALDESC:Events for Tucson Amateur Astronomy Association
REFRESH-INTERVAL;VALUE=DURATION:PT1H
X-Robots-Tag:noindex
X-PUBLISHED-TTL:PT1H
BEGIN:VTIMEZONE
TZID:America/Phoenix
BEGIN:STANDARD
TZOFFSETFROM:-0700
TZOFFSETTO:-0700
TZNAME:MST
DTSTART:20210101T000000
END:STANDARD
END:VTIMEZONE
BEGIN:VEVENT
DTSTART;TZID=America/Phoenix:20220402T190000
DTEND;TZID=America/Phoenix:20220402T210000
DTSTAMP:20260425T213249
CREATED:20210805T164100Z
LAST-MODIFIED:20220315T220050Z
UID:6268-1648926000-1648933200@tucsonastronomy.org
SUMMARY:Chiricahua National Monument Stargazing
DESCRIPTION:TAAA Stargazing to view amazing solar system and deep sky objects from a Dark Sky Park. You will see the planet Uranus\, nebulae\, star clusters\, double stars\, galaxies millions of light years away\, and lots more. We will have several telescopes for public viewing. Observing location will be at Faraway Ranch just inside the entrance gate.  Please try to use red light flashlights and minimize white light (to include cell phones) that will hinder your night vision. Chiricahua National Monument website: https://www.nps.gov/chir/index.htm.  Weather dependent — Follow the event on the TAAA Facebook page to get weather and other updates: https://www.facebook.com/TucsonAstronomy/. \nCheck back here or on Facebook closer to the event for any updates.
URL:https://tucsonastronomy.org/event/chiricahua-national-monument-stargazing-4/
LOCATION:Chiricahua National Monument\, 12856 E Rhyolite Creek Rd\, Willcox\, AZ\, 85643\, United States
CATEGORIES:Star Parties
END:VEVENT
BEGIN:VEVENT
DTSTART;TZID=America/Phoenix:20220409T150000
DTEND;TZID=America/Phoenix:20220409T210000
DTSTAMP:20260425T213249
CREATED:20210805T164711Z
LAST-MODIFIED:20220330T042950Z
UID:6274-1649516400-1649538000@tucsonastronomy.org
SUMMARY:Tucson Astronomy Festival
DESCRIPTION:Tucson Astronomy Festival at Brandi Fenton Memorial Park\nTelescopes\, Exhibits\, Fun!\n\n\n\n\nBrandi Fenton Memorial Park Ramada \n\n\n\n\n\n\n\n\n\nASTRONOMY FESTIVAL SCHEDULE\nHands-On Exhibits for Kids 3 to 6:30 PM\nSafe Solar viewing of the Sun 3 to 6:30 PM\nDoor Prizes will be given away at 7 PM – winners must be present\nYouth under 17 Grand Prize: Tabletop Telescope\nOther prizes for the entire family\nNight Sky Viewing 7:30 PM to 9 PM\nKid-Friendly Scope viewing throughout the evening\n\nNo charge for any activities\, donations will be accepted.\nBring your own telescope for help setting it up and operating the scope.
URL:https://tucsonastronomy.org/event/astronomy-festival-5/
LOCATION:Brandi Fenton Park\, 3482 E River Rd\, Tucson\, AZ\, 85718\, United States
CATEGORIES:Star Parties
END:VEVENT
BEGIN:VEVENT
DTSTART;TZID=America/Phoenix:20220422T200000
DTEND;TZID=America/Phoenix:20220422T220000
DTSTAMP:20260425T213249
CREATED:20210805T163001Z
LAST-MODIFIED:20220315T224022Z
UID:6256-1650657600-1650664800@tucsonastronomy.org
SUMMARY:Virtual Stargazing
DESCRIPTION:Join Tucson Amateur Astronomy Association for a Virtual tour of the Night Sky. We will explore planets\, Nebulae\, Star Clusters\, Galaxies\, and much more using cameras connected to telescopes. The event will be streamed to our Facebook Page (TAAA Facebook). You can follow our Facebook event for any weather and other updates. FREE. \nCheck Facebook or back here closer to the event for any updates.
URL:https://tucsonastronomy.org/event/virtual-stargazing-2/
LOCATION:ONLINE
CATEGORIES:Star Parties
END:VEVENT
BEGIN:VEVENT
DTSTART;TZID=America/Phoenix:20220423T190000
DTEND;TZID=America/Phoenix:20220423T210000
DTSTAMP:20260425T213249
CREATED:20210805T163526Z
LAST-MODIFIED:20220315T220950Z
UID:6262-1650740400-1650747600@tucsonastronomy.org
SUMMARY:Oracle State Park Stargazing
DESCRIPTION:Star Party-Oracle State Park\nTucson\, AZ\nViewing Location: Kannally Ranch House\nInformation: Great dark skies at one of America’s Dark Sky Parks just north of Tucson at Oracle State Park.  Star Party open to the Public.  Admission cost for entrance into Oracle State Park may apply.  Tucson Amateur Astronomy Association will have several telescopes for astronomical viewing.  We will observe Planets\, Nebulae\, Galaxies\, Star Clusters and lots more.  Great opportunity to look through a wide variety of telescopes.  Weather dependent.  For real-time updates\, follow this event on the Tucson Amateur Astronomy Association Facebook Events Page (https://www.facebook.com/TucsonAstronomy/). There is generally a talk and other events also taking place. Check the Oracle State Park website for additional information. Check TAAA Facebook Page or here for any updates as we get closer.
URL:https://tucsonastronomy.org/event/oracle-state-park-stargazing-2/
LOCATION:Oracle State Park\, 3820 E Wildlife Dr.\, Oracle\, AZ\, 85623\, United States
CATEGORIES:Star Parties
END:VEVENT
BEGIN:VEVENT
DTSTART;TZID=America/Phoenix:20220423T190000
DTEND;TZID=America/Phoenix:20220423T213000
DTSTAMP:20260425T213249
CREATED:20210805T165209Z
LAST-MODIFIED:20220403T222214Z
UID:6276-1650740400-1650749400@tucsonastronomy.org
SUMMARY:Evening Under the Stars
DESCRIPTION:Evening Under the Stars Observing at the Tucson Amateur Astronomy Association (TAAA) Chiricahua Astronomy Complex. Want to stargaze from a dark site where the band of the Milky Way is clearly visible across the sky? You see so many stars it is hard to pick out the constellations. Twice per year\, we open our TAAA Chiricahua Astronomy Complex (Turkey Creek area near Chiricahua National Monument) to the public for an observing session. You can observe through a telescope with a 40″ mirror and see galaxies over 100 million light years away. We will have several large telescopes to observe with. \nOur Spring “Evening Under the Stars” will be Saturday April 23rd 2022. The gate will be open at 7 pm with activities starting 7:30 pm. Come join us for an exciting evening of astronomical observing. The site is about 90 minutes SE of Tucson near the Chiricahua National Monument. If you have friends/family that live in that area\, let them know. The event is weather dependent. Reservations are required. Please email John Kalas at jckalas[at]cox.net for reservations and directions. Please include number of people & vehicles in your group. Space is limited. \nThe nebulosity associated with M45 is not the progenitor of the cluster. Instead\, it is a nebula through which M45 is passing.NASA Image\, Robert Gendler
URL:https://tucsonastronomy.org/event/evening-under-the-stars-3/
LOCATION:Chiricahua Astronomy Complex\, 9315 E Perseus Way\, Pearce\, AZ\, 85625\, United States
CATEGORIES:Star Parties
END:VEVENT
END:VCALENDAR