BEGIN:VCALENDAR
VERSION:2.0
PRODID:-//Tucson Amateur Astronomy Association - ECPv6.15.20//NONSGML v1.0//EN
CALSCALE:GREGORIAN
METHOD:PUBLISH
X-WR-CALNAME:Tucson Amateur Astronomy Association
X-ORIGINAL-URL:https://tucsonastronomy.org
X-WR-CALDESC:Events for Tucson Amateur Astronomy Association
REFRESH-INTERVAL;VALUE=DURATION:PT1H
X-Robots-Tag:noindex
X-PUBLISHED-TTL:PT1H
BEGIN:VTIMEZONE
TZID:America/Phoenix
BEGIN:STANDARD
TZOFFSETFROM:-0700
TZOFFSETTO:-0700
TZNAME:MST
DTSTART:20230101T000000
END:STANDARD
END:VTIMEZONE
BEGIN:VEVENT
DTSTART;TZID=America/Phoenix:20240914T193000
DTEND;TZID=America/Phoenix:20240914T213000
DTSTAMP:20260424T121140
CREATED:20240815T232023Z
LAST-MODIFIED:20240815T232023Z
UID:12605-1726342200-1726349400@tucsonastronomy.org
SUMMARY:Stargazing at Oracle State Park
DESCRIPTION:Viewing Location: Kannally Ranch House  \n\nStar Party telescope viewing (7:30 – 9:30pm)\n\nInformation: Great dark skies just north of Tucson at Oracle State Park.\n3820 E Wildlife Dr.\, Oracle\, AZ 85623\nStar Party open to the Public. Admission fees for entrance into Oracle State Park apply. \nTucson Amateur Astronomy Association will have several telescopes for astronomical viewing. We will be observing the Moon + Planets\, Nebulae\, Galaxies\, and Star Clusters.\nGreat opportunity to look through a wide variety of telescopes. Weather dependent. \nFor real-time updates\, follow this event on the Tucson Amateur Astronomy Association Facebook event page:  TAAA Facebook Events page \nAlso: Check the Oracle State Park website for additional information and activities that day:\nStar Party at Oracle State Park | Oracle State Park (azstateparks.com)
URL:https://tucsonastronomy.org/event/stargazing-at-oracle-state-park-7/
LOCATION:Oracle State Park\, 3820 E Wildlife Dr.\, Oracle\, AZ\, 85623\, United States
ORGANIZER;CN="Bernie Stinger":MAILTO:astronomy-events@tucsonastronomy.org
END:VEVENT
END:VCALENDAR