BEGIN:VCALENDAR
VERSION:2.0
PRODID:-//Tucson Amateur Astronomy Association - ECPv6.15.20//NONSGML v1.0//EN
CALSCALE:GREGORIAN
METHOD:PUBLISH
X-WR-CALNAME:Tucson Amateur Astronomy Association
X-ORIGINAL-URL:https://tucsonastronomy.org
X-WR-CALDESC:Events for Tucson Amateur Astronomy Association
REFRESH-INTERVAL;VALUE=DURATION:PT1H
X-Robots-Tag:noindex
X-PUBLISHED-TTL:PT1H
BEGIN:VTIMEZONE
TZID:America/Phoenix
BEGIN:STANDARD
TZOFFSETFROM:-0700
TZOFFSETTO:-0700
TZNAME:MST
DTSTART:20220101T000000
END:STANDARD
END:VTIMEZONE
BEGIN:VEVENT
DTSTART;TZID=America/Phoenix:20230317T190000
DTEND;TZID=America/Phoenix:20230317T210000
DTSTAMP:20260425T081944
CREATED:20230122T154420Z
LAST-MODIFIED:20230122T154420Z
UID:8396-1679079600-1679086800@tucsonastronomy.org
SUMMARY:Stargazing at Saguaro NP - East
DESCRIPTION:Star Party – Saguaro National Park – East\nTucson\, AZ \nGreat dark skies on the East side of Tucson at Saguaro National Park – East.\nStar Party is open to the Public.\nThe Tucson Amateur Astronomy Association will have several telescopes for astronomical viewing.  We will observe Planets\, Nebulae\, Galaxies\, Star Clusters and lots more.  Great opportunity to look through a variety of telescopes.  Weather dependent.  For real-time updates\, follow this event on the Tucson Amateur Astronomy Association Facebook Events Page (https://www.facebook.com/TucsonAstronomy/).
URL:https://tucsonastronomy.org/event/stargazing-at-saguaro-np-east/
LOCATION:Saguaro National Park EAST\, 3693 S Old Spanish Trail\, Tucson\, AZ\, 85730\, United States
ORGANIZER;CN="Bernie Stinger":MAILTO:astronomy-events@tucsonastronomy.org
END:VEVENT
BEGIN:VEVENT
DTSTART;TZID=America/Phoenix:20230321T193000
DTEND;TZID=America/Phoenix:20230321T210000
DTSTAMP:20260425T081944
CREATED:20230208T021253Z
LAST-MODIFIED:20230322T054913Z
UID:8470-1679427000-1679432400@tucsonastronomy.org
SUMMARY:Stargazing @ Tumacacori National Historical Park
DESCRIPTION:Event cancelled due to cloud cover \nStarry Night in the Park – Tumacacori National Historical Park\nTumacacori\, AZ \nThe Tucson Amateur Astronomy Association will have several telescopes for astronomical viewing.  We will observe Planets\, Nebulae\, Galaxies\, Star Clusters and lots more.  Great opportunity to look through a variety of telescopes. \nVery dark skies in a rural setting with no city lights!\nStar Party is open to the Public.  Park entrance fees apply. \nWeather dependent.  For real-time updates\, follow this event on the Tucson Amateur Astronomy Association Facebook Events Page (https://www.facebook.com/TucsonAstronomy/).
URL:https://tucsonastronomy.org/event/stargazing-tumacacori-national-historical-park/
LOCATION:Tumacacori National Historical Park\, 1891 E Frontage Rd\, Tumacacori\, AZ\, 85640\, United States
ORGANIZER;CN="Bernie Stinger":MAILTO:astronomy-events@tucsonastronomy.org
END:VEVENT
END:VCALENDAR