BEGIN:VCALENDAR
VERSION:2.0
PRODID:-//Tucson Amateur Astronomy Association - ECPv6.15.20//NONSGML v1.0//EN
CALSCALE:GREGORIAN
METHOD:PUBLISH
X-ORIGINAL-URL:https://tucsonastronomy.org
X-WR-CALDESC:Events for Tucson Amateur Astronomy Association
REFRESH-INTERVAL;VALUE=DURATION:PT1H
X-Robots-Tag:noindex
X-PUBLISHED-TTL:PT1H
BEGIN:VTIMEZONE
TZID:America/Phoenix
BEGIN:STANDARD
TZOFFSETFROM:-0700
TZOFFSETTO:-0700
TZNAME:MST
DTSTART:20250101T000000
END:STANDARD
END:VTIMEZONE
BEGIN:VEVENT
DTSTART;TZID=America/Phoenix:20260104T130000
DTEND;TZID=America/Phoenix:20260104T150000
DTSTAMP:20260423T153738
CREATED:20251207T193122Z
LAST-MODIFIED:20251207T193123Z
UID:15515-1767531600-1767538800@tucsonastronomy.org
SUMMARY:Solar Telescope Observing @ Saguaro NP – East
DESCRIPTION:Join the Tucson Amateur Astronomy Association (TAAA) and Saguaro National Park – East for some Sun gazing at the park. We will observe the Sun through telescopes with appropriate filters so you will get to see sunspots\, prominences\, flares\, and more.The Sun is at its peak in the sunspot cycle so there is LOTS of activity on its surface. \n\n\n\nThis event is FREE and open to the public\, no reservations required.  NPS admission fees apply. \n\n\n\nThe telescopes will be set up at the Bicycle Ramada next to\, or at\, the Visitors Center.This event will most likely be canceled in the event of clouds/rain.
URL:https://tucsonastronomy.org/event/solar-telescope-observing-saguaro-np-east-8/
LOCATION:Saguaro National Park EAST\, 3693 S Old Spanish Trail\, Tucson\, AZ\, 85730\, United States
CATEGORIES:Star Parties
ORGANIZER;CN="Bernie Stinger":MAILTO:astronomy-events@tucsonastronomy.org
END:VEVENT
END:VCALENDAR