BEGIN:VCALENDAR
VERSION:2.0
PRODID:-//Tucson Amateur Astronomy Association - ECPv6.15.20//NONSGML v1.0//EN
CALSCALE:GREGORIAN
METHOD:PUBLISH
X-WR-CALNAME:Tucson Amateur Astronomy Association
X-ORIGINAL-URL:https://tucsonastronomy.org
X-WR-CALDESC:Events for Tucson Amateur Astronomy Association
REFRESH-INTERVAL;VALUE=DURATION:PT1H
X-Robots-Tag:noindex
X-PUBLISHED-TTL:PT1H
BEGIN:VTIMEZONE
TZID:America/Phoenix
BEGIN:STANDARD
TZOFFSETFROM:-0700
TZOFFSETTO:-0700
TZNAME:MST
DTSTART:20240101T000000
END:STANDARD
END:VTIMEZONE
BEGIN:VEVENT
DTSTART;TZID=America/Phoenix:20251031T183000
DTEND;TZID=America/Phoenix:20251031T203000
DTSTAMP:20260423T172811
CREATED:20250911T193455Z
LAST-MODIFIED:20250911T193456Z
UID:14944-1761935400-1761942600@tucsonastronomy.org
SUMMARY:Stargazing @ Canoa Ranch
DESCRIPTION:Join the Tucson Amateur Astronomy Association (TAAA) and Pima County Conservation Lands and Resources (CLR) for some stargazing at Historic Canoa Ranch. \n\n\n\nWe will observe planets\, star clusters\, multiple star systems\, nebulae\, galaxies\, and lots more. \n\n\n\nWeather dependent. For real-time updates\, follow this event on the Tucson Amateur Astronomy Association Facebook Events Page: Tucson Amateur Astronomy Association | Facebook \n\n\n\nFREE but REGISTRATION IS REQUIRED    Go to this link to register: https://www.explore.pima.gov/pima/programs and click on the “Outdoors” square to select.These events fill up quickly.
URL:https://tucsonastronomy.org/event/stargazing-canoa-ranch-7/
LOCATION:Canoa Ranch\, 5375 S I-19 Frontage Road\, Green Valley\, AZ\, 85622\, United States
CATEGORIES:Star Parties
ORGANIZER;CN="Bernie Stinger":MAILTO:astronomy-events@tucsonastronomy.org
END:VEVENT
END:VCALENDAR