BEGIN:VCALENDAR
VERSION:2.0
PRODID:-//Tucson Amateur Astronomy Association - ECPv6.15.20//NONSGML v1.0//EN
CALSCALE:GREGORIAN
METHOD:PUBLISH
X-WR-CALNAME:Tucson Amateur Astronomy Association
X-ORIGINAL-URL:https://tucsonastronomy.org
X-WR-CALDESC:Events for Tucson Amateur Astronomy Association
REFRESH-INTERVAL;VALUE=DURATION:PT1H
X-Robots-Tag:noindex
X-PUBLISHED-TTL:PT1H
BEGIN:VTIMEZONE
TZID:America/Phoenix
BEGIN:STANDARD
TZOFFSETFROM:-0700
TZOFFSETTO:-0700
TZNAME:MST
DTSTART:20220101T000000
END:STANDARD
END:VTIMEZONE
BEGIN:VEVENT
DTSTART;TZID=America/Phoenix:20230422T193000
DTEND;TZID=America/Phoenix:20230422T213000
DTSTAMP:20260425T082030
CREATED:20221210T180035Z
LAST-MODIFIED:20230310T174329Z
UID:8216-1682191800-1682199000@tucsonastronomy.org
SUMMARY:Oracle State Park
DESCRIPTION:Star Party-Oracle State Park\nTucson\, AZ\nViewing Location: Kannally Ranch House\nInformation: Great dark skies just north of Tucson at Oracle State Park.  Star Party open to the Public.  Admission cost for entrance into Oracle State Park may apply.  Tucson Amateur Astronomy Association will have several telescopes for astronomical viewing.  We will observe Planets\, Nebulae\, Galaxies\, Star Clusters and lots more.  Great opportunity to look through a wide variety of telescopes.  Weather dependent. \nFor real-time updates\, follow this event on the Tucson Amateur Astronomy Association Facebook Events Page (https://www.facebook.com/TucsonAstronomy/). There is generally a talk and other events also taking place. Check the Oracle State Park website for additional information. Check TAAA Facebook Page or here for any updates as we get closer.
URL:https://tucsonastronomy.org/event/oracle-state-park-2/
LOCATION:Oracle State Park\, 3820 E Wildlife Dr.\, Oracle\, AZ\, 85623\, United States
ORGANIZER;CN="Bernie Stinger":MAILTO:astronomy-events@tucsonastronomy.org
END:VEVENT
BEGIN:VEVENT
DTSTART;TZID=America/Phoenix:20230422T193000
DTEND;TZID=America/Phoenix:20230422T213000
DTSTAMP:20260425T082030
CREATED:20230208T022753Z
LAST-MODIFIED:20230404T230527Z
UID:8474-1682191800-1682199000@tucsonastronomy.org
SUMMARY:Stargazing @ Saguaro NP – East
DESCRIPTION:Star Party – Saguaro National Park – East\nTucson\, AZ \nGreat dark skies on the East side of Tucson at Saguaro National Park – East.\nStar Party is open to the Public.  Event is free but NPS admission fees apply.\nThe Tucson Amateur Astronomy Association will have several telescopes for astronomical viewing.  We will observe Planets\, Nebulae\, Galaxies\, Star Clusters and lots more.  Great opportunity to look through a variety of telescopes. \nWeather dependent.  For real-time updates\, follow this event on the Tucson Amateur Astronomy Association Facebook Events Page: (https://www.facebook.com/TucsonAstronomy/).
URL:https://tucsonastronomy.org/event/stargazing-saguaro-np-east-2/
LOCATION:Saguaro National Park EAST\, 3693 S Old Spanish Trail\, Tucson\, AZ\, 85730\, United States
ORGANIZER;CN="Bernie Stinger":MAILTO:astronomy-events@tucsonastronomy.org
END:VEVENT
END:VCALENDAR