BEGIN:VCALENDAR
VERSION:2.0
PRODID:-//Tucson Amateur Astronomy Association - ECPv6.15.20//NONSGML v1.0//EN
CALSCALE:GREGORIAN
METHOD:PUBLISH
X-WR-CALNAME:Tucson Amateur Astronomy Association
X-ORIGINAL-URL:https://tucsonastronomy.org
X-WR-CALDESC:Events for Tucson Amateur Astronomy Association
REFRESH-INTERVAL;VALUE=DURATION:PT1H
X-Robots-Tag:noindex
X-PUBLISHED-TTL:PT1H
BEGIN:VTIMEZONE
TZID:America/Phoenix
BEGIN:STANDARD
TZOFFSETFROM:-0700
TZOFFSETTO:-0700
TZNAME:MST
DTSTART:20210101T000000
END:STANDARD
END:VTIMEZONE
BEGIN:VEVENT
DTSTART;TZID=America/Phoenix:20220423T190000
DTEND;TZID=America/Phoenix:20220423T210000
DTSTAMP:20260425T210016
CREATED:20210805T163526Z
LAST-MODIFIED:20220315T220950Z
UID:6262-1650740400-1650747600@tucsonastronomy.org
SUMMARY:Oracle State Park Stargazing
DESCRIPTION:Star Party-Oracle State Park\nTucson\, AZ\nViewing Location: Kannally Ranch House\nInformation: Great dark skies at one of America’s Dark Sky Parks just north of Tucson at Oracle State Park.  Star Party open to the Public.  Admission cost for entrance into Oracle State Park may apply.  Tucson Amateur Astronomy Association will have several telescopes for astronomical viewing.  We will observe Planets\, Nebulae\, Galaxies\, Star Clusters and lots more.  Great opportunity to look through a wide variety of telescopes.  Weather dependent.  For real-time updates\, follow this event on the Tucson Amateur Astronomy Association Facebook Events Page (https://www.facebook.com/TucsonAstronomy/). There is generally a talk and other events also taking place. Check the Oracle State Park website for additional information. Check TAAA Facebook Page or here for any updates as we get closer.
URL:https://tucsonastronomy.org/event/oracle-state-park-stargazing-2/
LOCATION:Oracle State Park\, 3820 E Wildlife Dr.\, Oracle\, AZ\, 85623\, United States
CATEGORIES:Star Parties
END:VEVENT
BEGIN:VEVENT
DTSTART;TZID=America/Phoenix:20220423T190000
DTEND;TZID=America/Phoenix:20220423T213000
DTSTAMP:20260425T210016
CREATED:20210805T165209Z
LAST-MODIFIED:20220403T222214Z
UID:6276-1650740400-1650749400@tucsonastronomy.org
SUMMARY:Evening Under the Stars
DESCRIPTION:Evening Under the Stars Observing at the Tucson Amateur Astronomy Association (TAAA) Chiricahua Astronomy Complex. Want to stargaze from a dark site where the band of the Milky Way is clearly visible across the sky? You see so many stars it is hard to pick out the constellations. Twice per year\, we open our TAAA Chiricahua Astronomy Complex (Turkey Creek area near Chiricahua National Monument) to the public for an observing session. You can observe through a telescope with a 40″ mirror and see galaxies over 100 million light years away. We will have several large telescopes to observe with. \nOur Spring “Evening Under the Stars” will be Saturday April 23rd 2022. The gate will be open at 7 pm with activities starting 7:30 pm. Come join us for an exciting evening of astronomical observing. The site is about 90 minutes SE of Tucson near the Chiricahua National Monument. If you have friends/family that live in that area\, let them know. The event is weather dependent. Reservations are required. Please email John Kalas at jckalas[at]cox.net for reservations and directions. Please include number of people & vehicles in your group. Space is limited. \nThe nebulosity associated with M45 is not the progenitor of the cluster. Instead\, it is a nebula through which M45 is passing.NASA Image\, Robert Gendler
URL:https://tucsonastronomy.org/event/evening-under-the-stars-3/
LOCATION:Chiricahua Astronomy Complex\, 9315 E Perseus Way\, Pearce\, AZ\, 85625\, United States
CATEGORIES:Star Parties
END:VEVENT
END:VCALENDAR