BEGIN:VCALENDAR
VERSION:2.0
PRODID:-//Tucson Amateur Astronomy Association - ECPv6.15.20//NONSGML v1.0//EN
CALSCALE:GREGORIAN
METHOD:PUBLISH
X-ORIGINAL-URL:https://tucsonastronomy.org
X-WR-CALDESC:Events for Tucson Amateur Astronomy Association
REFRESH-INTERVAL;VALUE=DURATION:PT1H
X-Robots-Tag:noindex
X-PUBLISHED-TTL:PT1H
BEGIN:VTIMEZONE
TZID:America/Phoenix
BEGIN:STANDARD
TZOFFSETFROM:-0700
TZOFFSETTO:-0700
TZNAME:MST
DTSTART:20220101T000000
END:STANDARD
END:VTIMEZONE
BEGIN:VEVENT
DTSTART;TZID=America/Phoenix:20231208T180000
DTEND;TZID=America/Phoenix:20231208T200000
DTSTAMP:20260424T205214
CREATED:20231029T201557Z
LAST-MODIFIED:20231029T201557Z
UID:10571-1702058400-1702065600@tucsonastronomy.org
SUMMARY:Stargazing at Saguaro NP – East
DESCRIPTION:Star Party – Saguaro National Park – East\nTucson\, AZ \nGreat dark skies on the East side of Tucson at Saguaro National Park – East.\nStar Party is open to the Public. Event is free but NPS admission fees apply. \nThe Tucson Amateur Astronomy Association will have several telescopes for astronomical viewing. We will observe Planets\, Nebulae\, Galaxies\, Star Clusters and lots more.\nGreat opportunity to look through a variety of telescopes. \nWeather dependent. For real-time updates\, follow this event on the Tucson Amateur Astronomy Association Facebook Events Page: (https://www.facebook.com/TucsonAstronomy/).
URL:https://tucsonastronomy.org/event/stargazing-at-saguaro-np-east-3/
LOCATION:Saguaro National Park EAST\, 3693 S Old Spanish Trail\, Tucson\, AZ\, 85730\, United States
CATEGORIES:Star Parties
ORGANIZER;CN="Bernie Stinger":MAILTO:astronomy-events@tucsonastronomy.org
END:VEVENT
BEGIN:VEVENT
DTSTART;TZID=America/Phoenix:20231209T180000
DTEND;TZID=America/Phoenix:20231209T200000
DTSTAMP:20260424T205214
CREATED:20231029T204622Z
LAST-MODIFIED:20231029T204622Z
UID:10575-1702144800-1702152000@tucsonastronomy.org
SUMMARY:Stargazing at Oracle State Park
DESCRIPTION:Viewing Location: Kannally Ranch House \nUgly sweater night. Wear your ugliest sweater and view the stars! \nInformation: Great dark skies just north of Tucson at Oracle State Park.\nStar Party open to the Public. Admission cost for entrance into Oracle State Park may apply. \nTucson Amateur Astronomy Association will have several telescopes for astronomical viewing. We will be observing the Moon\, Planets\, Nebulae\, Galaxies\, and Star Clusters.\nGreat opportunity to look through a wide variety of telescopes. Weather dependent. \nFor real-time updates\, follow this event on the Tucson Amateur Astronomy Association Facebook Events Page: (https://www.facebook.com/TucsonAstronomy/) \nAlso: Check the Oracle State Park website for additional information:\nUgly Sweater Star Party | Oracle State Park (azstateparks.com)
URL:https://tucsonastronomy.org/event/stargazing-at-oracle-state-park-2/
LOCATION:Oracle State Park\, 3820 E Wildlife Dr.\, Oracle\, AZ\, 85623\, United States
CATEGORIES:Star Parties
ORGANIZER;CN="Bernie Stinger":MAILTO:astronomy-events@tucsonastronomy.org
END:VEVENT
END:VCALENDAR