BEGIN:VCALENDAR
VERSION:2.0
PRODID:-//Tucson Amateur Astronomy Association - ECPv6.15.20//NONSGML v1.0//EN
CALSCALE:GREGORIAN
METHOD:PUBLISH
X-WR-CALNAME:Tucson Amateur Astronomy Association
X-ORIGINAL-URL:https://tucsonastronomy.org
X-WR-CALDESC:Events for Tucson Amateur Astronomy Association
REFRESH-INTERVAL;VALUE=DURATION:PT1H
X-Robots-Tag:noindex
X-PUBLISHED-TTL:PT1H
BEGIN:VTIMEZONE
TZID:America/Phoenix
BEGIN:STANDARD
TZOFFSETFROM:-0700
TZOFFSETTO:-0700
TZNAME:MST
DTSTART:20220101T000000
END:STANDARD
END:VTIMEZONE
BEGIN:VEVENT
DTSTART;TZID=America/Phoenix:20230617T200000
DTEND;TZID=America/Phoenix:20230617T220000
DTSTAMP:20260425T033802
CREATED:20230523T202101Z
LAST-MODIFIED:20230523T202101Z
UID:9117-1687032000-1687039200@tucsonastronomy.org
SUMMARY:Stargazing @ Oracle State Park
DESCRIPTION:Viewing Location: Kannally Ranch House \nInformation: Great dark skies just north of Tucson at Oracle State Park. Star Party open to the Public. Admission cost for entrance into Oracle State Park may apply. Tucson Amateur Astronomy Association will have several telescopes for astronomical viewing. We will observe Planets\, Nebulae\, Galaxies\, Star Clusters and lots more. Great opportunity to look through a wide variety of telescopes. Weather dependent. \nFor real-time updates\, follow this event on the Tucson Amateur Astronomy Association Facebook Events Page (https://www.facebook.com/TucsonAstronomy/). There is generally a talk and other events also taking place. Check the Oracle State Park website for additional information. Check TAAA Facebook Page or here for any updates as we get closer.
URL:https://tucsonastronomy.org/event/stargazing-oracle-state-park/
LOCATION:Oracle State Park\, 3820 E Wildlife Dr.\, Oracle\, AZ\, 85623\, United States
ORGANIZER;CN="Bernie Stinger":MAILTO:astronomy-events@tucsonastronomy.org
END:VEVENT
BEGIN:VEVENT
DTSTART;TZID=America/Phoenix:20230623T200000
DTEND;TZID=America/Phoenix:20230623T220000
DTSTAMP:20260425T033802
CREATED:20230501T033434Z
LAST-MODIFIED:20230501T033434Z
UID:8969-1687550400-1687557600@tucsonastronomy.org
SUMMARY:Stargazing @ Saguaro NP – East
DESCRIPTION:Star Party – Saguaro National Park – East\nTucson\, AZ \nGreat dark skies on the East side of Tucson at Saguaro National Park – East.\nStar Party is open to the Public.  Event is free but NPS admission fees apply.\nThe Tucson Amateur Astronomy Association will have several telescopes for astronomical viewing.  We will observe Planets\, Nebulae\, Galaxies\, Star Clusters and lots more.  Great opportunity to look through a variety of telescopes. \nWeather dependent.  For real-time updates\, follow this event on the Tucson Amateur Astronomy Association Facebook Events Page: (https://www.facebook.com/TucsonAstronomy/).
URL:https://tucsonastronomy.org/event/stargazing-saguaro-np-east-3/
LOCATION:Saguaro National Park EAST\, 3693 S Old Spanish Trail\, Tucson\, AZ\, 85730\, United States
ORGANIZER;CN="Bernie Stinger":MAILTO:astronomy-events@tucsonastronomy.org
END:VEVENT
END:VCALENDAR