BEGIN:VCALENDAR
VERSION:2.0
PRODID:-//Tucson Amateur Astronomy Association - ECPv6.15.20//NONSGML v1.0//EN
CALSCALE:GREGORIAN
METHOD:PUBLISH
X-WR-CALNAME:Tucson Amateur Astronomy Association
X-ORIGINAL-URL:https://tucsonastronomy.org
X-WR-CALDESC:Events for Tucson Amateur Astronomy Association
REFRESH-INTERVAL;VALUE=DURATION:PT1H
X-Robots-Tag:noindex
X-PUBLISHED-TTL:PT1H
BEGIN:VTIMEZONE
TZID:America/Phoenix
BEGIN:STANDARD
TZOFFSETFROM:-0700
TZOFFSETTO:-0700
TZNAME:MST
DTSTART:20220101T000000
END:STANDARD
END:VTIMEZONE
BEGIN:VEVENT
DTSTART;TZID=America/Phoenix:20230512T200000
DTEND;TZID=America/Phoenix:20230512T220000
DTSTAMP:20260425T044735
CREATED:20230310T175617Z
LAST-MODIFIED:20230310T180220Z
UID:8570-1683921600-1683928800@tucsonastronomy.org
SUMMARY:Virtual Stargazing - Watch at home
DESCRIPTION:Virtual Stargazing\n\nMay 12 @ 8:00 pm – 10:00 pm\n\n\n\nJoin Tucson Amateur Astronomy Association for a Virtual tour of the Night Sky. We will explore planets\, Nebulae\, Star Clusters\, Galaxies\, and much more using cameras connected to our telescopes with commentary about the objects from our operators. \nThe event will be streamed to our YouTube channel (TAAA YouTube). You can follow the event on our Facebook page for any weather and other updates and the link to our YouTube Channel. FREE. \nCheck out Facebook page or back here closer to the event for any updates.
URL:https://tucsonastronomy.org/event/8570/
LOCATION:Arizona
ORGANIZER;CN="Bernie Stinger":MAILTO:astronomy-events@tucsonastronomy.org
END:VEVENT
BEGIN:VEVENT
DTSTART;TZID=America/Phoenix:20230514T130000
DTEND;TZID=America/Phoenix:20230514T150000
DTSTAMP:20260425T044735
CREATED:20230310T181347Z
LAST-MODIFIED:20230404T230823Z
UID:8576-1684069200-1684076400@tucsonastronomy.org
SUMMARY:Solar Telescope Observing at Saguaro NP - East
DESCRIPTION:Solar Telescope Observing at Saguaro NP – East\n\nMay 14 @ 1:00 pm – 3:00 pm\n\n\n\nJoin the Tucson Amateur Astronomy Association (TAAA) and Saguaro National Park – East for some Sun gazing at the park. We will observe the Sun through telescopes with appropriate filters so you will get to see sunspots\, prominences\, flares\, and more.\nThe Sun is nearing its peak in the sunspot cycle so there is lots of activity on its surface. \nThis event is FREE and open to the public.  NPS admission fees apply. \nThe telescopes will be set up at the Bicycle Ramada next to the Visitors Center.  This event will most likely be canceled in the event of clouds/rain.
URL:https://tucsonastronomy.org/event/solar-telescope-observing-at-saguaro-np-east-2/
LOCATION:Saguaro National Park EAST\, 3693 S Old Spanish Trail\, Tucson\, AZ\, 85730\, United States
ORGANIZER;CN="Bernie Stinger":MAILTO:astronomy-events@tucsonastronomy.org
END:VEVENT
END:VCALENDAR