BEGIN:VCALENDAR
VERSION:2.0
PRODID:-//Tucson Amateur Astronomy Association - ECPv6.15.20//NONSGML v1.0//EN
CALSCALE:GREGORIAN
METHOD:PUBLISH
X-WR-CALNAME:Tucson Amateur Astronomy Association
X-ORIGINAL-URL:https://tucsonastronomy.org
X-WR-CALDESC:Events for Tucson Amateur Astronomy Association
REFRESH-INTERVAL;VALUE=DURATION:PT1H
X-Robots-Tag:noindex
X-PUBLISHED-TTL:PT1H
BEGIN:VTIMEZONE
TZID:America/Phoenix
BEGIN:STANDARD
TZOFFSETFROM:-0700
TZOFFSETTO:-0700
TZNAME:MST
DTSTART:20150101T000000
END:STANDARD
END:VTIMEZONE
BEGIN:VEVENT
DTSTART;TZID=America/Phoenix:20160305T190000
DTEND;TZID=America/Phoenix:20160305T210000
DTSTAMP:20260424T134720
CREATED:20160122T015159Z
LAST-MODIFIED:20160122T015159Z
UID:998-1457204400-1457211600@tucsonastronomy.org
SUMMARY:Star Party-Oracle State Park
DESCRIPTION:Star Party-Oracle State Park.\nORACLE\nSetup:  6 pm.  Observing:  7 – 9:00 pm\nViewing Location:   Sidewalk along the Kannally Ranch House parking lot and on the Ranch House upper patio.  Tucson Amateur Astronomy Association will have several telescopes to view deep-sky objects.  Open to the Public.  Oracle State Park admission fee applies.
URL:https://tucsonastronomy.org/event/star-party-oracle-state-park/
LOCATION:Oracle State Park\, 3820 E Wildlife Dr.\, Oracle\, AZ\, 85623\, United States
CATEGORIES:Star Parties
END:VEVENT
BEGIN:VEVENT
DTSTART;TZID=America/Phoenix:20160305T100000
DTEND;TZID=America/Phoenix:20160305T140000
DTSTAMP:20260424T134720
CREATED:20160122T014832Z
LAST-MODIFIED:20160122T014832Z
UID:996-1457172000-1457186400@tucsonastronomy.org
SUMMARY:Solar Observing-International Wildlife Museum
DESCRIPTION:Solar Viewing-International Wildlife Museum.\nFAR WEST TUCSON\nSetup:  9:30 am\nObserving: 10 am – 2 pm\nViewing Location:  Courtyard in front of main entrance.  Tucson Amateur Astronomy Association will have several solar telescopes to safely view the Sun.\nOther Activities:  Interactive exhibits inside Museum.  Admission Fee applies for inside activities.
URL:https://tucsonastronomy.org/event/solar-observing-international-wildlife-museum/
LOCATION:International Wildlife Museum\, 4800 W Gates Pass Rd.\, Tucson\, AZ\, 85745\, United States
CATEGORIES:Star Parties
END:VEVENT
BEGIN:VEVENT
DTSTART;TZID=America/Phoenix:20160227T180000
DTEND;TZID=America/Phoenix:20160227T200000
DTSTAMP:20260424T134720
CREATED:20160122T014431Z
LAST-MODIFIED:20160122T014431Z
UID:994-1456596000-1456603200@tucsonastronomy.org
SUMMARY:Star Party-Agua Caliente Park
DESCRIPTION:Star Party-Pima County NRPR @ Agua Caliente Park\nNORTHEAST TUCSON\nSetup:  5:30 pm\nObserving: 6 – 8 pm\nViewing Location: Bus Lanes @ North end of Parking Lot
URL:https://tucsonastronomy.org/event/star-party-agua-caliente-park/
LOCATION:Agua Caliente Park\, 12325 E Roger Rd\, Tucson\, AZ\, 85749\, United States
CATEGORIES:Star Parties
END:VEVENT
BEGIN:VEVENT
DTSTART;TZID=America/Phoenix:20160130T183000
DTEND;TZID=America/Phoenix:20160130T213000
DTSTAMP:20260424T134720
CREATED:20160122T013033Z
LAST-MODIFIED:20160122T013033Z
UID:986-1454178600-1454189400@tucsonastronomy.org
SUMMARY:Catalina State Park Star Party
DESCRIPTION:Star Party-Catalina State Park\nTucson\, AZ\nSetup: 6 PM\nObserving: 6:30 – 9:30 PM\nViewing Location: Trailhead Picnic area at end of road inside the park.\nInformation: Great dark skies just north of Tucson at Catalina State Park. Star Party open to the Public.  Admission cost for entrance into Catalina State Park.  Tucson Amateur Astronomy Association will have 10 telescopes for astronomical viewing.  We will also have a talk about what is up in the night sky and how it relates to ancient times.
URL:https://tucsonastronomy.org/event/catalina-state-park-star-party/
LOCATION:Catalina State Park\, 11570 N Oracle Rd\, Catalina\, AZ\, United States
CATEGORIES:Star Parties
END:VEVENT
END:VCALENDAR