BEGIN:VCALENDAR
VERSION:2.0
PRODID:-//Tucson Amateur Astronomy Association - ECPv6.15.20//NONSGML v1.0//EN
CALSCALE:GREGORIAN
METHOD:PUBLISH
X-ORIGINAL-URL:https://tucsonastronomy.org
X-WR-CALDESC:Events for Tucson Amateur Astronomy Association
REFRESH-INTERVAL;VALUE=DURATION:PT1H
X-Robots-Tag:noindex
X-PUBLISHED-TTL:PT1H
BEGIN:VTIMEZONE
TZID:America/Phoenix
BEGIN:STANDARD
TZOFFSETFROM:-0700
TZOFFSETTO:-0700
TZNAME:MST
DTSTART:20150101T000000
END:STANDARD
END:VTIMEZONE
BEGIN:VEVENT
DTSTART;TZID=America/Phoenix:20170218T100000
DTEND;TZID=America/Phoenix:20170218T210000
DTSTAMP:20260424T111809
CREATED:20161208T231141Z
LAST-MODIFIED:20170215T202909Z
UID:1837-1487412000-1487451600@tucsonastronomy.org
SUMMARY:Tucson Star Party
DESCRIPTION:Solar & Star Party-TAAA\, in conjunction with Astronomy Magazine at Pima Community College (PCC) EAST Campus\nSOUTHEAST TUCSON\nSolar Observing:  10 am to Sunset (6 pm)\nEvening Star Observing: 6 – 9 pm\nViewing Location:  PCC Astronomy Domes on south side of campus \nTAAA will have several solar telescopes during the day to safely view the Sun to include sun spots\, solar prominence\, and other solar activity.  During the evening we will have telescopes to observe some amazing solar system and deep-sky objects\, to include:  the Planets Venus\, Mars\, & Uranus; Orion’s Nebula (a star nursery) & other gas clouds; Andromeda Galaxy (2.5 million light years away); double star systems; star clusters; and other celestial highlights.  Observing will take place near the PCC Observatories on the south side of the campus.  The PCC observatories will also be open for viewing.  This is a free event open to the public. \nUPDATE (February 15\, 2017).  Weather may be an issue.  If overcast or raining\, we will likely cancel event.  Follow Tucson Amateur Astronomy Association events on Facebook for real-time update.
URL:https://tucsonastronomy.org/event/astronomy-magazine-tucson-star-party/
LOCATION:Pima Community College East\, 8181 E Irvington Rd\, Tucson\, AZ\, United States
CATEGORIES:Star Parties
END:VEVENT
BEGIN:VEVENT
DTSTART;TZID=America/Phoenix:20170204T183000
DTEND;TZID=America/Phoenix:20170204T203000
DTSTAMP:20260424T111809
CREATED:20160914T030127Z
LAST-MODIFIED:20160914T030127Z
UID:1693-1486233000-1486240200@tucsonastronomy.org
SUMMARY:Star Party-Agua Caliente Park
DESCRIPTION:Star Party-Pima County NRPR @ Agua Caliente Park\nNORTHEAST TUCSON\nSetup:  6 pm\nObserving: 6:30 – 8:30 pm\nViewing Location: Bus Lanes @ North end of Parking Lot\nTucson Amateur Astronomy Association will have several telescopes to view some amazing solar system and deep-sky celestial objects.
URL:https://tucsonastronomy.org/event/star-party-agua-caliente-park-8/
LOCATION:Agua Caliente Park\, 12325 E Roger Rd\, Tucson\, AZ\, 85749\, United States
CATEGORIES:Star Parties
END:VEVENT
BEGIN:VEVENT
DTSTART;TZID=America/Phoenix:20170128T183000
DTEND;TZID=America/Phoenix:20170128T203000
DTSTAMP:20260424T111809
CREATED:20160914T024111Z
LAST-MODIFIED:20160914T024111Z
UID:1692-1485628200-1485635400@tucsonastronomy.org
SUMMARY:Star Party-Tucson Mountain Park Ironwood Picnic
DESCRIPTION:Star Party-Pima County NRPR @ Tucson Mountain Park (Ironwood Picnic)\nWEST TUCSON\nSetup:  6 pm\nObserving: 6:30 – 8:30 pm\nViewing Location: Ironwood Picnic area near restroom facilities.\nTucson Amateur Astronomy Association will have several telescopes to view some amazing solar system and deep-sky celestial objects.
URL:https://tucsonastronomy.org/event/star-party-tucson-mountain-park-ironwood-picnic-2/
LOCATION:Ironwood Picnic\, 7300 W Hal gras Rd\, Tucson\, AZ\, 85735\, United States
CATEGORIES:Star Parties
END:VEVENT
BEGIN:VEVENT
DTSTART;TZID=America/Phoenix:20170121T183000
DTEND;TZID=America/Phoenix:20170121T213000
DTSTAMP:20260424T111809
CREATED:20160914T023844Z
LAST-MODIFIED:20160914T023844Z
UID:1691-1485023400-1485034200@tucsonastronomy.org
SUMMARY:Star Party-Catalina State Park
DESCRIPTION:Star Party-Catalina State Park\nTucson\, AZ\nSetup: 6 PM\nObserving: 6:30 – 9:30 PM\nViewing Location: Trailhead Picnic area at end of road inside the park.\nInformation: Great dark skies just north of Tucson at Catalina State Park. Star Party open to the Public. Admission cost for entrance into Catalina State Park. Tucson Amateur Astronomy Association will have 10 telescopes for astronomical viewing. We will also have a talk about what is up in the night sky and how it relates to ancient times.
URL:https://tucsonastronomy.org/event/star-party-catalina-state-park-3/
LOCATION:Catalina State Park\, 11570 N Oracle Rd\, Catalina\, AZ\, United States
CATEGORIES:Star Parties
END:VEVENT
BEGIN:VEVENT
DTSTART;TZID=America/Phoenix:20170107T180000
DTEND;TZID=America/Phoenix:20170107T200000
DTSTAMP:20260424T111809
CREATED:20160914T023224Z
LAST-MODIFIED:20160914T023519Z
UID:1689-1483812000-1483819200@tucsonastronomy.org
SUMMARY:Star Party-Agua Caliente Park
DESCRIPTION:Star Party-Pima County NRPR @ Agua Caliente Park\nNORTHEAST TUCSON\nSetup:  5:30 pm\nObserving: 6 – 8 pm\nViewing Location: Bus Lanes @ North end of Parking Lot\nTucson Amateur Astronomy Association will have several telescopes to view some amazing solar system and deep-sky celestial objects.
URL:https://tucsonastronomy.org/event/star-party-agua-caliente-park-7/
LOCATION:Agua Caliente Park\, 12325 E Roger Rd\, Tucson\, AZ\, 85749\, United States
CATEGORIES:Star Parties
END:VEVENT
BEGIN:VEVENT
DTSTART;TZID=America/Phoenix:20161217T180000
DTEND;TZID=America/Phoenix:20161217T200000
DTSTAMP:20260424T111809
CREATED:20160404T014632Z
LAST-MODIFIED:20160404T014632Z
UID:1279-1481997600-1482004800@tucsonastronomy.org
SUMMARY:Star Party-Tucson Mountain Park Ironwood Picnic Area
DESCRIPTION:Viewing Location: Ironwood Picnic area near restroom facilities.\nTucson Amateur Astronomy Association will have several telescopes to view some amazing solar system and deep-sky celestial objects.
URL:https://tucsonastronomy.org/event/star-party-tucson-mountain-park-ironwood-picnic-area-3/
LOCATION:Ironwood Picnic\, 7300 W Hal gras Rd\, Tucson\, AZ\, 85735\, United States
CATEGORIES:Star Parties
END:VEVENT
BEGIN:VEVENT
DTSTART;TZID=America/Phoenix:20161210T183000
DTEND;TZID=America/Phoenix:20161210T203000
DTSTAMP:20260424T111809
CREATED:20160404T014500Z
LAST-MODIFIED:20160404T014500Z
UID:1278-1481394600-1481401800@tucsonastronomy.org
SUMMARY:Star Party-Agua Caliente Park
DESCRIPTION:Viewing Location: Bus Lanes @ North end of Parking Lot\nTucson Amateur Astronomy Association will have several telescopes to view some amazing solar system and deep-sky celestial objects.
URL:https://tucsonastronomy.org/event/star-party-agua-caliente-park-6/
LOCATION:Agua Caliente Park\, 12325 E Roger Rd\, Tucson\, AZ\, 85749\, United States
CATEGORIES:Star Parties
END:VEVENT
BEGIN:VEVENT
DTSTART;TZID=America/Phoenix:20161112T183000
DTEND;TZID=America/Phoenix:20161112T203000
DTSTAMP:20260424T111809
CREATED:20160404T021344Z
LAST-MODIFIED:20160404T021344Z
UID:1280-1478975400-1478982600@tucsonastronomy.org
SUMMARY:Star Party-Tucson Mountain Park Ironwood Picnic Area
DESCRIPTION:Viewing Location: Ironwood Picnic area near restroom facilities.\nTucson Amateur Astronomy Association will have several telescopes to view some amazing solar system and deep-sky celestial objects.
URL:https://tucsonastronomy.org/event/star-party-tucson-mountain-park-ironwood-picnic-area-4/
LOCATION:Ironwood Picnic\, 7300 W Hal gras Rd\, Tucson\, AZ\, 85735\, United States
CATEGORIES:Star Parties
END:VEVENT
BEGIN:VEVENT
DTSTART;TZID=America/Phoenix:20161105T183000
DTEND;TZID=America/Phoenix:20161105T203000
DTSTAMP:20260424T111809
CREATED:20160404T014325Z
LAST-MODIFIED:20160404T014325Z
UID:1277-1478370600-1478377800@tucsonastronomy.org
SUMMARY:Star Party-Agua Caliente Park
DESCRIPTION:Viewing Location: Bus Lanes @ North end of Parking Lot\nTucson Amateur Astronomy Association will have several telescopes to view some amazing solar system and deep-sky celestial objects.
URL:https://tucsonastronomy.org/event/star-party-agua-caliente-park-5/
LOCATION:Agua Caliente Park\, 12325 E Roger Rd\, Tucson\, AZ\, 85749\, United States
CATEGORIES:Star Parties
END:VEVENT
BEGIN:VEVENT
DTSTART;TZID=America/Phoenix:20161022T183000
DTEND;TZID=America/Phoenix:20161022T203000
DTSTAMP:20260424T111809
CREATED:20160404T014139Z
LAST-MODIFIED:20160404T014139Z
UID:1276-1477161000-1477168200@tucsonastronomy.org
SUMMARY:Star Party-Tucson Mountain Park Ironwood Picnic Area
DESCRIPTION:Viewing Location: Ironwood Picnic area near restroom facilities.\nTucson Amateur Astronomy Association will have several telescopes to view some amazing solar system and deep-sky celestial objects.
URL:https://tucsonastronomy.org/event/star-party-tucson-mountain-park-ironwood-picnic-area-2/
LOCATION:Ironwood Picnic\, 7300 W Hal gras Rd\, Tucson\, AZ\, 85735\, United States
CATEGORIES:Star Parties
END:VEVENT
BEGIN:VEVENT
DTSTART;TZID=America/Phoenix:20161008T183000
DTEND;TZID=America/Phoenix:20161008T203000
DTSTAMP:20260424T111809
CREATED:20160404T013942Z
LAST-MODIFIED:20160404T013942Z
UID:1275-1475951400-1475958600@tucsonastronomy.org
SUMMARY:Star Party-Agua Caliente Park
DESCRIPTION:Viewing Location: Bus Lanes @ North end of Parking Lot\nTucson Amateur Astronomy Association will have several telescopes to view some amazing solar system and deep-sky celestial objects.
URL:https://tucsonastronomy.org/event/star-party-agua-caliente-park-4/
LOCATION:Agua Caliente Park\, 12325 E Roger Rd\, Tucson\, AZ\, 85749\, United States
CATEGORIES:Star Parties
END:VEVENT
BEGIN:VEVENT
DTSTART;TZID=America/Phoenix:20160930T190000
DTEND;TZID=America/Phoenix:20160930T210000
DTSTAMP:20260424T111809
CREATED:20160404T013727Z
LAST-MODIFIED:20160404T013727Z
UID:1274-1475262000-1475269200@tucsonastronomy.org
SUMMARY:Star Party-Tucson Mountain Park Ironwood Picnic Area
DESCRIPTION:Viewing Location: Ironwood Picnic area near restroom facilities.\nTucson Amateur Astronomy Association will have several telescopes to view some amazing solar system and deep-sky celestial objects.
URL:https://tucsonastronomy.org/event/star-party-tucson-mountain-park-ironwood-picnic-area/
LOCATION:Ironwood Picnic\, 7300 W Hal gras Rd\, Tucson\, AZ\, 85735\, United States
CATEGORIES:Star Parties
END:VEVENT
BEGIN:VEVENT
DTSTART;TZID=America/Phoenix:20160924T183000
DTEND;TZID=America/Phoenix:20160924T213000
DTSTAMP:20260424T111809
CREATED:20160404T013403Z
LAST-MODIFIED:20160404T013403Z
UID:1273-1474741800-1474752600@tucsonastronomy.org
SUMMARY:Star Party-Catalina State Park
DESCRIPTION:Setup: 6 PM\nObserving: 6:30 – 9:30 PM\nViewing Location: Trailhead Picnic area at end of road inside the park.\nInformation: Great dark skies just north of Tucson at Catalina State Park. Star Party open to the Public. Admission cost for entrance into Catalina State Park. Tucson Amateur Astronomy Association will have 10 telescopes for astronomical viewing. We will also have a talk about what is up in the night sky and how it relates to ancient times.
URL:https://tucsonastronomy.org/event/star-party-catalina-state-park-2/
LOCATION:Catalina State Park\, 11570 N Oracle Rd\, Catalina\, AZ\, United States
CATEGORIES:Star Parties
END:VEVENT
BEGIN:VEVENT
DTSTART;TZID=America/Phoenix:20160910T190000
DTEND;TZID=America/Phoenix:20160910T210000
DTSTAMP:20260424T111809
CREATED:20160404T012911Z
LAST-MODIFIED:20160404T012911Z
UID:1272-1473534000-1473541200@tucsonastronomy.org
SUMMARY:Star Party-Oracle State Park
DESCRIPTION:Setup:  6 pm.  Observing:  7 – 9:00 pm\nViewing Location:   Sidewalk along the Kannally Ranch House parking lot and on the Ranch House upper patio.\nTucson Amateur Astronomy Association will have several telescopes to view some amazing solar system and deep-sky celestial objects.
URL:https://tucsonastronomy.org/event/star-party-oracle-state-park-2/
LOCATION:Oracle State Park\, 3820 E Wildlife Dr.\, Oracle\, AZ\, 85623\, United States
CATEGORIES:Star Parties
END:VEVENT
BEGIN:VEVENT
DTSTART;TZID=America/Phoenix:20160813T190000
DTEND;TZID=America/Phoenix:20160813T210000
DTSTAMP:20260424T111809
CREATED:20160616T042820Z
LAST-MODIFIED:20160616T042820Z
UID:1480-1471114800-1471122000@tucsonastronomy.org
SUMMARY:Star Party-Desert Museum
DESCRIPTION:Star Party-Sonoran Desert Museum\nFAR WEST TUCSON\nSetup:  6:00 pm\nObserving: 7 – 9 pm\nViewing Location:  TBD\nEstimated # Participants:  250\nAge/Grade:  Grades All Ages\n# Scopes Required:  2\nOther Activities:  Desert Museum Cool Summer Nights program\nTAAA POC:  Jim Knoll
URL:https://tucsonastronomy.org/event/star-party-desert-museum-2/
LOCATION:Desert Museum\, 2021 N Kinney Rd\, Tucson\, AZ\, 85743\, United States
CATEGORIES:Star Parties
END:VEVENT
BEGIN:VEVENT
DTSTART;TZID=America/Phoenix:20160723T190000
DTEND;TZID=America/Phoenix:20160723T210000
DTSTAMP:20260424T111809
CREATED:20160616T042626Z
LAST-MODIFIED:20160616T042626Z
UID:1478-1469300400-1469307600@tucsonastronomy.org
SUMMARY:Star Party-Desert Museum
DESCRIPTION:Star Party-Sonoran Desert Museum\nFAR WEST TUCSON\nSetup:  6:00 pm\nObserving: 7 – 9 pm\nViewing Location:  TBD\nEstimated # Participants:  250\nAge/Grade:  Grades All Ages\n# Scopes Required:  2\nOther Activities:  Desert Museum Cool Summer Nights program\nTAAA POC:  Jim Knoll
URL:https://tucsonastronomy.org/event/star-party-desert-museum/
LOCATION:Desert Museum\, 2021 N Kinney Rd\, Tucson\, AZ\, 85743\, United States
CATEGORIES:Star Parties
END:VEVENT
BEGIN:VEVENT
DTSTART;TZID=America/Phoenix:20160611T200000
DTEND;TZID=America/Phoenix:20160611T230000
DTSTAMP:20260424T111809
CREATED:20160123T194427Z
LAST-MODIFIED:20160124T020105Z
UID:1025-1465675200-1465686000@tucsonastronomy.org
SUMMARY:Grand Canyon Star Party
DESCRIPTION:Tucson Amateur Astronomy Association\, in conjunction with the National Park Service\, will sponsor a week-long Star Party at the Grand Canyon. \nObserving will be from Dusk to about 11 pm.  Telescopes will be set up behind the Visitor Center.  There will also be nightly talks @ 8 pm in the Visitor Center Auditorium.   There will be Solar Observing throughout the day at various locations around the Park. \nWe will observe a wide variety of Celestial Wonders under some very dark and pristine skies.  Come join us for some astronomy fun at one of the Seven Natural Wonders of the World! \nFor further information\, contact:\nJim O’Connor\nSouth Rim Coordinator\, Grand Canyon Star Party\ngcsp [at] tucsonastronomy.org\nP\, O. Box 457\nCortaro\, AZ 85652\nHome: (520) 546-2961\nCell: (520) 405-6551
URL:https://tucsonastronomy.org/event/grand-canyon-star-party-8/
LOCATION:Grand Canyon Visitor Center\, Grand Canyon Visitor Center\, Grand Canyon\, AZ\, 86023\, United States
CATEGORIES:Star Parties
END:VEVENT
BEGIN:VEVENT
DTSTART;TZID=America/Phoenix:20160610T200000
DTEND;TZID=America/Phoenix:20160610T230000
DTSTAMP:20260424T111809
CREATED:20160123T194349Z
LAST-MODIFIED:20160124T020003Z
UID:1024-1465588800-1465599600@tucsonastronomy.org
SUMMARY:Grand Canyon Star Party
DESCRIPTION:Tucson Amateur Astronomy Association\, in conjunction with the National Park Service\, will sponsor a week-long Star Party at the Grand Canyon. \nObserving will be from Dusk to about 11 pm.  Telescopes will be set up behind the Visitor Center.  There will also be nightly talks @ 8 pm in the Visitor Center Auditorium.   There will be Solar Observing throughout the day at various locations around the Park. \nWe will observe a wide variety of Celestial Wonders under some very dark and pristine skies.  Come join us for some astronomy fun at one of the Seven Natural Wonders of the World! \nFor further information\, contact:\nJim O’Connor\nSouth Rim Coordinator\, Grand Canyon Star Party\ngcsp [at] tucsonastronomy.org\nP\, O. Box 457\nCortaro\, AZ 85652\nHome: (520) 546-2961\nCell: (520) 405-6551
URL:https://tucsonastronomy.org/event/grand-canyon-star-party-7/
LOCATION:Grand Canyon Visitor Center\, Grand Canyon Visitor Center\, Grand Canyon\, AZ\, 86023\, United States
CATEGORIES:Star Parties
END:VEVENT
BEGIN:VEVENT
DTSTART;TZID=America/Phoenix:20160609T200000
DTEND;TZID=America/Phoenix:20160609T230000
DTSTAMP:20260424T111809
CREATED:20160123T194302Z
LAST-MODIFIED:20160124T015845Z
UID:1023-1465502400-1465513200@tucsonastronomy.org
SUMMARY:Grand Canyon Star Party
DESCRIPTION:Tucson Amateur Astronomy Association\, in conjunction with the National Park Service\, will sponsor a week-long Star Party at the Grand Canyon. \nObserving will be from Dusk to about 11 pm.  Telescopes will be set up behind the Visitor Center.  There will also be nightly talks @ 8 pm in the Visitor Center Auditorium.   There will be Solar Observing throughout the day at various locations around the Park. \nWe will observe a wide variety of Celestial Wonders under some very dark and pristine skies.  Come join us for some astronomy fun at one of the Seven Natural Wonders of the World! \nFor further information\, contact:\nJim O’Connor\nSouth Rim Coordinator\, Grand Canyon Star Party\ngcsp [at] tucsonastronomy.org\nP\, O. Box 457\nCortaro\, AZ 85652\nHome: (520) 546-2961\nCell: (520) 405-6551
URL:https://tucsonastronomy.org/event/grand-canyon-star-party-6/
LOCATION:Grand Canyon Visitor Center\, Grand Canyon Visitor Center\, Grand Canyon\, AZ\, 86023\, United States
CATEGORIES:Star Parties
END:VEVENT
BEGIN:VEVENT
DTSTART;TZID=America/Phoenix:20160608T200000
DTEND;TZID=America/Phoenix:20160608T230000
DTSTAMP:20260424T111809
CREATED:20160123T194223Z
LAST-MODIFIED:20160124T015747Z
UID:1022-1465416000-1465426800@tucsonastronomy.org
SUMMARY:Grand Canyon Star Party
DESCRIPTION:Tucson Amateur Astronomy Association\, in conjunction with the National Park Service\, will sponsor a week-long Star Party at the Grand Canyon. \nObserving will be from Dusk to about 11 pm.  Telescopes will be set up behind the Visitor Center.  There will also be nightly talks @ 8 pm in the Visitor Center Auditorium.   There will be Solar Observing throughout the day at various locations around the Park. \nWe will observe a wide variety of Celestial Wonders under some very dark and pristine skies.  Come join us for some astronomy fun at one of the Seven Natural Wonders of the World! \nFor further information\, contact:\nJim O’Connor\nSouth Rim Coordinator\, Grand Canyon Star Party\ngcsp [at] tucsonastronomy.org\nP\, O. Box 457\nCortaro\, AZ 85652\nHome: (520) 546-2961\nCell: (520) 405-6551
URL:https://tucsonastronomy.org/event/grand-canyon-star-party-5/
LOCATION:Grand Canyon Visitor Center\, Grand Canyon Visitor Center\, Grand Canyon\, AZ\, 86023\, United States
CATEGORIES:Star Parties
END:VEVENT
BEGIN:VEVENT
DTSTART;TZID=America/Phoenix:20160607T200000
DTEND;TZID=America/Phoenix:20160607T230000
DTSTAMP:20260424T111809
CREATED:20160123T194142Z
LAST-MODIFIED:20160124T015402Z
UID:1021-1465329600-1465340400@tucsonastronomy.org
SUMMARY:Grand Canyon Star Party
DESCRIPTION:Tucson Amateur Astronomy Association\, in conjunction with the National Park Service\, will sponsor a week-long Star Party at the Grand Canyon. \nObserving will be from Dusk to about 11 pm.  Telescopes will be set up behind the Visitor Center.  There will also be nightly talks @ 8 pm in the Visitor Center Auditorium.   There will be Solar Observing throughout the day at various locations around the Park. \nWe will observe a wide variety of Celestial Wonders under some very dark and pristine skies.  Come join us for some astronomy fun at one of the Seven Natural Wonders of the World! \nFor further information\, contact:\nJim O’Connor\nSouth Rim Coordinator\, Grand Canyon Star Party\ngcsp [at] tucsonastronomy.org\nP\, O. Box 457\nCortaro\, AZ 85652\nHome: (520) 546-2961\nCell: (520) 405-6551
URL:https://tucsonastronomy.org/event/grand-canyon-star-party-4/
LOCATION:Grand Canyon Visitor Center\, Grand Canyon Visitor Center\, Grand Canyon\, AZ\, 86023\, United States
CATEGORIES:Star Parties
END:VEVENT
BEGIN:VEVENT
DTSTART;TZID=America/Phoenix:20160606T200000
DTEND;TZID=America/Phoenix:20160606T230000
DTSTAMP:20260424T111809
CREATED:20160123T194053Z
LAST-MODIFIED:20160124T015135Z
UID:1020-1465243200-1465254000@tucsonastronomy.org
SUMMARY:Grand Canyon Star Party
DESCRIPTION:Tucson Amateur Astronomy Association\, in conjunction with the National Park Service\, will sponsor a week-long Star Party at the Grand Canyon. \nObserving will be from Dusk to about 11 pm.  Telescopes will be set up behind the Visitor Center.  There will also be nightly talks @ 8 pm in the Visitor Center Auditorium.   There will be Solar Observing throughout the day at various locations around the Park. \nWe will observe a wide variety of Celestial Wonders under some very dark and pristine skies.  Come join us for some astronomy fun at one of the Seven Natural Wonders of the World! \nFor further information\, contact:\n Jim O’Connor\n South Rim Coordinator\, Grand Canyon Star Party\n gcsp [at] tucsonastronomy.org\n P\, O. Box 457\n Cortaro\, AZ 85652\n Home: (520) 546-2961\n Cell: (520) 405-6551
URL:https://tucsonastronomy.org/event/grand-canyon-star-party-3/
LOCATION:Grand Canyon Visitor Center\, Grand Canyon Visitor Center\, Grand Canyon\, AZ\, 86023\, United States
CATEGORIES:Star Parties
END:VEVENT
BEGIN:VEVENT
DTSTART;TZID=America/Phoenix:20160605T200000
DTEND;TZID=America/Phoenix:20160605T230000
DTSTAMP:20260424T111809
CREATED:20160123T193809Z
LAST-MODIFIED:20160124T014907Z
UID:1019-1465156800-1465167600@tucsonastronomy.org
SUMMARY:Grand Canyon Star Party
DESCRIPTION:Tucson Amateur Astronomy Association\, in conjunction with the National Park Service\, will sponsor a week-long Star Party at the Grand Canyon. \nObserving will be from Dusk to about 11 pm.  Telescopes will be set up behind the Visitor Center.  There will also be nightly talks @ 8 pm in the Visitor Center Auditorium.   There will be Solar Observing throughout the day at various locations around the Park. \nWe will observe a wide variety of Celestial Wonders under some very dark and pristine skies.  Come join us for some astronomy fun at one of the Seven Natural Wonders of the World! \nFor further information\, contact:\nJim O’Connor\nSouth Rim Coordinator\, Grand Canyon Star Party\ngcsp [at] tucsonastronomy.org\nP\, O. Box 457\nCortaro\, AZ 85652\nHome: (520) 546-2961\nCell: (520) 405-6551 \n 
URL:https://tucsonastronomy.org/event/grand-canyon-star-party-2/
LOCATION:Grand Canyon Visitor Center\, Grand Canyon Visitor Center\, Grand Canyon\, AZ\, 86023\, United States
CATEGORIES:Star Parties
END:VEVENT
BEGIN:VEVENT
DTSTART;TZID=America/Phoenix:20160604T200000
DTEND;TZID=America/Phoenix:20160604T230000
DTSTAMP:20260424T111809
CREATED:20160123T193101Z
LAST-MODIFIED:20160124T014626Z
UID:1016-1465070400-1465081200@tucsonastronomy.org
SUMMARY:Grand Canyon Star Party
DESCRIPTION:Tucson Amateur Astronomy Association\, in conjunction with the National Park Service\, will sponsor a week-long Star Party at the Grand Canyon. \nObserving will be from Dusk to about 11 pm.  Telescopes will be set up behind the Visitor Center.  There will also be nightly talks @ 8 pm in the Visitor Center Auditorium.   There will be Solar Observing throughout the day at various locations around the Park. \nWe will observe a wide variety of Celestial Wonders under some very dark and pristine skies.  Come join us for some astronomy fun at one of the Seven Natural Wonders of the World! \nFor further information\, contact:\nJim O’Connor\nSouth Rim Coordinator\, Grand Canyon Star Party\ngcsp [at] tucsonastronomy.org\nP\, O. Box 457\nCortaro\, AZ 85652\nHome: (520) 546-2961\nCell: (520) 405-6551
URL:https://tucsonastronomy.org/event/grand-canyon-star-party/
LOCATION:Grand Canyon Visitor Center\, Grand Canyon Visitor Center\, Grand Canyon\, AZ\, 86023\, United States
CATEGORIES:Star Parties
END:VEVENT
BEGIN:VEVENT
DTSTART;TZID=America/Phoenix:20160528T193000
DTEND;TZID=America/Phoenix:20160528T213000
DTSTAMP:20260424T111809
CREATED:20160123T185217Z
LAST-MODIFIED:20160123T185217Z
UID:1015-1464463800-1464471000@tucsonastronomy.org
SUMMARY:Star Party-Agua Caliente Park
DESCRIPTION:Star Party-Pima County NRPR @ Agua Caliente Park\nNORTHEAST TUCSON\nSetup:  7 pm\nObserving: 7:30 – 9:30 pm\nViewing Location: Bus Lanes @ North end of Parking Lot\nTucson Amateur Astronomy Association will have several telescopes to view some amazing solar system and deep-sky celestial objects.
URL:https://tucsonastronomy.org/event/star-party-agua-caliente-park-3/
LOCATION:Agua Caliente Park\, 12325 E Roger Rd\, Tucson\, AZ\, 85749\, United States
CATEGORIES:Star Parties
END:VEVENT
BEGIN:VEVENT
DTSTART;TZID=America/Phoenix:20160507T180000
DTEND;TZID=America/Phoenix:20160507T230000
DTSTAMP:20260424T111809
CREATED:20160429T214929Z
LAST-MODIFIED:20160429T224938Z
UID:1350-1462644000-1462662000@tucsonastronomy.org
SUMMARY:TIMPA Star Party 5/7/2016
DESCRIPTION:Waxing crescent (New+1) \nMembers Only
URL:https://tucsonastronomy.org/event/timpa-star-party-572016/
LOCATION:TIMPA
CATEGORIES:Star Parties
END:VEVENT
BEGIN:VEVENT
DTSTART;TZID=America/Phoenix:20160430T190000
DTEND;TZID=America/Phoenix:20160430T210000
DTSTAMP:20260424T111809
CREATED:20160123T183604Z
LAST-MODIFIED:20160123T183604Z
UID:1011-1462042800-1462050000@tucsonastronomy.org
SUMMARY:Star Party-Tucson Mountain Park @ Ironwood Picnic
DESCRIPTION:Star Party-Pima County NRPR @ Tucson Mountain Park (Ironwood Picnic)\nWEST TUCSON\nSetup:  6:30 pm\nObserving: 7 – 9 pm\nViewing Location: Ironwood Picnic area near restroom facilities.\nTucson Amateur Astronomy Association will have several telescopes to view some amazing solar system and deep-sky celestial objects.
URL:https://tucsonastronomy.org/event/star-party-tucson-mountain-park-ironwood-picnic/
LOCATION:Ironwood Picnic\, 7300 W Hal gras Rd\, Tucson\, AZ\, 85735\, United States
CATEGORIES:Star Parties
END:VEVENT
BEGIN:VEVENT
DTSTART;TZID=America/Phoenix:20160402T190000
DTEND;TZID=America/Phoenix:20160402T220000
DTSTAMP:20260424T111809
CREATED:20160123T183112Z
LAST-MODIFIED:20160123T183112Z
UID:1010-1459623600-1459634400@tucsonastronomy.org
SUMMARY:Star Party-Catalina State Park
DESCRIPTION:Star Party-Catalina State Park\nTucson\, AZ\nSetup: 6:30 PM\nObserving: 7 – 10 PM\nViewing Location: Trailhead Picnic area at end of road inside the park.\nInformation: Great dark skies just north of Tucson at Catalina State Park. Star Party open to the Public.   Admission cost for entrance into Catalina State Park. Tucson Amateur Astronomy Association will have 10 telescopes for astronomical viewing.  We will also have a talk about what is up in the night sky and how it relates to ancient times.
URL:https://tucsonastronomy.org/event/star-party-catalina-state-park/
LOCATION:Catalina State Park\, 11570 N Oracle Rd\, Catalina\, AZ\, United States
CATEGORIES:Star Parties
END:VEVENT
BEGIN:VEVENT
DTSTART;TZID=America/Phoenix:20160312T190000
DTEND;TZID=America/Phoenix:20160312T210000
DTSTAMP:20260424T111809
CREATED:20160123T180454Z
LAST-MODIFIED:20160123T180454Z
UID:1005-1457809200-1457816400@tucsonastronomy.org
SUMMARY:Star Party-Agua Caliente Park
DESCRIPTION:Star Party-Pima County NRPR @ Agua Caliente Park\nNORTHEAST TUCSON\nSetup:  6:30 pm\nObserving: 7 – 9 pm\nViewing Location: Bus Lanes @ North end of Parking Lot\nTucson Amateur Astronomy Association will have several telescopes to view some amazing solar system and deep-sky celestial objects.
URL:https://tucsonastronomy.org/event/star-party-agua-caliente-park-2/
LOCATION:Agua Caliente Park\, 12325 E Roger Rd\, Tucson\, AZ\, 85749\, United States
CATEGORIES:Star Parties
END:VEVENT
BEGIN:VEVENT
DTSTART;TZID=America/Phoenix:20160305T190000
DTEND;TZID=America/Phoenix:20160305T210000
DTSTAMP:20260424T111809
CREATED:20160122T015848Z
LAST-MODIFIED:20160122T015848Z
UID:1000-1457204400-1457211600@tucsonastronomy.org
SUMMARY:Star Party-Tucson Mountain Park
DESCRIPTION:Star Party-Pima County NRPR @ Tucson Mountain Park (Ironwood Picnic)\nWEST TUCSON\nSetup:  6:30 pm\nObserving: 7 – 9 pm\nViewing Location: Ironwood Picnic area near restroom facilities.  Tucson Amateur Astronomy Association will have several telescopes to view some amazing solar system and deep-sky celestial objects.
URL:https://tucsonastronomy.org/event/star-party-tucson-mountain-park-2/
LOCATION:Ironwood Picnic\, 7300 W Hal gras Rd\, Tucson\, AZ\, 85735\, United States
CATEGORIES:Star Parties
END:VEVENT
END:VCALENDAR