BEGIN:VCALENDAR
VERSION:2.0
PRODID:-//Tucson Amateur Astronomy Association - ECPv6.15.20//NONSGML v1.0//EN
CALSCALE:GREGORIAN
METHOD:PUBLISH
X-ORIGINAL-URL:https://tucsonastronomy.org
X-WR-CALDESC:Events for Tucson Amateur Astronomy Association
REFRESH-INTERVAL;VALUE=DURATION:PT1H
X-Robots-Tag:noindex
X-PUBLISHED-TTL:PT1H
BEGIN:VTIMEZONE
TZID:America/Phoenix
BEGIN:STANDARD
TZOFFSETFROM:-0700
TZOFFSETTO:-0700
TZNAME:MST
DTSTART:20250101T000000
END:STANDARD
END:VTIMEZONE
BEGIN:VEVENT
DTSTART;TZID=America/Phoenix:20260424T193000
DTEND;TZID=America/Phoenix:20260424T213000
DTSTAMP:20260423T164650
CREATED:20260304T025844Z
LAST-MODIFIED:20260304T025845Z
UID:16001-1777059000-1777066200@tucsonastronomy.org
SUMMARY:Stargazing @ Picacho Peak State Park
DESCRIPTION:Truely dark skies at a scenic location – Picacho Peak State ParkStar Party is open to the Public. Event is free but park admission fees apply. \n\n\n\nThe Tucson Amateur Astronomy Association will have several advanced amateur telescopes for astronomical viewing. \n\n\n\nWe will observe Planets\, Nebulae\, Galaxies\, Star Clusters and lots more.Great opportunity to look through a variety of telescopes at a really dark location. \n\n\n\nWeather dependent. For real-time updates\, follow this event on the Tucson Amateur Astronomy Association Facebook Events Page: https://www.facebook.com/TucsonAstronomy/events
URL:https://tucsonastronomy.org/event/stargazing-picacho-peak-state-park-11/
LOCATION:Picacho Peak State Park\, 15520 Picacho Peak Rd\, Picacho\, AZ\, 85141
CATEGORIES:Star Parties
ORGANIZER;CN="Bernie Stinger":MAILTO:astronomy-events@tucsonastronomy.org
END:VEVENT
BEGIN:VEVENT
DTSTART;TZID=America/Phoenix:20260509T200000
DTEND;TZID=America/Phoenix:20260509T220000
DTSTAMP:20260423T164650
CREATED:20260406T155942Z
LAST-MODIFIED:20260406T155942Z
UID:16110-1778356800-1778364000@tucsonastronomy.org
SUMMARY:Stargazing at Tucson Mountain Park – Juan Santa Cruz Picnic Area
DESCRIPTION:Star Party @ Tucson Mountain Park – Juan Santa Cruz Picnic AreaTucson\, AZ (right next to Sonoran Desert Museum) \n\n\n\nViewing Location: Small side loop on East side of main loop.Information: Great dark skies in Western Tucson.  Star Party open to the Public.  Cost: FREE. \n\n\n\nTucson Amateur Astronomy Association will have several telescopes for astronomical viewing.  We will observe Planets\, Nebulae\, Galaxies\, Star Clusters and lots more.  Great opportunity to look through a variety of telescopes.  Weather dependent.For real-time updates\, follow this event on the Tucson Amateur Astronomy Association Facebook Events Page: TAAA Facebook Events page \n\n\n\nEvent is FREE but REGISTRATION IS REQUIRED. Go to this link to register: https://www.explore.pima.gov/pima/programs and click on the “Environmental Education” square to select. Once open\, type in “stargazing” for the keyword and then scroll down for the event.These events may fill up early.
URL:https://tucsonastronomy.org/event/stargazing-at-tucson-mountain-park-juan-santa-cruz-picnic-area-11/
LOCATION:Juan Santa Cruz Picnic Area\, 2000 N Kinney Road\, Tucson\, AZ\, 85743\, United States
CATEGORIES:Star Parties
ORGANIZER;CN="Bernie Stinger":MAILTO:astronomy-events@tucsonastronomy.org
END:VEVENT
BEGIN:VEVENT
DTSTART;TZID=America/Phoenix:20260516T200000
DTEND;TZID=America/Phoenix:20260516T220000
DTSTAMP:20260423T164650
CREATED:20260406T160413Z
LAST-MODIFIED:20260406T160413Z
UID:16112-1778961600-1778968800@tucsonastronomy.org
SUMMARY:Stargazing at Oracle State Park
DESCRIPTION:Viewing Location: Kannally Ranch House  \n\n\n\nTypically a music event prior\, check the park’s website below.\n\n\n\nStar Party telescope viewing (8:00 – 10:00pm)\n\n\n\nInformation: Great dark skies just north of Tucson at Oracle State Park.3820 E Wildlife Dr.\, Oracle\, AZ 85623Star Party open to the Public. Admission fees for entrance into Oracle State Park apply. \n\n\n\nTucson Amateur Astronomy Association will have several telescopes for astronomical viewing. We will be observing the Moon + Planets\, Nebulae\, Galaxies\, and Star Clusters.Great opportunity to look through a wide variety of telescopes. Weather dependent. \n\n\n\nFor real-time updates\, follow this event on the Tucson Amateur Astronomy Association Facebook event page:  TAAA Facebook Events page \n\n\n\nAlso: Check the Oracle State Park website for additional information and activities that day:Star Party at Oracle State Park | Oracle State Park (azstateparks.com)
URL:https://tucsonastronomy.org/event/stargazing-at-oracle-state-park-18/
LOCATION:Oracle State Park\, 3820 E Wildlife Dr.\, Oracle\, AZ\, 85623\, United States
CATEGORIES:Star Parties
ORGANIZER;CN="Bernie Stinger":MAILTO:astronomy-events@tucsonastronomy.org
END:VEVENT
BEGIN:VEVENT
DTSTART;TZID=America/Phoenix:20260522T200000
DTEND;TZID=America/Phoenix:20260522T220000
DTSTAMP:20260423T164650
CREATED:20260406T161030Z
LAST-MODIFIED:20260406T161031Z
UID:16114-1779480000-1779487200@tucsonastronomy.org
SUMMARY:Stargazing at Saguaro National Park – East Side – Temp Venue change.
DESCRIPTION:Star Party – Saguaro National Park – East SideNow at their Desert Learning Center \n\n\n\n12661 E Broadway Blvd\, Tucson\, AZ 85730Map Coordinates: 32.22239965337127\, -110.72231843802784Drive to the end of Broadway Blvd\, parking is limited along roadside. Guides will give directions\, short walk to site. \n\n\n\nGreat dark skies on the East side of Tucson at Saguaro National Park – East Side’s Desert Learning Center. Please do not go to the National Park entrance\, it will be closed due to construction.Star Party is open to the Public. Event is free but NPS admission fees apply. \n\n\n\nThe Tucson Amateur Astronomy Association will have several telescopes for astronomical viewing. We will observe Planets\, Nebulae\, Galaxies\, Star Clusters and lots more.Great opportunity to look through a variety of telescopes. \n\n\n\nWeather dependent. For real-time updates\, follow this event on the Tucson Amateur Astronomy Association Facebook Events Page: Tucson Amateur Astronomy Association | Facebook
URL:https://tucsonastronomy.org/event/stargazing-at-saguaro-national-park-east-side-temp-venue-change-2/
LOCATION:Desert Research Learning Center\, 12661 E Broadway Blvd\, Tucson\, Arizona\, United States
CATEGORIES:Star Parties
ORGANIZER;CN="Bernie Stinger":MAILTO:astronomy-events@tucsonastronomy.org
END:VEVENT
END:VCALENDAR