BEGIN:VCALENDAR
VERSION:2.0
PRODID:-//Tucson Amateur Astronomy Association - ECPv6.15.20//NONSGML v1.0//EN
CALSCALE:GREGORIAN
METHOD:PUBLISH
X-ORIGINAL-URL:https://tucsonastronomy.org
X-WR-CALDESC:Events for Tucson Amateur Astronomy Association
REFRESH-INTERVAL;VALUE=DURATION:PT1H
X-Robots-Tag:noindex
X-PUBLISHED-TTL:PT1H
BEGIN:VTIMEZONE
TZID:America/Phoenix
BEGIN:STANDARD
TZOFFSETFROM:-0700
TZOFFSETTO:-0700
TZNAME:MST
DTSTART:20250101T000000
END:STANDARD
END:VTIMEZONE
BEGIN:VEVENT
DTSTART;TZID=America/Phoenix:20260221T140000
DTEND;TZID=America/Phoenix:20260221T210000
DTSTAMP:20260423T130028
CREATED:20260204T203931Z
LAST-MODIFIED:20260204T204435Z
UID:15883-1771682400-1771707600@tucsonastronomy.org
SUMMARY:Star Party at PCC-East
DESCRIPTION:(2PM-5pm): Solar observing\, astronomy demos\, and more.(5-6:30PM): Talk about the OSIRIS-REx Mission \n\n\n\n(6:30pm-9pm): Star party\, planet observing\, planetarium show\, and more.For more information see “More info” button below. \n\n\n\nFollow our Facebook event for any real-time updates or adjustments due to weather at:  TAAA Facebook Events page
URL:https://tucsonastronomy.org/event/star-party-at-pcc-east/
LOCATION:Pima Community College East\, 8181 E Irvington Rd\, Tucson\, AZ\, United States
CATEGORIES:Star Parties
ORGANIZER;CN="Bernie Stinger":MAILTO:astronomy-events@tucsonastronomy.org
END:VEVENT
BEGIN:VEVENT
DTSTART;TZID=America/Phoenix:20260221T190000
DTEND;TZID=America/Phoenix:20260221T210000
DTSTAMP:20260423T130028
CREATED:20260104T221008Z
LAST-MODIFIED:20260104T221009Z
UID:15754-1771700400-1771707600@tucsonastronomy.org
SUMMARY:Stargazing @ Picacho Peak State Park
DESCRIPTION:Truely dark skies at a scenic location – Picacho Peak State ParkStar Party is open to the Public. Event is free but park admission fees apply. \n\n\n\nThe Tucson Amateur Astronomy Association will have several advanced amateur telescopes for astronomical viewing. \n\n\n\nWe will observe Planets\, Nebulae\, Galaxies\, Star Clusters and lots more.Great opportunity to look through a variety of telescopes at a really dark location. \n\n\n\nWeather dependent. For real-time updates\, follow this event on the Tucson Amateur Astronomy Association Facebook Events Page: https://www.facebook.com/TucsonAstronomy/events
URL:https://tucsonastronomy.org/event/stargazing-picacho-peak-state-park-10/
LOCATION:Picacho Peak State Park\, 15520 Picacho Peak Rd\, Picacho\, AZ\, 85141
CATEGORIES:Star Parties
ORGANIZER;CN="Bernie Stinger":MAILTO:astronomy-events@tucsonastronomy.org
END:VEVENT
END:VCALENDAR