BEGIN:VCALENDAR
VERSION:2.0
PRODID:-//Tucson Amateur Astronomy Association - ECPv6.15.20//NONSGML v1.0//EN
CALSCALE:GREGORIAN
METHOD:PUBLISH
X-WR-CALNAME:Tucson Amateur Astronomy Association
X-ORIGINAL-URL:https://tucsonastronomy.org
X-WR-CALDESC:Events for Tucson Amateur Astronomy Association
REFRESH-INTERVAL;VALUE=DURATION:PT1H
X-Robots-Tag:noindex
X-PUBLISHED-TTL:PT1H
BEGIN:VTIMEZONE
TZID:America/Phoenix
BEGIN:STANDARD
TZOFFSETFROM:-0700
TZOFFSETTO:-0700
TZNAME:MST
DTSTART:20240101T000000
END:STANDARD
END:VTIMEZONE
BEGIN:VEVENT
DTSTART;TZID=America/Phoenix:20251011T190000
DTEND;TZID=America/Phoenix:20251011T210000
DTSTAMP:20260423T172838
CREATED:20250911T182120Z
LAST-MODIFIED:20250911T182121Z
UID:14931-1760209200-1760216400@tucsonastronomy.org
SUMMARY:Stargazing at Tucson Mountain Park – Juan Santa Cruz Picnic Area
DESCRIPTION:Star Party @ Tucson Mountain Park – Juan Santa Cruz Picnic AreaTucson\, AZ (right next to Sonoran Desert Museum) \n\n\n\nViewing Location: Small side loop on East side of main loop.Information: Great dark skies in Western Tucson.  Star Party open to the Public.  Cost: FREE. \n\n\n\nTucson Amateur Astronomy Association will have several telescopes for astronomical viewing.  We will observe Planets\, Nebulae\, Galaxies\, Star Clusters and lots more.  Great opportunity to look through a variety of telescopes.  Weather dependent.For real-time updates\, follow this event on the Tucson Amateur Astronomy Association Facebook Events Page: TAAA Facebook Events page \n\n\n\nEvent is FREE but REGISTRATION IS REQUIRED. Go to this link to register:  https://www.explore.pima.gov/pima/programs and click on the “Outdoors” square to select.These events may fill up early.
URL:https://tucsonastronomy.org/event/stargazing-at-tucson-mountain-park-juan-santa-cruz-picnic-area-8/
LOCATION:Juan Santa Cruz Picnic Area\, 2000 N Kinney Road\, Tucson\, AZ\, 85743\, United States
CATEGORIES:Star Parties
ORGANIZER;CN="Bernie Stinger":MAILTO:astronomy-events@tucsonastronomy.org
END:VEVENT
END:VCALENDAR