BEGIN:VCALENDAR
VERSION:2.0
PRODID:-//Tucson Amateur Astronomy Association - ECPv6.15.20//NONSGML v1.0//EN
CALSCALE:GREGORIAN
METHOD:PUBLISH
X-ORIGINAL-URL:https://tucsonastronomy.org
X-WR-CALDESC:Events for Tucson Amateur Astronomy Association
REFRESH-INTERVAL;VALUE=DURATION:PT1H
X-Robots-Tag:noindex
X-PUBLISHED-TTL:PT1H
BEGIN:VTIMEZONE
TZID:America/Phoenix
BEGIN:STANDARD
TZOFFSETFROM:-0700
TZOFFSETTO:-0700
TZNAME:MST
DTSTART:20240101T000000
END:STANDARD
END:VTIMEZONE
BEGIN:VEVENT
DTSTART;TZID=America/Phoenix:20250313T220000
DTEND;TZID=America/Phoenix:20250314T010000
DTSTAMP:20260424T014930
CREATED:20250307T181157Z
LAST-MODIFIED:20250307T181157Z
UID:13644-1741903200-1741914000@tucsonastronomy.org
SUMMARY:Special Lunar Eclipse Event @ Saguaro National Park - East
DESCRIPTION:Come and join us for a special event at Saguaro National Park – East (Rincon Mountains). We will be joining the Park Service for an evening of Lunar Eclipse and Star Gazing from 10pm (Star of Lunar Eclipse) to 1am (End of Lunar Ecllpse) from one of their pull-outs on the Loop Road. Along with the Eclipse several of the planets from the parade of planets will still be visible. Additional activities are also planned for the event at the visitors center. \n\n\n\nThis is a reservation only event and has a limited number of guests. Reservations can be made by calling 520-733-5153 or speaking to a park service staff member at the Rincon Mountain Visitor Center. \n\n\n\nAdditional information can be found at: Total Eclipse of the Park (East District)  Event is free but Park Service entry fees apply.
URL:https://tucsonastronomy.org/event/special-lunar-eclipse-event-saguaro-national-park-east/
LOCATION:Saguaro National Park EAST\, 3693 S Old Spanish Trail\, Tucson\, AZ\, 85730\, United States
CATEGORIES:Star Parties
ORGANIZER;CN="Bernie Stinger":MAILTO:astronomy-events@tucsonastronomy.org
END:VEVENT
END:VCALENDAR