BEGIN:VCALENDAR
VERSION:2.0
PRODID:-//Tucson Amateur Astronomy Association - ECPv6.15.20//NONSGML v1.0//EN
CALSCALE:GREGORIAN
METHOD:PUBLISH
X-WR-CALNAME:Tucson Amateur Astronomy Association
X-ORIGINAL-URL:https://tucsonastronomy.org
X-WR-CALDESC:Events for Tucson Amateur Astronomy Association
REFRESH-INTERVAL;VALUE=DURATION:PT1H
X-Robots-Tag:noindex
X-PUBLISHED-TTL:PT1H
BEGIN:VTIMEZONE
TZID:America/Phoenix
BEGIN:STANDARD
TZOFFSETFROM:-0700
TZOFFSETTO:-0700
TZNAME:MST
DTSTART:20230101T000000
END:STANDARD
END:VTIMEZONE
BEGIN:VEVENT
DTSTART;TZID=America/Phoenix:20240921T190000
DTEND;TZID=America/Phoenix:20240921T210000
DTSTAMP:20260424T094917
CREATED:20240909T025901Z
LAST-MODIFIED:20240928T214214Z
UID:12732-1726945200-1726952400@tucsonastronomy.org
SUMMARY:Star Party at St. Francis in the Foothills Church
DESCRIPTION:Join TAAA for a Star Party at St. Francis Church in the Foothills Church\, Tucson AZ\n\nLocated near River Rd. and Swan Rd at 4625 E. River Road\, this venue is well located for many in the central Tucson and Foothills communities.\n\nJoin us as we observe Planets (Saturn is now visible after many months being in the morning skies)\, Nebulas\, Galaxies\, and more!\n\nViewing will be from 7pm to 9pm at the far north end of the parking lot. (Stay to the left all the way to the end).
URL:https://tucsonastronomy.org/event/star-party-at-st-francis-in-the-foothills-church/
LOCATION:St. Francis in the Foothills Church\, 4625 E. River Road\, Tucson\, Arizona\, 85718
CATEGORIES:Star Parties
ORGANIZER;CN="Bernie Stinger":MAILTO:astronomy-events@tucsonastronomy.org
END:VEVENT
END:VCALENDAR