BEGIN:VCALENDAR
VERSION:2.0
PRODID:-//Tucson Amateur Astronomy Association - ECPv6.15.20//NONSGML v1.0//EN
CALSCALE:GREGORIAN
METHOD:PUBLISH
X-WR-CALNAME:Tucson Amateur Astronomy Association
X-ORIGINAL-URL:https://tucsonastronomy.org
X-WR-CALDESC:Events for Tucson Amateur Astronomy Association
REFRESH-INTERVAL;VALUE=DURATION:PT1H
X-Robots-Tag:noindex
X-PUBLISHED-TTL:PT1H
BEGIN:VTIMEZONE
TZID:America/Phoenix
BEGIN:STANDARD
TZOFFSETFROM:-0700
TZOFFSETTO:-0700
TZNAME:MST
DTSTART:20230101T000000
END:STANDARD
END:VTIMEZONE
BEGIN:VEVENT
DTSTART;TZID=America/Phoenix:20240601T200000
DTEND;TZID=America/Phoenix:20240608T230000
DTSTAMP:20260424T135121
CREATED:20231127T025145Z
LAST-MODIFIED:20231127T025145Z
UID:10741-1717272000-1717887600@tucsonastronomy.org
SUMMARY:Grand Canyon Star Party
DESCRIPTION:The Grand Canyon Star Party (GCSP) will be held this year from June 1 – 8 at the Grand Canyon National Park. Telescope observing typically goes from 8-11 pm at the Visitor Center of the South Rim. There will also be a GCSP at the North Rim. \nWe will have up to 60 telescopes each night observing planets\, galaxies\, multiple star systems\, star clusters\, nebulae\, and much more. \nFor more information\, see the TAAA GCSP webpage at: Grand Canyon Star Party or the National Park Service Grand Canyon Webpage at: NPS Grand Canyon Webpage
URL:https://tucsonastronomy.org/event/grand-canyon-star-party-13/
LOCATION:Grand Canyon Visitor Center\, Grand Canyon Visitor Center\, Grand Canyon\, AZ\, 86023\, United States
CATEGORIES:Star Parties
END:VEVENT
END:VCALENDAR