BEGIN:VCALENDAR
VERSION:2.0
PRODID:-//Tucson Amateur Astronomy Association - ECPv6.15.20//NONSGML v1.0//EN
CALSCALE:GREGORIAN
METHOD:PUBLISH
X-ORIGINAL-URL:https://tucsonastronomy.org
X-WR-CALDESC:Events for Tucson Amateur Astronomy Association
REFRESH-INTERVAL;VALUE=DURATION:PT1H
X-Robots-Tag:noindex
X-PUBLISHED-TTL:PT1H
BEGIN:VTIMEZONE
TZID:America/Phoenix
BEGIN:STANDARD
TZOFFSETFROM:-0700
TZOFFSETTO:-0700
TZNAME:MST
DTSTART:20230101T000000
END:STANDARD
END:VTIMEZONE
BEGIN:VEVENT
DTSTART;TZID=America/Phoenix:20240229T190000
DTEND;TZID=America/Phoenix:20240229T210000
DTSTAMP:20260424T172039
CREATED:20240219T180011Z
LAST-MODIFIED:20240219T180011Z
UID:11353-1709233200-1709240400@tucsonastronomy.org
SUMMARY:Desert Skies Virtual Star Party
DESCRIPTION:Join Tucson Amateur Astronomy Association for our quarterly Desert Skies Virtual Star Party. It will be streamed live to our Facebook Page and will be available a few days later on our YouTube Channel. We will observe Galaxies\, millions of light years away\, Star systems\, star clusters\, star forming nebulae\, star death nebulae\, and lots more. \nTAAA Facebook \nTAAA YouTube
URL:https://tucsonastronomy.org/event/desert-skies-virtual-star-party/
LOCATION:Arizona
CATEGORIES:Star Parties
END:VEVENT
END:VCALENDAR