BEGIN:VCALENDAR
VERSION:2.0
PRODID:-//Tucson Amateur Astronomy Association - ECPv6.15.20//NONSGML v1.0//EN
CALSCALE:GREGORIAN
METHOD:PUBLISH
X-WR-CALNAME:Tucson Amateur Astronomy Association
X-ORIGINAL-URL:https://tucsonastronomy.org
X-WR-CALDESC:Events for Tucson Amateur Astronomy Association
REFRESH-INTERVAL;VALUE=DURATION:PT1H
X-Robots-Tag:noindex
X-PUBLISHED-TTL:PT1H
BEGIN:VTIMEZONE
TZID:America/Phoenix
BEGIN:STANDARD
TZOFFSETFROM:-0700
TZOFFSETTO:-0700
TZNAME:MST
DTSTART:20220101T000000
END:STANDARD
END:VTIMEZONE
BEGIN:VEVENT
DTSTART;TZID=America/Phoenix:20230211T140000
DTEND;TZID=America/Phoenix:20230211T210000
DTSTAMP:20260425T094429
CREATED:20220822T231713Z
LAST-MODIFIED:20230208T001149Z
UID:7833-1676124000-1676149200@tucsonastronomy.org
SUMMARY:Tucson Star Party
DESCRIPTION:Join the Tucson Amateur Astronomy Association (TAAA) in conjunction with Editors from the Astronomy Magazine and Pima Community College (PCC) East for some astronomy talks\, solar observing\, and evening stargazing.\n\nAstronomy Talks and Safe Solar viewing of the Sun 2:00 – 5:00 p.m.\n (All Talks in the Observatory area\, Room EC-M102)\nTalks:\n— Galaxies — David J Eicher\, Astronomy magazine 2 p.m.\n— 2023 & 2024 U.S. Solar Eclipses — Michael Bakich 3 p.m.\n— (Topic TBD) — Alan Goldstein 4 p.m. \nCampus Information & Tours 5:00 – 7:00 p.m. \nSolar Observing at the Observatories 2 – 5 p.m.\nNight Sky Viewing at the Observatories 6:30 – 9:00 p.m.\nEvening observing of planets\, star clusters\, multiple star systems\, nebulae\, galaxies\, and lots more through several telescopes. \nObserving will be at the south end of the PCC East Campus near the astronomy domes. \nFollow our Facebook event for any real-time updates or adjustments due to weather at:  TAAA Facebook Events page \n 
URL:https://tucsonastronomy.org/event/tucson-star-party-3/
LOCATION:Pima Community College East\, 8181 E Irvington Rd\, Tucson\, AZ\, United States
CATEGORIES:Star Parties
ORGANIZER;CN="Bernie Stinger":MAILTO:astronomy-events@tucsonastronomy.org
END:VEVENT
END:VCALENDAR