BEGIN:VCALENDAR
VERSION:2.0
PRODID:-//Tucson Amateur Astronomy Association - ECPv6.15.20//NONSGML v1.0//EN
CALSCALE:GREGORIAN
METHOD:PUBLISH
X-WR-CALNAME:Tucson Amateur Astronomy Association
X-ORIGINAL-URL:https://tucsonastronomy.org
X-WR-CALDESC:Events for Tucson Amateur Astronomy Association
REFRESH-INTERVAL;VALUE=DURATION:PT1H
X-Robots-Tag:noindex
X-PUBLISHED-TTL:PT1H
BEGIN:VTIMEZONE
TZID:America/Phoenix
BEGIN:STANDARD
TZOFFSETFROM:-0700
TZOFFSETTO:-0700
TZNAME:MST
DTSTART:20220101T000000
END:STANDARD
END:VTIMEZONE
BEGIN:VEVENT
DTSTART;TZID=America/Phoenix:20230210T190000
DTEND;TZID=America/Phoenix:20230210T210000
DTSTAMP:20260425T092136
CREATED:20220822T230620Z
LAST-MODIFIED:20220822T230620Z
UID:7827-1676055600-1676062800@tucsonastronomy.org
SUMMARY:Virtual Stargazing
DESCRIPTION:Join Tucson Amateur Astronomy Association for a Virtual tour of the Night Sky. We will explore planets\, Nebulae\, Star Clusters\, Galaxies\, and much more using cameras connected to telescopes. The event will be streamed to our YouTube channel (TAAA YouTube). You can follow our Facebook event for any weather and other updates and the link to our YouTube Channel. FREE. \nCheck Facebook or back here closer to the event for any updates.
URL:https://tucsonastronomy.org/event/virtual-stargazing-4/
LOCATION:ONLINE
CATEGORIES:Star Parties
ORGANIZER;CN="Bernie Stinger":MAILTO:astronomy-events@tucsonastronomy.org
END:VEVENT
END:VCALENDAR