BEGIN:VCALENDAR
VERSION:2.0
PRODID:-//Tucson Amateur Astronomy Association - ECPv6.15.20//NONSGML v1.0//EN
CALSCALE:GREGORIAN
METHOD:PUBLISH
X-ORIGINAL-URL:https://tucsonastronomy.org
X-WR-CALDESC:Events for Tucson Amateur Astronomy Association
REFRESH-INTERVAL;VALUE=DURATION:PT1H
X-Robots-Tag:noindex
X-PUBLISHED-TTL:PT1H
BEGIN:VTIMEZONE
TZID:America/Phoenix
BEGIN:STANDARD
TZOFFSETFROM:-0700
TZOFFSETTO:-0700
TZNAME:MST
DTSTART:20210101T000000
END:STANDARD
END:VTIMEZONE
BEGIN:VEVENT
DTSTART;TZID=America/Phoenix:20221119T183000
DTEND;TZID=America/Phoenix:20221119T203000
DTSTAMP:20260425T124636
CREATED:20210805T160801Z
LAST-MODIFIED:20221028T195650Z
UID:6230-1668882600-1668889800@tucsonastronomy.org
SUMMARY:Cienega Creek Stargazing
DESCRIPTION:Viewing Location:  Parking Lot\nInformation: Great dark skies in Northeast Tucson.  Star Party open to the Public.  Cost: FREE.  Tucson Amateur Astronomy Association will have several telescopes for astronomical viewing.  We will observe Planets\, Nebulae\, Galaxies\, Star Clusters and lots more.  Great opportunity to look through a variety of telescopes.  Park gate may close before event end time\, so arrive as close to start time as possible. Weather dependent.  For real-time updates\, follow this event on the Tucson Amateur Astronomy Association Facebook Events Page (https://www.facebook.com/TucsonAstronomy/). \nFREE but REGISTRATION IS REQUIRED. go to: https://www.eventbrite.com and search Cienega Creek Tucson. Fills up fast so recommend registering early.
URL:https://tucsonastronomy.org/event/agua-caliente-park-stargazing-11/
LOCATION:Cienega Creek Natural Preserve\, 16000 E Marsh Station Road\, Tucson\, AZ\, 85641\, United States
CATEGORIES:Star Parties
ORGANIZER;CN="Bernie Stinger":MAILTO:astronomy-events@tucsonastronomy.org
END:VEVENT
END:VCALENDAR