BEGIN:VCALENDAR
VERSION:2.0
PRODID:-//Tucson Amateur Astronomy Association - ECPv6.15.20//NONSGML v1.0//EN
CALSCALE:GREGORIAN
METHOD:PUBLISH
X-WR-CALNAME:Tucson Amateur Astronomy Association
X-ORIGINAL-URL:https://tucsonastronomy.org
X-WR-CALDESC:Events for Tucson Amateur Astronomy Association
REFRESH-INTERVAL;VALUE=DURATION:PT1H
X-Robots-Tag:noindex
X-PUBLISHED-TTL:PT1H
BEGIN:VTIMEZONE
TZID:America/Phoenix
BEGIN:STANDARD
TZOFFSETFROM:-0700
TZOFFSETTO:-0700
TZNAME:MST
DTSTART:20210101T000000
END:STANDARD
END:VTIMEZONE
BEGIN:VEVENT
DTSTART;TZID=America/Phoenix:20220430T193000
DTEND;TZID=America/Phoenix:20220430T210000
DTSTAMP:20260425T204231
CREATED:20220125T224049Z
LAST-MODIFIED:20220125T224049Z
UID:7155-1651347000-1651352400@tucsonastronomy.org
SUMMARY:Stargazing at Elfrida Library
DESCRIPTION:Join Tucson Amateur Astronomy Association (TAAA) and Cochise County Library for an evening of stargazing under some incredibly dark skies. We will have a couple TAAA telescopes as well as the Library telescope to observe some planets; galaxies far\, far\, away; star clusters; nebulae to include stellar nurseries; multiple star systems; and lots more. Definitely a FAMILY FRIENDLY event. Follow our Facebook event at https://www.facebook.com/TucsonAstronomy for any weather or other updates. Dress warmly as the temperatures can drop quite a bit after sunset.
URL:https://tucsonastronomy.org/event/stargazing-at-elfrida-library/
LOCATION:Elfrida Library\, 10552 N Hwy 191\, Elfrida\, AZ\, 85610\, United States
CATEGORIES:Star Parties
END:VEVENT
END:VCALENDAR