BEGIN:VCALENDAR
VERSION:2.0
PRODID:-//Tucson Amateur Astronomy Association - ECPv6.15.20//NONSGML v1.0//EN
CALSCALE:GREGORIAN
METHOD:PUBLISH
X-ORIGINAL-URL:https://tucsonastronomy.org
X-WR-CALDESC:Events for Tucson Amateur Astronomy Association
REFRESH-INTERVAL;VALUE=DURATION:PT1H
X-Robots-Tag:noindex
X-PUBLISHED-TTL:PT1H
BEGIN:VTIMEZONE
TZID:America/Phoenix
BEGIN:STANDARD
TZOFFSETFROM:-0700
TZOFFSETTO:-0700
TZNAME:MST
DTSTART:20240101T000000
END:STANDARD
END:VTIMEZONE
BEGIN:VEVENT
DTSTART;TZID=America/Phoenix:20250912T193000
DTEND;TZID=America/Phoenix:20250912T213000
DTSTAMP:20260423T172810
CREATED:20250816T183104Z
LAST-MODIFIED:20250816T183516Z
UID:14761-1757705400-1757712600@tucsonastronomy.org
SUMMARY:Stargazing at Agua Caliente Park
DESCRIPTION:Viewing Location:  Bus Lanes @ North end of Parking LotInformation: Great dark skies in Northeast Tucson.  Star Party open to the Public.  Cost: FREE. \n\n\n\nTucson Amateur Astronomy Association will have several telescopes for astronomical viewing.  We will observe Planets\, Nebulae\, Galaxies\, Star Clusters and lots more.  Great opportunity to look through a variety of telescopes. \n\n\n\nPark gate may close before event end time\, so arrive as close to start time as possible. Weather dependent.For real-time updates\, follow this event on the Tucson Amateur Astronomy Association Facebook Events Page: ((4) Tucson Amateur Astronomy Association | Facebook) \n\n\n\nFREE but REGISTRATION IS REQUIRED. These events fill up fast so recommend registering early. \n\n\n\nTo Register go to: Pima County Parks and Recreation Then Log in or Create an account. Once logged in click on “Environmental Education”. You should get the Pop-up screen “Register for a Program”. Scroll down to the event on the list and click on the “Register” button. You must be logged in for the Registration screen to work.
URL:https://tucsonastronomy.org/event/stargazing-at-agua-caliente-park-8/
LOCATION:Agua Caliente Park\, 12325 E Roger Rd\, Tucson\, AZ\, 85749\, United States
CATEGORIES:Star Parties
ORGANIZER;CN="Bernie Stinger":MAILTO:astronomy-events@tucsonastronomy.org
END:VEVENT
BEGIN:VEVENT
DTSTART;TZID=America/Phoenix:20250919T191500
DTEND;TZID=America/Phoenix:20250919T211500
DTSTAMP:20260423T172810
CREATED:20250812T194236Z
LAST-MODIFIED:20250812T195628Z
UID:14693-1758309300-1758316500@tucsonastronomy.org
SUMMARY:Stargazing at Tumacacori National Historical Park
DESCRIPTION:Join TAAA and the National Park Service for an evening of stargazing at Tumacacori National Historical Park .  Address below.The Tucson Amateur Astronomy Association (TAAA) will have several telescopes with operators for astronomical viewing in front of the Old Mission. \n\n\n\nWe will observe Planets\, Nebulae\, Galaxies\, Star Clusters and lots more. Great opportunity to look through a variety of telescopes. \n\n\n\nEvent is free\, no reservations required\, but NPS admission fees apply. \n\n\n\nWeather dependent\, follow this event on the Tucson Amateur Astronomy Association Facebook event page:  TAAA Facebook Events page for weather updates on day of event.
URL:https://tucsonastronomy.org/event/stargazing-at-tumacacori-national-historical-park-5/
LOCATION:Tumacacori National Historical Park\, 1891 E Frontage Rd\, Tumacacori\, AZ\, 85640\, United States
CATEGORIES:Star Parties
ORGANIZER;CN="Bernie Stinger":MAILTO:astronomy-events@tucsonastronomy.org
END:VEVENT
BEGIN:VEVENT
DTSTART;TZID=America/Phoenix:20250920T190000
DTEND;TZID=America/Phoenix:20250920T210000
DTSTAMP:20260423T172810
CREATED:20250812T195307Z
LAST-MODIFIED:20250812T195308Z
UID:14695-1758394800-1758402000@tucsonastronomy.org
SUMMARY:Stargazing at Oracle State Park
DESCRIPTION:Viewing Location: Kannally Ranch House  \n\n\n\nAcoustic guitar and American folk songs (6pm – 7pm)\n\n\n\nStar Party telescope viewing (7:00 – 9:00pm)\n\n\n\nInformation: Great dark skies just north of Tucson at Oracle State Park.3820 E Wildlife Dr.\, Oracle\, AZ 85623Star Party open to the Public. Admission fees for entrance into Oracle State Park apply. \n\n\n\nTucson Amateur Astronomy Association will have several telescopes for astronomical viewing. We will be observing the Moon + Planets\, Nebulae\, Galaxies\, and Star Clusters.Great opportunity to look through a wide variety of telescopes. Weather dependent. \n\n\n\nFor real-time updates\, follow this event on the Tucson Amateur Astronomy Association Facebook event page:  TAAA Facebook Events page \n\n\n\nAlso: Check the Oracle State Park website for additional information and activities that day:Star Party at Oracle State Park | Oracle State Park (azstateparks.com)
URL:https://tucsonastronomy.org/event/stargazing-at-oracle-state-park-13/
LOCATION:Oracle State Park\, 3820 E Wildlife Dr.\, Oracle\, AZ\, 85623\, United States
CATEGORIES:Star Parties
ORGANIZER;CN="Bernie Stinger":MAILTO:astronomy-events@tucsonastronomy.org
END:VEVENT
BEGIN:VEVENT
DTSTART;TZID=America/Phoenix:20250926T190000
DTEND;TZID=America/Phoenix:20250926T210000
DTSTAMP:20260423T172810
CREATED:20250812T200203Z
LAST-MODIFIED:20250812T200204Z
UID:14699-1758913200-1758920400@tucsonastronomy.org
SUMMARY:Stargazing at Saguaro National Park – East
DESCRIPTION:Star Party – Saguaro National Park – East3693 S Old Spanish TrailTucson\, AZ 85730 \n\n\n\nGreat dark skies on the East side of Tucson at Saguaro National Park – East.Star Party is open to the Public. Event is free but NPS admission fees apply. \n\n\n\nThe Tucson Amateur Astronomy Association will have several telescopes for astronomical viewing. We will observe Planets\, Nebulae\, Galaxies\, Star Clusters and lots more.Great opportunity to look through a variety of telescopes. \n\n\n\nWeather dependent. For real-time updates\, follow this event on the Tucson Amateur Astronomy Association Facebook Events Page: Tucson Amateur Astronomy Association | Facebook
URL:https://tucsonastronomy.org/event/stargazing-at-saguaro-national-park-east-3/
LOCATION:Saguaro National Park EAST\, 3693 S Old Spanish Trail\, Tucson\, AZ\, 85730\, United States
CATEGORIES:Star Parties
ORGANIZER;CN="Bernie Stinger":MAILTO:astronomy-events@tucsonastronomy.org
END:VEVENT
END:VCALENDAR