BEGIN:VCALENDAR
VERSION:2.0
PRODID:-//Tucson Amateur Astronomy Association - ECPv6.15.20//NONSGML v1.0//EN
CALSCALE:GREGORIAN
METHOD:PUBLISH
X-ORIGINAL-URL:https://tucsonastronomy.org
X-WR-CALDESC:Events for Tucson Amateur Astronomy Association
REFRESH-INTERVAL;VALUE=DURATION:PT1H
X-Robots-Tag:noindex
X-PUBLISHED-TTL:PT1H
BEGIN:VTIMEZONE
TZID:America/Phoenix
BEGIN:STANDARD
TZOFFSETFROM:-0700
TZOFFSETTO:-0700
TZNAME:MST
DTSTART:20230101T000000
END:STANDARD
END:VTIMEZONE
BEGIN:VEVENT
DTSTART;TZID=America/Phoenix:20240408T100000
DTEND;TZID=America/Phoenix:20240408T123000
DTSTAMP:20260424T145431
CREATED:20240219T181137Z
LAST-MODIFIED:20240316T170730Z
UID:11355-1712570400-1712579400@tucsonastronomy.org
SUMMARY:Solar Eclipse
DESCRIPTION:There will be a Total Solar Eclipse visible in the United States on April 8th. To see Totality\, you must be within the path of totality. This path can be viewed at:  https://www.greatamericaneclipse.com. \nAdditional information is also available on our Eclipse page: https://tucsonastronomy.org/2024-total-solar-eclipse/ \nA Partial Eclipse will be visible in Tucson.\nWe will have Solar Telescopes set up at venues around Tucson to safely view the Eclipse.\nSee the above TAAA Website link above for the current list of locations. \nPartial Start in Tucson: 10 am\nMaximum Partial: 11:19 am\nPartial Ends: 12:30 pm \nYou must wear approved Eclipse Solar Glasses to view every portion of the partial eclipse. These glasses are available from a variety of sources. Make sure you use a reputable source.
URL:https://tucsonastronomy.org/event/solar-eclipse/
LOCATION:Arizona
CATEGORIES:Star Parties
END:VEVENT
BEGIN:VEVENT
DTSTART;TZID=America/Phoenix:20240413T190000
DTEND;TZID=America/Phoenix:20240413T213000
DTSTAMP:20260424T145431
CREATED:20240128T031748Z
LAST-MODIFIED:20240307T011826Z
UID:11188-1713034800-1713043800@tucsonastronomy.org
SUMMARY:Evening Under the Stars (Chiricahua Astronomy Complex)
DESCRIPTION:Evening Under the Stars Observing at the Tucson Amateur Astronomy Association (TAAA) Chiricahua Astronomy Complex. Want to stargaze from a dark site where the band of the Milky Way is clearly visible across the sky? You see so many stars it is hard to pick out the constellations. Twice per year\, we open our TAAA Chiricahua Astronomy Complex (Turkey Creek area near Chiricahua National Monument) to the public for an observing session. You can observe through a telescope with a 40″ mirror and see galaxies over 100 million light years away. We will have several large telescopes to observe with. \nOur Spring “Evening Under the Stars” will be Saturday April 13th 2024. The gate will be open at 6:30 pm with activities starting 7:00 pm. Observing will be from 7:30-9:30 pm. Come join us for an exciting evening of astronomical observing. The site is about 90 minutes SE of Tucson near the Chiricahua National Monument. If you have friends/family that live in that area\, let them know. The event is weather dependent. Reservations are required. Please email euts[at]tucsonastronomy.org for reservations and directions. Please include number of people & vehicles in your group\, and email address.
URL:https://tucsonastronomy.org/event/evening-under-the-stars-7/
LOCATION:Chiricahua Astronomy Complex\, 9315 E Perseus Way\, Pearce\, AZ\, 85625\, United States
CATEGORIES:Star Parties
END:VEVENT
END:VCALENDAR