BEGIN:VCALENDAR
VERSION:2.0
PRODID:-//Tucson Amateur Astronomy Association - ECPv6.15.20//NONSGML v1.0//EN
CALSCALE:GREGORIAN
METHOD:PUBLISH
X-ORIGINAL-URL:https://tucsonastronomy.org
X-WR-CALDESC:Events for Tucson Amateur Astronomy Association
REFRESH-INTERVAL;VALUE=DURATION:PT1H
X-Robots-Tag:noindex
X-PUBLISHED-TTL:PT1H
BEGIN:VTIMEZONE
TZID:America/Phoenix
BEGIN:STANDARD
TZOFFSETFROM:-0700
TZOFFSETTO:-0700
TZNAME:MST
DTSTART:20220101T000000
END:STANDARD
END:VTIMEZONE
BEGIN:VEVENT
DTSTART;TZID=America/Phoenix:20230513T200000
DTEND;TZID=America/Phoenix:20230513T220000
DTSTAMP:20260425T041434
CREATED:20221207T215545Z
LAST-MODIFIED:20221207T215545Z
UID:8186-1684008000-1684015200@tucsonastronomy.org
SUMMARY:Stargazing at Catalina State Park
DESCRIPTION:Star Party-Catalina State Park\nTucson\, AZ\nViewing Location: Trailhead Picnic area at end of road inside the park.\nInformation: Great dark skies just north of Tucson at Catalina State Park.  Star Party open to the Public.  Admission cost for entrance into Catalina State Park.  Tucson Amateur Astronomy Association will have 10 telescopes for astronomical viewing.  We will observe Planets\, Nebulae\, Galaxies\, Star Clusters and lots more.  Great opportunity to look through a wide variety of telescopes.  Weather dependent.  For real-time updates\, follow this event on the Tucson Amateur Astronomy Association Facebook Events Page (https://www.facebook.com/TucsonAstronomy/). \nAdditional details will be posted here and on Facebook as we get closer to the event.
URL:https://tucsonastronomy.org/event/stargazing-at-catalina-state-park/
LOCATION:Catalina State Park\, 11570 N Oracle Rd\, Catalina\, AZ\, United States
CATEGORIES:Star Parties
ORGANIZER;CN="Bernie Stinger":MAILTO:astronomy-events@tucsonastronomy.org
END:VEVENT
BEGIN:VEVENT
DTSTART;TZID=America/Phoenix:20230520T200000
DTEND;TZID=America/Phoenix:20230520T220000
DTSTAMP:20260425T041434
CREATED:20221207T214842Z
LAST-MODIFIED:20221207T214842Z
UID:8183-1684612800-1684620000@tucsonastronomy.org
SUMMARY:Stargazing at Aqua Caliente Park
DESCRIPTION:Viewing Location:  Bus Lanes @ North end of Parking Lot\nInformation: Great dark skies in Northeast Tucson.  Star Party open to the Public.  Cost: FREE.  Tucson Amateur Astronomy Association will have several telescopes for astronomical viewing.  We will observe Planets\, Nebulae\, Galaxies\, Star Clusters and lots more.  Great opportunity to look through a variety of telescopes.  Park gate may close before event end time\, so arrive as close to start time as possible. Weather dependent.  For real-time updates\, follow this event on the Tucson Amateur Astronomy Association Facebook Events Page (https://www.facebook.com/TucsonAstronomy/). \nFREE but REGISTRATION IS REQUIRED. go to:Eventbright and search “Stargazing” and location “Tucson”. These events fill up fast so recommend registering early. Event may not show up until about two months out.
URL:https://tucsonastronomy.org/event/stargazing-at-aqua-caliente-park/
LOCATION:Agua Caliente Park\, 12325 E Roger Rd\, Tucson\, AZ\, 85749\, United States
CATEGORIES:Star Parties
ORGANIZER;CN="Bernie Stinger":MAILTO:astronomy-events@tucsonastronomy.org
END:VEVENT
END:VCALENDAR