BEGIN:VCALENDAR
VERSION:2.0
PRODID:-//Tucson Amateur Astronomy Association - ECPv6.15.20//NONSGML v1.0//EN
CALSCALE:GREGORIAN
METHOD:PUBLISH
X-ORIGINAL-URL:https://tucsonastronomy.org
X-WR-CALDESC:Events for Tucson Amateur Astronomy Association
REFRESH-INTERVAL;VALUE=DURATION:PT1H
X-Robots-Tag:noindex
X-PUBLISHED-TTL:PT1H
BEGIN:VTIMEZONE
TZID:America/Phoenix
BEGIN:STANDARD
TZOFFSETFROM:-0700
TZOFFSETTO:-0700
TZNAME:MST
DTSTART:20220101T000000
END:STANDARD
END:VTIMEZONE
BEGIN:VEVENT
DTSTART;TZID=America/Phoenix:20230408T190000
DTEND;TZID=America/Phoenix:20230408T213000
DTSTAMP:20260425T052906
CREATED:20230401T150314Z
LAST-MODIFIED:20230401T150314Z
UID:8723-1680980400-1680989400@tucsonastronomy.org
SUMMARY:Evening Under the Stars
DESCRIPTION:Evening Under the Stars Observing at the Tucson Amateur Astronomy Association (TAAA) Chiricahua Astronomy Complex. Want to stargaze from a dark site where the band of the Milky Way is clearly visible across the sky? You see so many stars it is hard to pick out the constellations. Twice per year\, we open our TAAA Chiricahua Astronomy Complex (Turkey Creek area near Chiricahua National Monument) to the public for an observing session. You can observe through a telescope with a 40″ mirror and see galaxies over 100 million light years away. We will have several large telescopes to observe with. \nOur Spring “Evening Under the Stars” will be Saturday April 8th 2023. The gate will be open at 7:00 pm with activities starting 7:30 pm. Observing will be from 7:30-9:30 pm. Come join us for an exciting evening of astronomical observing. The site is about 90 minutes SE of Tucson near the Chiricahua National Monument. If you have friends/family that live in that area\, let them know. The event is weather dependent. Reservations are required. Please email John Kalas at jckalas[at]cox.net for reservations and directions. Please include number of people & vehicles in your group. \nThe 40 inch StarStructures Dobsonian telescope on the deck of the Reynold-Mitchell Observatory.
URL:https://tucsonastronomy.org/event/evening-under-the-stars-5/
LOCATION:Chiricahua Astronomy Complex\, 9315 E Perseus Way\, Pearce\, AZ\, 85625\, United States
CATEGORIES:Star Parties
END:VEVENT
BEGIN:VEVENT
DTSTART;TZID=America/Phoenix:20230415T193000
DTEND;TZID=America/Phoenix:20230415T213000
DTSTAMP:20260425T052906
CREATED:20221210T174859Z
LAST-MODIFIED:20230315T210650Z
UID:8212-1681587000-1681594200@tucsonastronomy.org
SUMMARY:Chiricahua National Monument Stargazing
DESCRIPTION:TAAA Stargazing to view amazing solar system and deep sky objects from a Dark Sky Park. You will see planets\, nebulae\, star clusters\, double stars\, galaxies millions of light years away\, and lots more. We will have several telescopes for public viewing. \nObserving location will be at Faraway Ranch just inside the entrance gate.  Please try to use red light flashlights and minimize white light (to include cell phones) that will hinder your night vision. \nChiricahua National Monument website: https://www.nps.gov/chir/index.htm.  Weather dependent — Follow the event on the TAAA Facebook page to get weather and other updates: https://www.facebook.com/TucsonAstronomy/. \nCheck back here or on our Facebook page closer to the event for any updates.
URL:https://tucsonastronomy.org/event/chiricahua-national-monument-stargazing-6/
LOCATION:Chiricahua National Monument\, 12856 E Rhyolite Creek Rd\, Willcox\, AZ\, 85643\, United States
CATEGORIES:Star Parties
ORGANIZER;CN="Bernie Stinger":MAILTO:astronomy-events@tucsonastronomy.org
END:VEVENT
BEGIN:VEVENT
DTSTART;TZID=America/Phoenix:20230421T193000
DTEND;TZID=America/Phoenix:20230421T213000
DTSTAMP:20260425T052906
CREATED:20221207T221229Z
LAST-MODIFIED:20230208T233023Z
UID:8190-1682105400-1682112600@tucsonastronomy.org
SUMMARY:Stargazing Tucson Mountain Park - Ironwood Picnic Area
DESCRIPTION:Star Party-Tucson Mountain Park Ironwood Picnic Area\nTucson\, AZ (West)\nViewing Location:  Second Restroom area  approximately 3/4 of the way in on Hal Gras Road.\nInformation: Great dark skies in Western Tucson.  Star Party open to the Public.  Cost: FREE.  Tucson Amateur Astronomy Association will have several telescopes for astronomical viewing.  We will observe Planets\, Nebulae\, Galaxies\, Star Clusters and lots more.  Great opportunity to look through a variety of telescopes.  Weather dependent.  For real-time updates\, follow this event on the Tucson Amateur Astronomy Association Facebook Events Page (https://www.facebook.com/TucsonAstronomy/). \nFREE but REGISTRATION IS REQUIRED. Go to this link (Eventbright) and search for: “Stargazing” and “Ironwood Picnic Area”\, location: “Tucson” (event may not show up until about two months prior). These events may fill up early.
URL:https://tucsonastronomy.org/event/stargazing-tucson-mountain-park-ironwood-picnic-area-3/
LOCATION:Ironwood Picnic\, 7300 W Hal gras Rd\, Tucson\, AZ\, 85735\, United States
CATEGORIES:Star Parties
ORGANIZER;CN="Bernie Stinger":MAILTO:astronomy-events@tucsonastronomy.org
END:VEVENT
BEGIN:VEVENT
DTSTART;TZID=America/Phoenix:20230429T150000
DTEND;TZID=America/Phoenix:20230429T210000
DTSTAMP:20260425T052906
CREATED:20221207T220323Z
LAST-MODIFIED:20230410T180623Z
UID:8188-1682780400-1682802000@tucsonastronomy.org
SUMMARY:Tucson Astronomy Festival
DESCRIPTION:Tucson Astronomy Festival at Brandi Fenton Memorial Park\nTelescopes\, Exhibits\, Fun!\n\n\n\n\nBrandi Fenton Memorial Park (Ramada #1) \n\n\n\n\n\n\n\n\n\nASTRONOMY FESTIVAL SCHEDULE\n\nSafe Solar viewing of the Sun – 3 to 6:30 PM\nHands-On Interactive Exhibits for Kids – 3 to 6:00 PM\nDoor Prizes will be given away at 6:30 PM – winners must be present\n——-Grand Prize: Small Telescope——–\nOther prizes for the entire family\nWhat’s up in the night sky talk – 7 to 7:30pm\nNight Sky Viewing – 7:30 PM to 9 PM\nKid-Friendly Scope viewing throughout the evening\n\nNo charge for any activities\, donations will be accepted.\nBring your own telescope for help in setting it up and operating the scope.
URL:https://tucsonastronomy.org/event/tucson-astronomy-festival/
LOCATION:Brandi Fenton Park\, 3482 E River Rd\, Tucson\, AZ\, 85718\, United States
CATEGORIES:Star Parties
ORGANIZER;CN="Bernie Stinger":MAILTO:astronomy-events@tucsonastronomy.org
END:VEVENT
END:VCALENDAR