BEGIN:VCALENDAR
VERSION:2.0
PRODID:-//Tucson Amateur Astronomy Association - ECPv6.15.20//NONSGML v1.0//EN
CALSCALE:GREGORIAN
METHOD:PUBLISH
X-ORIGINAL-URL:https://tucsonastronomy.org
X-WR-CALDESC:Events for Tucson Amateur Astronomy Association
REFRESH-INTERVAL;VALUE=DURATION:PT1H
X-Robots-Tag:noindex
X-PUBLISHED-TTL:PT1H
BEGIN:VTIMEZONE
TZID:America/Phoenix
BEGIN:STANDARD
TZOFFSETFROM:-0700
TZOFFSETTO:-0700
TZNAME:MST
DTSTART:20220101T000000
END:STANDARD
END:VTIMEZONE
BEGIN:VEVENT
DTSTART;TZID=America/Phoenix:20230114T183000
DTEND;TZID=America/Phoenix:20230114T203000
DTSTAMP:20260425T091852
CREATED:20220822T225940Z
LAST-MODIFIED:20230114T225650Z
UID:7819-1673721000-1673728200@tucsonastronomy.org
SUMMARY:Stargazing Tucson Mountain Park Ironwood Picnic Area
DESCRIPTION:This event has been cancelled due to cloud cover. \nStar Party-Tucson Mountain Park Ironwood Picnic Area\nTucson\, AZ (West)\nViewing Location:  Second Restroom area  approximately 3/4 of the way in on Hal Gras Road.\nInformation: Great dark skies in Western Tucson.  Star Party open to the Public.  Cost: FREE.  Tucson Amateur Astronomy Association will have several telescopes for astronomical viewing.  We will observe Planets\, Nebulae\, Galaxies\, Star Clusters and lots more.  Great opportunity to look through a variety of telescopes.  Weather dependent.  For real-time updates\, follow this event on the Tucson Amateur Astronomy Association Facebook Events Page (https://www.facebook.com/TucsonAstronomy/). \nFREE but REGISTRATION IS REQUIRED. Go to this link and search Stargazing Ironwood Picnic Area (event may not show up until about two months prior): Eventbright\nEvent may fill up early.
URL:https://tucsonastronomy.org/event/stargazing-tucson-mountain-park-ironwood-picnic-area/
LOCATION:Ironwood Picnic\, 7300 W Hal gras Rd\, Tucson\, AZ\, 85735\, United States
CATEGORIES:Star Parties
ORGANIZER;CN="Bernie Stinger":MAILTO:astronomy-events@tucsonastronomy.org
END:VEVENT
BEGIN:VEVENT
DTSTART;TZID=America/Phoenix:20230121T183000
DTEND;TZID=America/Phoenix:20230121T203000
DTSTAMP:20260425T091852
CREATED:20221207T213654Z
LAST-MODIFIED:20221207T213654Z
UID:8179-1674325800-1674333000@tucsonastronomy.org
SUMMARY:Stargazing Aqua Caliente Park
DESCRIPTION:Viewing Location:  Bus Lanes @ North end of Parking Lot\nInformation: Great dark skies in Northeast Tucson.  Star Party open to the Public.  Cost: FREE.  Tucson Amateur Astronomy Association will have several telescopes for astronomical viewing.  We will observe Planets\, Nebulae\, Galaxies\, Star Clusters and lots more.  Great opportunity to look through a variety of telescopes.  Park gate may close before event end time\, so arrive as close to start time as possible. Weather dependent.  For real-time updates\, follow this event on the Tucson Amateur Astronomy Association Facebook Events Page (https://www.facebook.com/TucsonAstronomy/). \nFREE but REGISTRATION IS REQUIRED. go to:Eventbright and search “Stargazing” and location “Tucson”. These events fill up fast so recommend registering early. Event may not show up until about two months out.
URL:https://tucsonastronomy.org/event/stargazing-aqua-caliente-park/
LOCATION:Agua Caliente Park\, 12325 E Roger Rd\, Tucson\, AZ\, 85749\, United States
CATEGORIES:Star Parties
ORGANIZER;CN="Bernie Stinger":MAILTO:astronomy-events@tucsonastronomy.org
END:VEVENT
END:VCALENDAR