BEGIN:VCALENDAR
VERSION:2.0
PRODID:-//Tucson Amateur Astronomy Association - ECPv6.15.20//NONSGML v1.0//EN
CALSCALE:GREGORIAN
METHOD:PUBLISH
X-WR-CALNAME:Tucson Amateur Astronomy Association
X-ORIGINAL-URL:https://tucsonastronomy.org
X-WR-CALDESC:Events for Tucson Amateur Astronomy Association
REFRESH-INTERVAL;VALUE=DURATION:PT1H
X-Robots-Tag:noindex
X-PUBLISHED-TTL:PT1H
BEGIN:VTIMEZONE
TZID:America/Phoenix
BEGIN:STANDARD
TZOFFSETFROM:-0700
TZOFFSETTO:-0700
TZNAME:MST
DTSTART:20210101T000000
END:STANDARD
END:VTIMEZONE
BEGIN:VEVENT
DTSTART;TZID=America/Phoenix:20221210T180000
DTEND;TZID=America/Phoenix:20221210T200000
DTSTAMP:20260425T101821
CREATED:20210805T161645Z
LAST-MODIFIED:20220822T224856Z
UID:6244-1670695200-1670702400@tucsonastronomy.org
SUMMARY:Tucson Mountain Park Ironwood Picnic Stargazing
DESCRIPTION:Star Party-Tucson Mountain Park Ironwood Picnic Area\nTucson\, AZ (West)\nViewing Location:  Second Restroom area  approximately 3/4 of the way in on Hal Gras Road.\nInformation: Great dark skies in Western Tucson.  Star Party open to the Public.  Cost: FREE.  Tucson Amateur Astronomy Association will have several telescopes for astronomical viewing.  We will observe Planets\, Nebulae\, Galaxies\, Star Clusters and lots more.  Great opportunity to look through a variety of telescopes.  Weather dependent.  For real-time updates\, follow this event on the Tucson Amateur Astronomy Association Facebook Events Page (https://www.facebook.com/TucsonAstronomy/). \nFREE but REGISTRATION IS REQUIRED. Go to this link and search Stargazing Ironwood Picnic Area (event may not show up until about two months prior): Eventbright\nEvent may fill up early.
URL:https://tucsonastronomy.org/event/tucson-mountain-park-ironwood-picnic-stargazing-8/
LOCATION:Ironwood Picnic\, 7300 W Hal gras Rd\, Tucson\, AZ\, 85735\, United States
CATEGORIES:Star Parties
END:VEVENT
BEGIN:VEVENT
DTSTART;TZID=America/Phoenix:20221217T180000
DTEND;TZID=America/Phoenix:20221217T200000
DTSTAMP:20260425T101821
CREATED:20210805T160856Z
LAST-MODIFIED:20220822T224955Z
UID:6232-1671300000-1671307200@tucsonastronomy.org
SUMMARY:Agua Caliente Park Stargazing
DESCRIPTION:Viewing Location:  Bus Lanes @ North end of Parking Lot\nInformation: Great dark skies in Northeast Tucson.  Star Party open to the Public.  Cost: FREE.  Tucson Amateur Astronomy Association will have several telescopes for astronomical viewing.  We will observe Planets\, Nebulae\, Galaxies\, Star Clusters and lots more.  Great opportunity to look through a variety of telescopes.  Park gate may close before event end time\, so arrive as close to start time as possible. Weather dependent.  For real-time updates\, follow this event on the Tucson Amateur Astronomy Association Facebook Events Page (https://www.facebook.com/TucsonAstronomy/). \nFREE but REGISTRATION IS REQUIRED. go to:Eventbright and search Agua Caliente Park Tucson. Fills up fast so recommend registering early. Event may not show up until about two months out.
URL:https://tucsonastronomy.org/event/agua-caliente-park-stargazing-12/
LOCATION:Agua Caliente Park\, 12325 E Roger Rd\, Tucson\, AZ\, 85749\, United States
CATEGORIES:Star Parties
END:VEVENT
END:VCALENDAR