BEGIN:VCALENDAR
VERSION:2.0
PRODID:-//Tucson Amateur Astronomy Association - ECPv6.15.20//NONSGML v1.0//EN
CALSCALE:GREGORIAN
METHOD:PUBLISH
X-WR-CALNAME:Tucson Amateur Astronomy Association
X-ORIGINAL-URL:https://tucsonastronomy.org
X-WR-CALDESC:Events for Tucson Amateur Astronomy Association
REFRESH-INTERVAL;VALUE=DURATION:PT1H
X-Robots-Tag:noindex
X-PUBLISHED-TTL:PT1H
BEGIN:VTIMEZONE
TZID:America/Phoenix
BEGIN:STANDARD
TZOFFSETFROM:-0700
TZOFFSETTO:-0700
TZNAME:MST
DTSTART:20210101T000000
END:STANDARD
END:VTIMEZONE
BEGIN:VEVENT
DTSTART;TZID=America/Phoenix:20221105T100000
DTEND;TZID=America/Phoenix:20221105T160000
DTSTAMP:20260425T112552
CREATED:20220806T180008Z
LAST-MODIFIED:20220806T180008Z
UID:7731-1667642400-1667664000@tucsonastronomy.org
SUMMARY:Empire Ranch Cowboy Festival
DESCRIPTION:TAAA will participate in the annual Empire Ranch Cowboy Festival. We will have Solar Observing from 10 am to 4 pm Saturday and Sunday.
URL:https://tucsonastronomy.org/event/empire-ranch-cowboy-festival-2/
LOCATION:Empire Ranch\, E Empire Ranch Road\, Sonoita\, AZ\, United States
CATEGORIES:Star Parties
ORGANIZER;CN="Bernie Stinger":MAILTO:astronomy-events@tucsonastronomy.org
END:VEVENT
BEGIN:VEVENT
DTSTART;TZID=America/Phoenix:20221105T190000
DTEND;TZID=America/Phoenix:20221105T210000
DTSTAMP:20260425T112552
CREATED:20220116T191212Z
LAST-MODIFIED:20221028T195447Z
UID:7092-1667674800-1667682000@tucsonastronomy.org
SUMMARY:Stargazing at Historic Canoa Ranch
DESCRIPTION:Join the Tucson Amateur Astronomy Association (TAAA) and Pima County Natural Resources Parks and Recreation for some stargazing at Historic Canoa Ranch. We will observe planets\, star clusters\, multiple star systems\, nebulae\, galaxies\, and lots more. \nFREE but REGISTRATION IS REQUIRED: Go to Eventbright and search for stargazing Canoa Ranch. May fill up quickly\, so recommend registering as early as possible (event may not show up in Eventbright until about two months before).
URL:https://tucsonastronomy.org/event/stargazing-at-historic-canoa-ranch-7/
LOCATION:Canoa Ranch\, 5375 S I-19 Frontage Road\, Green Valley\, AZ\, 85622\, United States
CATEGORIES:Star Parties
END:VEVENT
BEGIN:VEVENT
DTSTART;TZID=America/Phoenix:20221106T100000
DTEND;TZID=America/Phoenix:20221106T160000
DTSTAMP:20260425T112552
CREATED:20220806T180102Z
LAST-MODIFIED:20220806T180102Z
UID:7733-1667728800-1667750400@tucsonastronomy.org
SUMMARY:Empire Ranch Cowboy Festival
DESCRIPTION:TAAA will participate in the annual Empire Ranch Cowboy Festival. We will have Solar Observing from 10 am to 4 pm Saturday and Sunday.
URL:https://tucsonastronomy.org/event/empire-ranch-cowboy-festival-3/
LOCATION:Empire Ranch\, E Empire Ranch Road\, Sonoita\, AZ\, United States
CATEGORIES:Star Parties
ORGANIZER;CN="Bernie Stinger":MAILTO:astronomy-events@tucsonastronomy.org
END:VEVENT
BEGIN:VEVENT
DTSTART;TZID=America/Phoenix:20221112T183000
DTEND;TZID=America/Phoenix:20221112T203000
DTSTAMP:20260425T112552
CREATED:20210805T161545Z
LAST-MODIFIED:20220822T224614Z
UID:6240-1668277800-1668285000@tucsonastronomy.org
SUMMARY:Tucson Mountain Park Ironwood Picnic Stargazing
DESCRIPTION:Star Party-Tucson Mountain Park Ironwood Picnic Area\nTucson\, AZ (West)\nViewing Location:  Second Restroom area  approximately 3/4 of the way in on Hal Gras Road.\nInformation: Great dark skies in Western Tucson.  Star Party open to the Public.  Cost: FREE.  Tucson Amateur Astronomy Association will have several telescopes for astronomical viewing.  We will observe Planets\, Nebulae\, Galaxies\, Star Clusters and lots more.  Great opportunity to look through a variety of telescopes.  Weather dependent.  For real-time updates\, follow this event on the Tucson Amateur Astronomy Association Facebook Events Page (https://www.facebook.com/TucsonAstronomy/). \nFREE but REGISTRATION IS REQUIRED. Go to this link and search Stargazing Ironwood Picnic Area (event may not show up until about two months prior): Eventbright
URL:https://tucsonastronomy.org/event/tucson-mountain-park-ironwood-picnic-stargazing-7/
LOCATION:Ironwood Picnic\, 7300 W Hal gras Rd\, Tucson\, AZ\, 85735\, United States
CATEGORIES:Star Parties
END:VEVENT
BEGIN:VEVENT
DTSTART;TZID=America/Phoenix:20221118T190000
DTEND;TZID=America/Phoenix:20221118T210000
DTSTAMP:20260425T112552
CREATED:20210805T163154Z
LAST-MODIFIED:20220822T230717Z
UID:6258-1668798000-1668805200@tucsonastronomy.org
SUMMARY:Virtual Stargazing
DESCRIPTION:Join Tucson Amateur Astronomy Association for a Virtual tour of the Night Sky. We will explore planets\, Nebulae\, Star Clusters\, Galaxies\, and much more using cameras connected to telescopes. The event will be streamed to our YouTube channel (TAAA YouTube). You can follow our Facebook event for any weather and other updates and the link to our YouTube Channel. FREE. \nCheck Facebook or back here closer to the event for any updates.
URL:https://tucsonastronomy.org/event/virtual-stargazing-3/
LOCATION:ONLINE
CATEGORIES:Star Parties
END:VEVENT
BEGIN:VEVENT
DTSTART;TZID=America/Phoenix:20221119T183000
DTEND;TZID=America/Phoenix:20221119T203000
DTSTAMP:20260425T112552
CREATED:20210805T160801Z
LAST-MODIFIED:20221028T195650Z
UID:6230-1668882600-1668889800@tucsonastronomy.org
SUMMARY:Cienega Creek Stargazing
DESCRIPTION:Viewing Location:  Parking Lot\nInformation: Great dark skies in Northeast Tucson.  Star Party open to the Public.  Cost: FREE.  Tucson Amateur Astronomy Association will have several telescopes for astronomical viewing.  We will observe Planets\, Nebulae\, Galaxies\, Star Clusters and lots more.  Great opportunity to look through a variety of telescopes.  Park gate may close before event end time\, so arrive as close to start time as possible. Weather dependent.  For real-time updates\, follow this event on the Tucson Amateur Astronomy Association Facebook Events Page (https://www.facebook.com/TucsonAstronomy/). \nFREE but REGISTRATION IS REQUIRED. go to: https://www.eventbrite.com and search Cienega Creek Tucson. Fills up fast so recommend registering early.
URL:https://tucsonastronomy.org/event/agua-caliente-park-stargazing-11/
LOCATION:Cienega Creek Natural Preserve\, 16000 E Marsh Station Road\, Tucson\, AZ\, 85641\, United States
CATEGORIES:Star Parties
ORGANIZER;CN="Bernie Stinger":MAILTO:astronomy-events@tucsonastronomy.org
END:VEVENT
END:VCALENDAR