BEGIN:VCALENDAR
VERSION:2.0
PRODID:-//Tucson Amateur Astronomy Association - ECPv6.15.20//NONSGML v1.0//EN
CALSCALE:GREGORIAN
METHOD:PUBLISH
X-WR-CALNAME:Tucson Amateur Astronomy Association
X-ORIGINAL-URL:https://tucsonastronomy.org
X-WR-CALDESC:Events for Tucson Amateur Astronomy Association
REFRESH-INTERVAL;VALUE=DURATION:PT1H
X-Robots-Tag:noindex
X-PUBLISHED-TTL:PT1H
BEGIN:VTIMEZONE
TZID:America/Phoenix
BEGIN:STANDARD
TZOFFSETFROM:-0700
TZOFFSETTO:-0700
TZNAME:MST
DTSTART:20210101T000000
END:STANDARD
END:VTIMEZONE
BEGIN:VEVENT
DTSTART;TZID=America/Phoenix:20220903T190000
DTEND;TZID=America/Phoenix:20220903T210000
DTSTAMP:20260425T134143
CREATED:20220116T191028Z
LAST-MODIFIED:20220116T191028Z
UID:7088-1662231600-1662238800@tucsonastronomy.org
SUMMARY:Stargazing at Historic Canoa Ranch
DESCRIPTION:Join the Tucson Amateur Astronomy Association (TAAA) and Pima County Natural Resources Parks and Recreation for some stargazing at Historic Canoa Ranch. We will observe planets\, star clusters\, multiple star systems\, nebulae\, galaxies\, and lots more. Registration is required. Go to Eventbright and search for stargazing Canoa Ranch.
URL:https://tucsonastronomy.org/event/stargazing-at-historic-canoa-ranch-5/
LOCATION:Canoa Ranch\, 5375 S I-19 Frontage Road\, Green Valley\, AZ\, 85622\, United States
CATEGORIES:Star Parties
END:VEVENT
BEGIN:VEVENT
DTSTART;TZID=America/Phoenix:20220923T180000
DTEND;TZID=America/Phoenix:20220923T210000
DTSTAMP:20260425T134143
CREATED:20220822T222540Z
LAST-MODIFIED:20220822T222540Z
UID:7797-1663956000-1663966800@tucsonastronomy.org
SUMMARY:Oracle Star Party
DESCRIPTION:Viewing will be at different locations around the town of Oracle with telescopes looking at different types of objects. Locations: \nOre House Hilltop Tavern and Restaurant – Star Clusters\nNonna Maria’s Restaurant – Nebulae.\nOracle Patio Cafe & Market – Planets.\nOracle Community Center – Galaxies. \nInformation: Great dark skies just north of Tucson at Oracle State Park.  Star Party open to the Public.  Events will be held around the town of Oracle. Stay tuned here for additional details. Tucson Amateur Astronomy Association will have several telescopes for astronomical viewing.  We will observe Planets\, Nebulae\, Galaxies\, Star Clusters and lots more.  Great opportunity to look through a wide variety of telescopes.  Weather dependent.  For real-time updates\, follow this event on the Tucson Amateur Astronomy Association Facebook Events Page (https://www.facebook.com/TucsonAstronomy/). Check the Oracle State Park website for additional information. Check TAAA Facebook Page or here for any updates as we get closer.
URL:https://tucsonastronomy.org/event/oracle-star-party/
LOCATION:Oracle\, AZ\, Oracle\, AZ\, United States
CATEGORIES:Star Parties
END:VEVENT
BEGIN:VEVENT
DTSTART;TZID=America/Phoenix:20220924T190000
DTEND;TZID=America/Phoenix:20220924T210000
DTSTAMP:20260425T134143
CREATED:20210805T163704Z
LAST-MODIFIED:20220822T222721Z
UID:6264-1664046000-1664053200@tucsonastronomy.org
SUMMARY:Oracle State Park
DESCRIPTION:Star Party-Oracle State Park\nTucson\, AZ\nViewing Location: Kannally Ranch House\nInformation: Great dark skies just north of Tucson at Oracle State Park.  Star Party open to the Public.  Admission cost for entrance into Oracle State Park may apply.  Tucson Amateur Astronomy Association will have several telescopes for astronomical viewing.  We will observe Planets\, Nebulae\, Galaxies\, Star Clusters and lots more.  Great opportunity to look through a wide variety of telescopes.  Weather dependent.  For real-time updates\, follow this event on the Tucson Amateur Astronomy Association Facebook Events Page (https://www.facebook.com/TucsonAstronomy/). There is generally a talk and other events also taking place. Check the Oracle State Park website for additional information. Check TAAA Facebook Page or here for any updates as we get closer.
URL:https://tucsonastronomy.org/event/oracle-state-park/
LOCATION:Oracle State Park\, 3820 E Wildlife Dr.\, Oracle\, AZ\, 85623\, United States
CATEGORIES:Star Parties
END:VEVENT
END:VCALENDAR