BEGIN:VCALENDAR
VERSION:2.0
PRODID:-//Tucson Amateur Astronomy Association - ECPv6.15.20//NONSGML v1.0//EN
CALSCALE:GREGORIAN
METHOD:PUBLISH
X-WR-CALNAME:Tucson Amateur Astronomy Association
X-ORIGINAL-URL:https://tucsonastronomy.org
X-WR-CALDESC:Events for Tucson Amateur Astronomy Association
REFRESH-INTERVAL;VALUE=DURATION:PT1H
X-Robots-Tag:noindex
X-PUBLISHED-TTL:PT1H
BEGIN:VTIMEZONE
TZID:America/Phoenix
BEGIN:STANDARD
TZOFFSETFROM:-0700
TZOFFSETTO:-0700
TZNAME:MST
DTSTART:20170101T000000
END:STANDARD
END:VTIMEZONE
BEGIN:VEVENT
DTSTART;TZID=America/Phoenix:20180422T150000
DTEND;TZID=America/Phoenix:20180422T210000
DTSTAMP:20260423T082003
CREATED:20171108T194756Z
LAST-MODIFIED:20171108T203154Z
UID:2487-1524409200-1524430800@tucsonastronomy.org
SUMMARY:Astronomy Festival
DESCRIPTION:Astronomy Festival at Brandi Fenton Memorial Park \nTelescopes\, Exhibits\, Fun! \n\n\n\n\n\n\n\n\n\nSunday\, April 22 from 3 to 9 pm\nBrandi Fenton Memorial Park RamadaASTRONOMY FESTIVAL SCHEDULE\nHands-On Exhibits for Kids 3 to 6 P.M.\nSafe Solar viewing of the Sun 3 to 6:30 P.M.\nNight Sky Viewing 7:30 P.M to 9 P.M. \n\nA Walk around the Night Sky Presentation at 8 P.M.\nKid-Friendly Scope viewing throughout the evening\nDoor Prizes will be given away at 7 P.M. – winners must be presentNo charge for any activities\, donations will be accepted.
URL:https://tucsonastronomy.org/event/astronomy-festival-2/
LOCATION:Brandi Fenton Park\, 3482 E River Rd\, Tucson\, AZ\, 85718\, United States
CATEGORIES:Star Parties
END:VEVENT
END:VCALENDAR